BEGIN:VCALENDAR
VERSION:2.0
PRODID:-//Boy Scout Trade-O-Ree Calendar - ECPv6.15.20//NONSGML v1.0//EN
CALSCALE:GREGORIAN
METHOD:PUBLISH
X-ORIGINAL-URL:https://www.bsator.com
X-WR-CALDESC:Events for Boy Scout Trade-O-Ree Calendar
REFRESH-INTERVAL;VALUE=DURATION:PT1H
X-Robots-Tag:noindex
X-PUBLISHED-TTL:PT1H
BEGIN:VTIMEZONE
TZID:UTC
BEGIN:STANDARD
TZOFFSETFROM:+0000
TZOFFSETTO:+0000
TZNAME:UTC
DTSTART:20220101T000000
END:STANDARD
END:VTIMEZONE
BEGIN:VEVENT
DTSTART;TZID=UTC:20230505T160000
DTEND;TZID=UTC:20230506T150000
DTSTAMP:20260426T042010
CREATED:20230119T181701Z
LAST-MODIFIED:20230119T182114Z
UID:10000266-1683302400-1683385200@www.bsator.com
SUMMARY:2023 Quinipissa Lodge Trade-O-Ree - State: Louisiana
DESCRIPTION:Date: May 5-6\, 2023 \nAddress:\nBroadmoor United Methodist Church\n10230 Mollylea DR\nBaton Rouge\, LA 70815 \nTimes:\nFriday: 4pm – 11pm\nSaturday: 8am – 3pm \nRegister For Tables: https://www.iacbsa.org/OA_tradoree_23 \nContact: John Snead\nEmail: ​iacpatchevent@gmail.com\nPhone: (225) 229-8540 \nContact: Rob Bourgeois\nEmail: ?\nPhone: (225) 610-3706 \n\n    Download the PDF file .
URL:https://www.bsator.com/event/2023-quinipissa-lodge-trade-o-ree-state-louisiana/
LOCATION:Broadmoor United Methodist Church\, 10230 Mollylea DR\, Baton Rouge\, LA\, 70815\, United States
ATTACH;FMTTYPE=image/jpeg:https://www.bsator.com/wp-content/uploads/2019/10/58933306_2659934560694561_5191450356495679488_o.jpg
ORGANIZER;CN="John Snead":MAILTO:iacpatchevent@gmail.com
END:VEVENT
BEGIN:VEVENT
DTSTART;TZID=UTC:20230505T160000
DTEND;TZID=UTC:20230506T170000
DTSTAMP:20260426T042010
CREATED:20220722T043642Z
LAST-MODIFIED:20220812T233032Z
UID:10000448-1683302400-1683392400@www.bsator.com
SUMMARY:2023 Peninsula Trade-O-Ree - State: Virginia
DESCRIPTION:Date: May 5-6\, 2023 \nAddress:\nSt. Stephens Episcopal Church\n372 Hiden Blvd.\nNewport News\, VA 23606 \nTimes:\nFriday: 4pm – 10pm (Setup: 3pm)\nSaturday: 9am – 5pm \nContact: Will Richards\nEmail: CM.willbo@gmail.com\nPhone: (757) 817-5166 \n\n    Download the PDF file .
URL:https://www.bsator.com/event/2023-peninsula-trade-o-ree-state-virginia/
LOCATION:St. Stephens Episcopal Church\, 372 Hiden Blvd.\, Newport News\, VA\, 23606\, United States
ATTACH;FMTTYPE=image/jpeg:https://www.bsator.com/wp-content/uploads/2016/06/SWAPSHOP_zpsd7821994-4-1.jpg.opt430x360o00s430x360-4-1.jpg
ORGANIZER;CN="Will Richards":MAILTO:CM.willbo@gmail.com
END:VEVENT
END:VCALENDAR