BEGIN:VCALENDAR
VERSION:2.0
PRODID:-//Boy Scout Trade-O-Ree Calendar - ECPv6.15.20//NONSGML v1.0//EN
CALSCALE:GREGORIAN
METHOD:PUBLISH
X-WR-CALNAME:Boy Scout Trade-O-Ree Calendar
X-ORIGINAL-URL:https://www.bsator.com
X-WR-CALDESC:Events for Boy Scout Trade-O-Ree Calendar
REFRESH-INTERVAL;VALUE=DURATION:PT1H
X-Robots-Tag:noindex
X-PUBLISHED-TTL:PT1H
BEGIN:VTIMEZONE
TZID:UTC
BEGIN:STANDARD
TZOFFSETFROM:+0000
TZOFFSETTO:+0000
TZNAME:UTC
DTSTART:20230101T000000
END:STANDARD
END:VTIMEZONE
BEGIN:VEVENT
DTSTART;TZID=UTC:20240209T170000
DTEND;TZID=UTC:20240210T150000
DTSTAMP:20260425T141644
CREATED:20231006T031717Z
LAST-MODIFIED:20231006T033803Z
UID:10000297-1707498000-1707577200@www.bsator.com
SUMMARY:2024 Old North State Trade-O-Ree - State: North Carolina
DESCRIPTION:Date: February 9-10\, 2024 \nAddress:\nJamestown Presbyterian Church\n1804 Guilford College Road\nJamestown\, NC 27282 \nTimes:\nFriday: 5pm – 11pm\nSaturday: 9am – 3pm \nContact: Jason Hardy\nEmail: jshardy31@gmail.com\nPhone: (336) 451-7710 \n\n \nTrade-O-Ree Flyer\n\n\n    Download the PDF file .
URL:https://www.bsator.com/event/2024-old-north-state-trade-o-ree-state-north-carolina/
LOCATION:Jamestown Presbyterian Church\, 1804 Guilford College Road\, Jamestown\, NC\, 27282\, United States
ATTACH;FMTTYPE=image/jpeg:https://www.bsator.com/wp-content/uploads/2016/06/SWAPSHOP_zpsd7821994-4-1.jpg.opt430x360o00s430x360-4-1.jpg
ORGANIZER;CN="Jason Hardy":MAILTO:jshardy31@gmail.com
END:VEVENT
END:VCALENDAR