BEGIN:VCALENDAR
VERSION:2.0
PRODID:-//Boy Scout Trade-O-Ree Calendar - ECPv6.15.20//NONSGML v1.0//EN
CALSCALE:GREGORIAN
METHOD:PUBLISH
X-WR-CALNAME:Boy Scout Trade-O-Ree Calendar
X-ORIGINAL-URL:https://www.bsator.com
X-WR-CALDESC:Events for Boy Scout Trade-O-Ree Calendar
REFRESH-INTERVAL;VALUE=DURATION:PT1H
X-Robots-Tag:noindex
X-PUBLISHED-TTL:PT1H
BEGIN:VTIMEZONE
TZID:UTC
BEGIN:STANDARD
TZOFFSETFROM:+0000
TZOFFSETTO:+0000
TZNAME:UTC
DTSTART:20230101T000000
END:STANDARD
END:VTIMEZONE
BEGIN:VEVENT
DTSTART;TZID=UTC:20240301T100000
DTEND;TZID=UTC:20240302T150000
DTSTAMP:20260425T123432
CREATED:20240112T010242Z
LAST-MODIFIED:20240112T010242Z
UID:10000525-1709287200-1709391600@www.bsator.com
SUMMARY:2024 Ma-Nu Lodge Trade-O-Ree - State: Oklahoma
DESCRIPTION:Date: March 1-2\, 2024 \nAddress:\nLast Frontier Council Office\n3031 NW 64th Street\nOklahoma City\, OK 73116 \nTimes:\nFriday: 10am – 10pm\nSaturday: 9am – 3pm \nContact 1: Eric Davis\nEmail: 434scout@gmail.com\nPhone: (580) 656-1758 \n\n \nTrade-O-Ree Flyer\n\n\n    Download the PDF file .
URL:https://www.bsator.com/event/2024-ma-nu-lodge-trade-o-ree-state-oklahoma/
LOCATION:Last Frontier Council Office\, 3031 NW 64th Street\, Oklahoma City\, OK\, 73116\, United States
ATTACH;FMTTYPE=image/jpeg:https://www.bsator.com/wp-content/uploads/2022/01/270434404_874807573188522_6595588138854289241_n-1.jpg
ORGANIZER;CN="Eric Davis":MAILTO:434scout@gmail.com
END:VEVENT
BEGIN:VEVENT
DTSTART;TZID=UTC:20240301T130000
DTEND;TZID=UTC:20240302T160000
DTSTAMP:20260425T123432
CREATED:20230912T235248Z
LAST-MODIFIED:20231006T034252Z
UID:10000293-1709298000-1709395200@www.bsator.com
SUMMARY:22nd Annual Friends of J.N. Webster Trade-O-Ree
DESCRIPTION:Date: March 1-2\, 2024 \nAddress:\nJN Webster Scout Reservation\n231 Ashford Center Rd (RT44)\nAshford\, CT 06278 \nTimes:\nFriday: 1pm – 10pm (Dealer Setup: 12pm)\nSaturday: 8am – 4pm \nContact 1: Paul or Harry Segerstrom\nEmail: paratrooper325@netzero.net\nPhone: (860) 822-6235 \nRegister Now\n\n \nTrade-O-Ree Flyer\n\n\n    Download the PDF file .
URL:https://www.bsator.com/event/22nd-annual-friends-of-j-n-webster-trade-o-ree/
LOCATION:JN Webster Scout Reservation\, 231 Ashford Center Rd (RT44)\, Ashford\, CT\, 06278\, United States
ATTACH;FMTTYPE=image/jpeg:https://www.bsator.com/wp-content/uploads/2016/05/12778744_1212344965459975_375003093317245275_o-1.jpg.opt415x622o00s415x622-1.jpg
ORGANIZER;CN="Harry Segerstrom":MAILTO:paratrooper325@netzero.net
GEO:41.8719597;-72.1419496
X-APPLE-STRUCTURED-LOCATION;VALUE=URI;X-ADDRESS=JN Webster Scout Reservation 231 Ashford Center Rd (RT44) Ashford CT 06278 United States;X-APPLE-RADIUS=500;X-TITLE=231 Ashford Center Rd (RT44):geo:-72.1419496,41.8719597
END:VEVENT
END:VCALENDAR