BEGIN:VCALENDAR
VERSION:2.0
PRODID:-//Boy Scout Trade-O-Ree Calendar - ECPv6.15.20//NONSGML v1.0//EN
CALSCALE:GREGORIAN
METHOD:PUBLISH
X-ORIGINAL-URL:https://www.bsator.com
X-WR-CALDESC:Events for Boy Scout Trade-O-Ree Calendar
REFRESH-INTERVAL;VALUE=DURATION:PT1H
X-Robots-Tag:noindex
X-PUBLISHED-TTL:PT1H
BEGIN:VTIMEZONE
TZID:UTC
BEGIN:STANDARD
TZOFFSETFROM:+0000
TZOFFSETTO:+0000
TZNAME:UTC
DTSTART:20230101T000000
END:STANDARD
END:VTIMEZONE
BEGIN:VEVENT
DTSTART;TZID=UTC:20240315T160000
DTEND;TZID=UTC:20240316T160000
DTSTAMP:20260425T123555
CREATED:20230922T122742Z
LAST-MODIFIED:20230922T123530Z
UID:10000295-1710518400-1710604800@www.bsator.com
SUMMARY:15th Annual Michigan Crossroads Council Trade-O-Ree
DESCRIPTION:Date: March 15-16\, 2024 \nAddress:\nD-Bar-A Scout Ranch (Wyckoff Lodge Dining Hall)\n880 E. Sutton Road\nMetamora\, MI 48455 \nTimes:\nFriday: 4pm – 11pm\nSaturday: 8am – 4pm \nContact 1: Scott Wheeler\nEmail: panterat97@juno.com\nPhone: (586) 817-0654 \nContact 2: Denver Laabs\nEmail: Denver.laabs@scouting.org\nPhone: (248) 231-6524 \n\n \nTrade-O-Ree Flyer\n\n\n    Download the PDF file .
URL:https://www.bsator.com/event/15th-annual-michigan-crossroads-council-trade-o-ree/
LOCATION:D-Bar-A Scout Ranch (Wyckoff Lodge Dining Hall)\, 880 E. Sutton Road\, Metamora\, MI 48455
ATTACH;FMTTYPE=image/jpeg:https://www.bsator.com/wp-content/uploads/2021/11/IMG_0295a.jpg
ORGANIZER;CN="Scott Wheeler":MAILTO:panterat97@juno.com
GEO:42.9717489;-83.2579737
X-APPLE-STRUCTURED-LOCATION;VALUE=URI;X-ADDRESS=D-Bar-A Scout Ranch (Wyckoff Lodge Dining Hall) 880 E. Sutton Road Metamora MI 48455;X-APPLE-RADIUS=500;X-TITLE=880 E. Sutton Road:geo:-83.2579737,42.9717489
END:VEVENT
END:VCALENDAR