BEGIN:VCALENDAR
VERSION:2.0
PRODID:-//Boy Scout Trade-O-Ree Calendar - ECPv6.15.20//NONSGML v1.0//EN
CALSCALE:GREGORIAN
METHOD:PUBLISH
X-ORIGINAL-URL:https://www.bsator.com
X-WR-CALDESC:Events for Boy Scout Trade-O-Ree Calendar
REFRESH-INTERVAL;VALUE=DURATION:PT1H
X-Robots-Tag:noindex
X-PUBLISHED-TTL:PT1H
BEGIN:VTIMEZONE
TZID:UTC
BEGIN:STANDARD
TZOFFSETFROM:+0000
TZOFFSETTO:+0000
TZNAME:UTC
DTSTART:20230101T000000
END:STANDARD
END:VTIMEZONE
BEGIN:VEVENT
DTSTART;TZID=UTC:20241004T170000
DTEND;TZID=UTC:20241005T150000
DTSTAMP:20260425T015021
CREATED:20240821T051302Z
LAST-MODIFIED:20240821T051302Z
UID:10000541-1728061200-1728140400@www.bsator.com
SUMMARY:2024 Ed Harris Trade-O-Ree - State: Oregon
DESCRIPTION:Date: October 4-5\, 2024 \nAddress:\nKinton Grange\n19015 SW Scholls Ferry Rd.\nBeaverton\, OR 97007 \nTimes:\nFriday: 5pm – 8pm\nSaturday: 9am – 3pm \nContact: Jeff Ansley\nEmail: skyloo442@comcast.net\nPhone: (503) 352-5357 \nRegister Now\n\n \nTrade-O-Ree Flyer\n\n\n    Download the PDF file .
URL:https://www.bsator.com/event/2024-ed-harris-trade-o-ree-state-oregon/
LOCATION:Kinton Grange\, 19015 SW Scholls Ferry Rd.\, Beaverton\, OR\, 97007\, United States
ATTACH;FMTTYPE=image/jpeg:https://www.bsator.com/wp-content/uploads/2016/06/10710284_10152663411746195_1283144467783832528_o.jpg.opt430x322o00s430x322.jpg
ORGANIZER;CN="Jeff Ansley":MAILTO:skyloo442@comcast.net
END:VEVENT
BEGIN:VEVENT
DTSTART;TZID=UTC:20241005T140000
DTEND;TZID=UTC:20241006T140000
DTSTAMP:20260425T015021
CREATED:20240821T045653Z
LAST-MODIFIED:20240821T163625Z
UID:10000540-1728136800-1728223200@www.bsator.com
SUMMARY:37th Annual Sunshine Trade-O-Ree - State: Florida
DESCRIPTION:Date: October 5-6\, 2024 \nAddress:\nNational Guard Armory (Armory Hall)\n2809 South Fern Creek Ave\nOrlando\, FL 32806 \nTimes:\nSaturday: 2pm – 10pm (Table Renters: 12pm)\nSunday: 8am – 2pm \nContact: Howard Gross\nEmail: howardgr326@gmail.com\nPhone: (407) 415-0476 \nFREE Entry For All.\nThis is a SATURDAY/ SUNDAY PATCH TRADEOREE.\nRegister For The Show Online At The Central Florida\nBoy Scout Council Office Website.\nLive Patch Auctions Saturday and Sunday As Well As\nSilent Patch Auctions Saturday and Sunday Until 1pm.\nFood and Drinks Available. \n\n \nTrade-O-Ree Flyer\n\n\n    Download the PDF file .
URL:https://www.bsator.com/event/37th-annual-sunshine-trade-o-ree-state-florida/
LOCATION:National Guard Armory\, 2809 South Ferncreek Ave.\, Orlando\, Fl.\, 32806
ATTACH;FMTTYPE=image/jpeg:https://www.bsator.com/wp-content/uploads/2016/08/IMG_8041.jpg
ORGANIZER;CN="Howard Gross":MAILTO:howardgr326@gmail.com
GEO:28.5108;-81.3593222
X-APPLE-STRUCTURED-LOCATION;VALUE=URI;X-ADDRESS=National Guard Armory 2809 South Ferncreek Ave. Orlando Fl. 32806;X-APPLE-RADIUS=500;X-TITLE=2809 South Ferncreek Ave.:geo:-81.3593222,28.5108
END:VEVENT
END:VCALENDAR