BEGIN:VCALENDAR
VERSION:2.0
PRODID:-//Boy Scout Trade-O-Ree Calendar - ECPv6.15.20//NONSGML v1.0//EN
CALSCALE:GREGORIAN
METHOD:PUBLISH
X-WR-CALNAME:Boy Scout Trade-O-Ree Calendar
X-ORIGINAL-URL:https://www.bsator.com
X-WR-CALDESC:Events for Boy Scout Trade-O-Ree Calendar
REFRESH-INTERVAL;VALUE=DURATION:PT1H
X-Robots-Tag:noindex
X-PUBLISHED-TTL:PT1H
BEGIN:VTIMEZONE
TZID:UTC
BEGIN:STANDARD
TZOFFSETFROM:+0000
TZOFFSETTO:+0000
TZNAME:UTC
DTSTART:20240101T000000
END:STANDARD
END:VTIMEZONE
BEGIN:VEVENT
DTSTART;TZID=UTC:20251114T170000
DTEND;TZID=UTC:20251115T130000
DTSTAMP:20260423T213110
CREATED:20250606T041756Z
LAST-MODIFIED:20250606T042051Z
UID:10000388-1763139600-1763211600@www.bsator.com
SUMMARY:37th Annual Greater St. Louis Trade-O-Ree – State: Missouri
DESCRIPTION:Date: November 14-15\, 2025 \nAddress:\nEpiphany Catholic Church Community Center\n6596 Smiley Ave.\nSt. Louis\, MO 63139 \nTimes:\nFriday: 5pm – 11pm\nSaturday: 9am – 1pm \nContact: Mike LaTurno\nEmail: elaphe3@gmail.com\nPhone: (314) 481-0358 \nSame location\, different weekend. We have moved our TOR up one weekend from usual due to Council conflicts. \nRegister Now\n\n \nTrade-O-Ree Flyer\n\n\n    Download the PDF file .
URL:https://www.bsator.com/event/37th-annual-greater-st-louis-trade-o-ree-state-missouri/
LOCATION:Epiphany Catholic Church Community Center\, 6596 Smiley Ave.\, St. Louis\, MO\, 63139\, United States
ATTACH;FMTTYPE=image/jpeg:https://www.bsator.com/wp-content/uploads/2023/08/IMG_8019-1.jpg
ORGANIZER;CN="Mike LaTurno":MAILTO:elaphe3@gmail.com
GEO:38.607009;-90.3026069
X-APPLE-STRUCTURED-LOCATION;VALUE=URI;X-ADDRESS=Epiphany Catholic Church Community Center 6596 Smiley Ave. St. Louis MO 63139 United States;X-APPLE-RADIUS=500;X-TITLE=6596 Smiley Ave.:geo:-90.3026069,38.607009
END:VEVENT
BEGIN:VEVENT
DTSTART;TZID=UTC:20251114T170000
DTEND;TZID=UTC:20251115T150000
DTSTAMP:20260423T213110
CREATED:20250328T034425Z
LAST-MODIFIED:20250328T040323Z
UID:10000576-1763139600-1763218800@www.bsator.com
SUMMARY:2025 Greater Cincinnati Area Trade-O-Ree - State: Ohio
DESCRIPTION:Date: November 14-15\, 2025 \nAddress:\nSt. Lawrence Parish Center\n1020 Carson Ave.\nCincinnati\, OH 45205 \nTimes:\nFriday: 5pm-10pm\nSaturday: 9am-3pm \nRegister For Tables: https://tinyurl.com/GCATOR\nMore Details: https://mycouncil.danbeard.org/Event/14696 \nContact: Terry Aufermann\nEmail: terryaufermann@gmail.com\nPhone: ? \nContact: Brian Holtel\nEmail: holtel@hotmail.com\nPhone: ? \n\n \nTrade-O-Ree Flyer\n\n\n    Download the PDF file .
URL:https://www.bsator.com/event/2025-greater-cincinnati-area-trade-o-ree-state-ohio/
LOCATION:St. Lawrence Parish Center\, 1020 Carson Ave.\, Cincinnati\, OH\, 45205\, United States
ATTACH;FMTTYPE=image/png:https://www.bsator.com/wp-content/uploads/2023/12/GCA-Picture.png
ORGANIZER;CN="Terry Aufermann":MAILTO:terryaufermann@gmail.com
END:VEVENT
END:VCALENDAR