BEGIN:VCALENDAR
VERSION:2.0
PRODID:-//Boy Scout Trade-O-Ree Calendar - ECPv6.15.20//NONSGML v1.0//EN
CALSCALE:GREGORIAN
METHOD:PUBLISH
X-ORIGINAL-URL:https://www.bsator.com
X-WR-CALDESC:Events for Boy Scout Trade-O-Ree Calendar
REFRESH-INTERVAL;VALUE=DURATION:PT1H
X-Robots-Tag:noindex
X-PUBLISHED-TTL:PT1H
BEGIN:VTIMEZONE
TZID:UTC
BEGIN:STANDARD
TZOFFSETFROM:+0000
TZOFFSETTO:+0000
TZNAME:UTC
DTSTART:20250101T000000
END:STANDARD
END:VTIMEZONE
BEGIN:VEVENT
DTSTART;TZID=UTC:20260416T093000
DTEND;TZID=UTC:20260416T163000
DTSTAMP:20260423T142852
CREATED:20260416T142857Z
LAST-MODIFIED:20260416T143158Z
UID:10000635-1776331800-1776357000@www.bsator.com
SUMMARY:Mississippi Riverlands Council Trade-O-Ree
DESCRIPTION:Date: April 25\, 2026 \nAddress:\nCamp Binachi\n4434 Camp Binachi Rd.\nMeridian\, MS 39301 \nTimes:\nSaturday: 9:30am – 4:30pm \nContact: Wally Majors\nEmail: wmajors700@gmail.com\nPhone: (601) 954-2523 \n \nTrade-O-Ree Flyer\n\n\n    Download the PDF file .
URL:https://www.bsator.com/event/mississippi-riverlands-council-trade-o-ree/
LOCATION:Camp Binachi\, 4434 Camp Binachi Rd.\, Meridian\, MS\, 39301\, United States
ATTACH;FMTTYPE=image/jpeg:https://www.bsator.com/wp-content/uploads/2016/06/SWAPSHOP_zpsd7821994-4-1.jpg.opt430x360o00s430x360-4-1.jpg
ORGANIZER;CN="Wally Majors":MAILTO:wmajors700@gmail.com
END:VEVENT
END:VCALENDAR