BEGIN:VCALENDAR
VERSION:2.0
PRODID:-//Boy Scout Trade-O-Ree Calendar - ECPv6.15.20//NONSGML v1.0//EN
CALSCALE:GREGORIAN
METHOD:PUBLISH
X-ORIGINAL-URL:https://www.bsator.com
X-WR-CALDESC:Events for Boy Scout Trade-O-Ree Calendar
REFRESH-INTERVAL;VALUE=DURATION:PT1H
X-Robots-Tag:noindex
X-PUBLISHED-TTL:PT1H
BEGIN:VTIMEZONE
TZID:UTC
BEGIN:STANDARD
TZOFFSETFROM:+0000
TZOFFSETTO:+0000
TZNAME:UTC
DTSTART:20250101T000000
END:STANDARD
END:VTIMEZONE
BEGIN:VEVENT
DTSTART;TZID=UTC:20260417T120000
DTEND;TZID=UTC:20260418T150000
DTSTAMP:20260423T142853
CREATED:20250427T053442Z
LAST-MODIFIED:20250427T053737Z
UID:10000377-1776427200-1776524400@www.bsator.com
SUMMARY:26th Annual Midwest Tradefest - State: Wisconsin
DESCRIPTION:Date: April 17-18\, 2026 \nAddress:\nRock County Fairgrounds	– Craig Center\n1301 Craig Avenue\nJanesville\, WI 53545 \nIn 2025 had 85 tables with attendees from 11 states. \nTimes:\nFriday: 12pm – 9pm\nSaturday: 8am – 3pm \nContact: Kurt Hansen\nEmail: kwh96@hotmail.com\nPhone: (608) 770-4957 \n\n \nTrade-O-Ree Flyer\n\n\n    Download the PDF file .
URL:https://www.bsator.com/event/26th-annual-midwest-tradefest-state-wisconsin/
LOCATION:Rock County Fairgrounds	– Craig Center\, 1301 Craig Avenue\, Janesville\, WI\, 53545\, United States
ATTACH;FMTTYPE=image/jpeg:https://www.bsator.com/wp-content/uploads/2025/04/489056618_1077404107756732_3548205017396280781_n.jpg
ORGANIZER;CN="Kurt Hansen":MAILTO:kwh96@hotmail.com
END:VEVENT
BEGIN:VEVENT
DTSTART;TZID=UTC:20260417T160000
DTEND;TZID=UTC:20260418T150000
DTSTAMP:20260423T142853
CREATED:20260125T194406Z
LAST-MODIFIED:20260128T025101Z
UID:10000619-1776441600-1776524400@www.bsator.com
SUMMARY:14th Annual Girl Scouts of Eastern Pennsylvania Collectors Meet
DESCRIPTION:Date: April 17-18\, 2026 \nAddress:\nGSEP Regional Office (Valley Forge)\n100 Juliette Low Way\nValley Forge\, PA 19482 \nTimes:\nFriday: 4pm – 8pm\nSaturday: 9am – 3pm \nContact: Marg Mason\nEmail: masonscout@aol.com\nPhone: ? \n\n \nTrade-O-Ree Flyer\n\n\n    Download the PDF file .
URL:https://www.bsator.com/event/14th-annual-girl-scouts-of-eastern-pennsylvania-collectors-meet/
LOCATION:GSEP Regional Office (Valley Forge)\, 100 Juliette Low Way\, Valley Forge\, PA\, 19482\, United States
ATTACH;FMTTYPE=image/jpeg:https://www.bsator.com/wp-content/uploads/2019/01/50487785_10218466836404156_8871632443153580032_o.jpg
ORGANIZER;CN="Marg Mason":MAILTO:masonscout@aol.com
GEO:40.108239;-75.4783499
X-APPLE-STRUCTURED-LOCATION;VALUE=URI;X-ADDRESS=GSEP Regional Office (Valley Forge) 100 Juliette Low Way Valley Forge PA 19482 United States;X-APPLE-RADIUS=500;X-TITLE=100 Juliette Low Way:geo:-75.4783499,40.108239
END:VEVENT
END:VCALENDAR