BEGIN:VCALENDAR
VERSION:2.0
PRODID:-//Boy Scout Trade-O-Ree Calendar - ECPv6.15.20//NONSGML v1.0//EN
CALSCALE:GREGORIAN
METHOD:PUBLISH
X-WR-CALNAME:Boy Scout Trade-O-Ree Calendar
X-ORIGINAL-URL:https://www.bsator.com
X-WR-CALDESC:Events for Boy Scout Trade-O-Ree Calendar
REFRESH-INTERVAL;VALUE=DURATION:PT1H
X-Robots-Tag:noindex
X-PUBLISHED-TTL:PT1H
BEGIN:VTIMEZONE
TZID:UTC
BEGIN:STANDARD
TZOFFSETFROM:+0000
TZOFFSETTO:+0000
TZNAME:UTC
DTSTART:20220101T000000
END:STANDARD
END:VTIMEZONE
BEGIN:VEVENT
DTSTART;TZID=UTC:20230804T170000
DTEND;TZID=UTC:20230805T160000
DTSTAMP:20260425T215432
CREATED:20230422T052238Z
LAST-MODIFIED:20230716T005522Z
UID:10000481-1691168400-1691251200@www.bsator.com
SUMMARY:POSTPONED: 2023 Nevada Area Council Trade-O-Ree
DESCRIPTION:Date: August 4-5\, 2023\nThis event has been postponed to a future date!!! \nAddress:\nBishop Manogue High School\n110 Bishop Manogue Dr.\nReno\, NV 89511 \nTimes:\nFriday: 5pm – 10pm\nSaturday: 9am – 4pm \nContact: Tammy Rodeback\nEmail: tammy.rodeback@scouting.org\nPhone: (775) 787-1111 \n\n \nTrade-O-Ree Flyer\n\n\n    Download the PDF file .
URL:https://www.bsator.com/event/2023-nevada-area-council-trade-o-ree/
LOCATION:Bishop Manogue High School\, 110 Bishop Manogue Dr.\, Reno\, NV\, 89511\, United States
ATTACH;FMTTYPE=image/png:https://www.bsator.com/wp-content/uploads/2023/04/thumbnail.png
ORGANIZER;CN="Tammy Rodeback":MAILTO:tammy.rodeback@scouting.org
END:VEVENT
BEGIN:VEVENT
DTSTART;TZID=UTC:20230818T160000
DTEND;TZID=UTC:20230819T150000
DTSTAMP:20260425T215432
CREATED:20230305T070251Z
LAST-MODIFIED:20230513T032101Z
UID:10000277-1692374400-1692457200@www.bsator.com
SUMMARY:10th Annual Occoneechee Lodge 104 Trade-O-Ree – State: North Carolina
DESCRIPTION:Date: August 18-19\, 2023 \nAddress:\nCamp Durant (Grand Lodge Dining Hall)\n4637 Old Carthage Rd.\nCarthage\, NC 28327 \nTimes:\nFriday: 4pm – 12am (Vendor Setup: 3pm)\nSaturday: 9am – 3pm \nReserve Tables / Meals By Visiting: https://store.lodge104.net/shop/trade-o-ree/
URL:https://www.bsator.com/event/10th-annual-occoneechee-lodge-104-trade-o-ree-state-north-carolina-2/
LOCATION:Camp Durant (Grand Lodge Dining Hall)\, 4637 Old Carthage Rd.\, Carthage\, NC 28327
ATTACH;FMTTYPE=image/jpeg:https://www.bsator.com/wp-content/uploads/2016/12/14064311_10209258917261489_4956445438124930068_n.jpg
ORGANIZER;CN="Matt Breneman":MAILTO:mkbreneman@aol.com
GEO:35.3421553;-79.5534724
X-APPLE-STRUCTURED-LOCATION;VALUE=URI;X-ADDRESS=Camp Durant (Grand Lodge Dining Hall) 4637 Old Carthage Rd. Carthage NC 28327;X-APPLE-RADIUS=500;X-TITLE=4637 Old Carthage Rd.:geo:-79.5534724,35.3421553
END:VEVENT
BEGIN:VEVENT
DTSTART;TZID=UTC:20230818T170000
DTEND;TZID=UTC:20230819T160000
DTSTAMP:20260425T215432
CREATED:20220823T033855Z
LAST-MODIFIED:20230113T044157Z
UID:10000454-1692378000-1692460800@www.bsator.com
SUMMARY:3rd Annual Sakima Lodge Trade-O-Ree - State: Michigan
DESCRIPTION:Come to beautiful Camp Tamarack on Wood Lake Scout Reservation in Jones Michigan for a celebration of Scouting memorabilia! Patches and Scouting collectibles will be on display for viewing\, buying\, selling\, and trading. Day visitors\, weekend campers\, trade show vendors\, enthusiasts\, and the mildly-interested are all welcome. Starter patch-trading kits will be availble for all Cub Scouts. Scouting Heritage Merit Badge and Collecting Merit Badge Counselors will be present. The Camp Tamarack Trading Post will be open and food will also be available for purchase. \n\n \nDate: August 18-19\, 2023 \nAddress:\nWood Lake Scout Reservation (Camp Tamarack Dining Hall)\n10891 Withers St.\nJones\, MI 49061 \nTimes:\nFriday: 5pm – 10pm\nSaturday: 9am – 4pm \nContact: Jim Ellis\nEmail: Nileslaw@aol.com\nPhone: (269) 683-1114 \nContact: Jeff Smith\nEmail: j.smith@scouting.org\nPhone: ? \nContact: Tim Monaghan\nEmail: timgmonaghan@gmail.com\nPhone: ? \n\n \nTrade-O-Ree Flyer\n\n\n    Download the PDF file .
URL:https://www.bsator.com/event/3rd-annual-sakima-lodge-trade-o-ree-state-michigan/
LOCATION:Wood Lake Scout Reservation\, 10891 Withers St.\, Jones\, MI\, 49061\, United States
ATTACH;FMTTYPE=image/jpeg:https://www.bsator.com/wp-content/uploads/2020/12/tor-header.jpg
ORGANIZER;CN="Jim Ellis":MAILTO:Nileslaw@aol.com
END:VEVENT
BEGIN:VEVENT
DTSTART;TZID=UTC:20230825T120000
DTEND;TZID=UTC:20230826T160000
DTSTAMP:20260425T215432
CREATED:20230513T032631Z
LAST-MODIFIED:20230513T033553Z
UID:10000485-1692964800-1693065600@www.bsator.com
SUMMARY:First Annual Sagamore Trade-O-Ree - State: Indiana
DESCRIPTION:Date: August 25-26\, 2023 \nAddress:\nFranklin L. Cary Camp Dining Hall\n6286 State Road 26 East\nLafayette\, Indiana 47905 \nTimes:\nFriday: 12pm – 9pm\nSaturday: 8am – 4pm \nContact: Stephen Bowman\nEmail: stephenwbowman@yahoo.com\nPhone: ? \n\n \nTrade-O-Ree Flyer\n\n\n    Download the PDF file .
URL:https://www.bsator.com/event/first-annual-sagamore-trade-o-ree-state-indiana/
LOCATION:Franklin L. Cary Camp Dining Hall\, 6286 State Road 26 East\, Lafayette\, IN\, 47905\, United States
ATTACH;FMTTYPE=image/jpeg:https://www.bsator.com/wp-content/uploads/2016/06/SWAPSHOP_zpsd7821994-4-1.jpg.opt430x360o00s430x360-4-1.jpg
ORGANIZER;CN="Stephen Bowman":MAILTO:stephenwbowman@yahoo.com
END:VEVENT
BEGIN:VEVENT
DTSTART;TZID=UTC:20230825T180000
DTEND;TZID=UTC:20230826T140000
DTSTAMP:20260425T215432
CREATED:20230331T040909Z
LAST-MODIFIED:20230425T160321Z
UID:10000479-1692986400-1693058400@www.bsator.com
SUMMARY:2023 Unami Lodge Greater Philadelphia Scout Memorabilia Show - State: Pennsylvania
DESCRIPTION:Date: August 25-26\, 2023 \nAddress:\nEmmanuel Lutheran Church\n150 N Hanover Street\nPottstown\, Pennsylvania 19464 \nTimes:\nFriday: 6pm – 9:30pm\nSaturday: 8am – 2pm \nContact: Paul Bowman\nEmail: paul.bowman@unamilodge.org\nPhone: (484) 369-9926 \n\n \nTrade-O-Ree Flyer\n\n\n    Download the PDF file .
URL:https://www.bsator.com/event/2023-unami-lodge-greater-philadelphia-scout-memorabilia-show-state-pennsylvania/
LOCATION:Emmanuel Lutheran Church\, 150 N Hanover Street\, Pottstown\, PA\, 19464\, United States
ATTACH;FMTTYPE=image/jpeg:https://www.bsator.com/wp-content/uploads/2016/05/1540443_10204174328632508_6809621361728788690_o.jpg.opt431x322o00s431x322.jpg
ORGANIZER;CN="Paul Bowman":MAILTO:paul.bowman@unamilodge.org
END:VEVENT
END:VCALENDAR