BEGIN:VCALENDAR
VERSION:2.0
PRODID:-//Boy Scout Trade-O-Ree Calendar - ECPv6.15.20//NONSGML v1.0//EN
CALSCALE:GREGORIAN
METHOD:PUBLISH
X-ORIGINAL-URL:https://www.bsator.com
X-WR-CALDESC:Events for Boy Scout Trade-O-Ree Calendar
REFRESH-INTERVAL;VALUE=DURATION:PT1H
X-Robots-Tag:noindex
X-PUBLISHED-TTL:PT1H
BEGIN:VTIMEZONE
TZID:UTC
BEGIN:STANDARD
TZOFFSETFROM:+0000
TZOFFSETTO:+0000
TZNAME:UTC
DTSTART:20220101T000000
END:STANDARD
END:VTIMEZONE
BEGIN:VEVENT
DTSTART;TZID=UTC:20230901T120000
DTEND;TZID=UTC:20230902T150000
DTSTAMP:20260425T201639
CREATED:20230513T034453Z
LAST-MODIFIED:20230513T034755Z
UID:10000486-1693569600-1693666800@www.bsator.com
SUMMARY:17th Annual Capitol Area Trade-O-Ree - State: Texas
DESCRIPTION:Date: September 1-2\, 2023 \nAddress:\nFrank Fickett Scout Training & Service Center\n12500 N-IH 35\nAustin\, TX 78753 \nTimes:\nFriday: 12pm – 9pm\nSaturday: 10am – 3pm \nContact: Jim Sylvester\nEmail: swtsu88@aol.com\nPhone: (512) 650-5591 \n\n \nTrade-O-Ree Flyer\n\n\n    Download the PDF file .
URL:https://www.bsator.com/event/17th-annual-capitol-area-trade-o-ree-state-texas/
LOCATION:Frank Fickett Scout Training & Service Center\, 12500 N IH 35\, Austin\, TX\, 78753\, United States
ATTACH;FMTTYPE=image/jpeg:https://www.bsator.com/wp-content/uploads/2016/05/10322761_10203640636091151_1542785950943790072_n.jpg
ORGANIZER;CN="Jim Sylvester":MAILTO:Jim.Sylvester@co.travis.tx.us
GEO:30.4057864;-97.6760917
X-APPLE-STRUCTURED-LOCATION;VALUE=URI;X-ADDRESS=Frank Fickett Scout Training & Service Center 12500 N IH 35 Austin TX 78753 United States;X-APPLE-RADIUS=500;X-TITLE=12500 N IH 35:geo:-97.6760917,30.4057864
END:VEVENT
BEGIN:VEVENT
DTSTART;TZID=UTC:20230908T150000
DTEND;TZID=UTC:20230909T150000
DTSTAMP:20260425T201639
CREATED:20230405T044748Z
LAST-MODIFIED:20230513T035006Z
UID:10000480-1694185200-1694271600@www.bsator.com
SUMMARY:2023 Sinoquipe Trade-O-Ree - State: Pennsylvania
DESCRIPTION:Date: September 8-9\, 2023 \nAddress:\nSinoquipe Scout Reservation (Dining Hall)\n677 Boy Scout Road\nFort Littleton\, PA 17223 \nTimes:\nFriday: 3pm – 10pm\nSaturday: 8am – 3pm \nContact: Seth Martin\nEmail: mdcscouting@gmail.com\nPhone: ? \n\n \nTrade-O-Ree Flyer
URL:https://www.bsator.com/event/2023-sinoquipe-trade-o-ree-state-pennsylvania/
LOCATION:Sinoquipe Scout Reservation\, 677 Boy Scout Road\, Fort Littleton\, PA\, 17223\, United States
ATTACH;FMTTYPE=image/jpeg:https://www.bsator.com/wp-content/uploads/2016/06/SWAPSHOP_zpsd7821994-4-1.jpg.opt430x360o00s430x360-4-1.jpg
ORGANIZER;CN="Seth Martin":MAILTO:mdcscouting@gmail.com
END:VEVENT
BEGIN:VEVENT
DTSTART;TZID=UTC:20230909T080000
DTEND;TZID=UTC:20230909T140000
DTSTAMP:20260425T201639
CREATED:20230716T003806Z
LAST-MODIFIED:20230716T003806Z
UID:10000495-1694246400-1694268000@www.bsator.com
SUMMARY:Mississippi Valley Council Trade-O-Ree - State: Illinois
DESCRIPTION:Date: September 9\, 2023 \nAddress:\nQuincy Town Center\n3347 Quincy Mall\nQuincy\, IL 62301 \nTimes:\nSaturday: 8am – 2pm \nContact: Andy Flachs\nEmail: ajflachs@me.com\nPhone: (217) 653-4163 \n\n \nTrade-O-Ree Flyer\n\n\n    Download the PDF file .
URL:https://www.bsator.com/event/mississippi-valley-council-trade-o-ree-state-illinois/
LOCATION:Quincy Town Center\, 3347 Quincy Mall\, Quincy\, IL\, 62301\, United States
ATTACH;FMTTYPE=image/jpeg:https://www.bsator.com/wp-content/uploads/2016/06/SWAPSHOP_zpsd7821994-4-1.jpg.opt430x360o00s430x360-4-1.jpg
ORGANIZER;CN="Andy Flachs":MAILTO:ajflachs@me.com
END:VEVENT
BEGIN:VEVENT
DTSTART;TZID=UTC:20230915T170000
DTEND;TZID=UTC:20230916T120000
DTSTAMP:20260425T201639
CREATED:20230702T154534Z
LAST-MODIFIED:20230702T154534Z
UID:10000493-1694797200-1694865600@www.bsator.com
SUMMARY:40th Annual Greater Niagara Frontier Council / Western New York Traders Association Trade-O-Ree – State: New York
DESCRIPTION:Date: September 15-16\, 2023 \nAddress:\nWestern New York Scout Council’s Richard E. Garmin Service Center (FYI: The Scout Service Center is physically in Cheektowaga\, NY)\n2860 Genesee Street\nBuffalo\, NY 14225 \nTimes:\nFriday: 5pm – 11pm\nSaturday: 9am – 12pm \nContact: Dirk Norwich\nEmail: dnorwich@tpicast.com\nPhone: (585) 380-2751 \nContact: Harry DeBan (Table Reservations)\nEmail: fortniagarabooks@gmail.com\nPhone: (716) 731-4525 \nRegister Now\n\n    Download the PDF file .
URL:https://www.bsator.com/event/40th-annual-greater-niagara-frontier-council-western-new-york-traders-association-trade-o-ree-state-new-york/
LOCATION:Western New York Scout Council Service Center\, 2860 Genesee Street\, Buffalo\, NY\, 14225\, United States
ATTACH;FMTTYPE=image/jpeg:https://www.bsator.com/wp-content/uploads/2016/06/SWAPSHOP_zpsd7821994-4-1.jpg.opt430x360o00s430x360-4-1.jpg
ORGANIZER;CN="Dirk Norwich":MAILTO:dnorwich@tpicast.com
END:VEVENT
BEGIN:VEVENT
DTSTART;TZID=UTC:20230915T180000
DTEND;TZID=UTC:20230916T140000
DTSTAMP:20260425T201639
CREATED:20230824T175215Z
LAST-MODIFIED:20230824T175509Z
UID:10000498-1694800800-1694872800@www.bsator.com
SUMMARY:21st Annual Grand Teton Council Trade-O-Ree - State: Idaho
DESCRIPTION:Date: September 15-16\, 2023 \nAddress:\nGrand Teton Council\n3910 S. Yellowstone Hwy\,\nIdaho Falls\, ID 83402 \nTimes:\nFriday: 6pm – 11pm\nSaturday: 9am – 2pm  \nContact 1: Clarke Farrer\nEmail: clarke.farrer@scouting.org\nPhone: (208) 522-5155 \n\n \nTrade-O-Ree Flyer\n\n\n    Download the PDF file .
URL:https://www.bsator.com/event/21st-annual-grand-teton-council-trade-o-ree-state-idaho/
LOCATION:Grand Teton Council Headquarters\, 3910 S. Yellowstone Hwy\, Idaho Falls\, ID\, 83402\, United States
ATTACH;FMTTYPE=image/jpeg:https://www.bsator.com/wp-content/uploads/2016/06/15087-2008-vacation-001.jpg.opt430x322o00s430x322.jpg
ORGANIZER;CN="Clarke Farrer":MAILTO:clarke.farrer@scouting.org
GEO:43.4631483;-112.061182
X-APPLE-STRUCTURED-LOCATION;VALUE=URI;X-ADDRESS=Grand Teton Council Headquarters 3910 S. Yellowstone Hwy Idaho Falls ID 83402 United States;X-APPLE-RADIUS=500;X-TITLE=3910 S. Yellowstone Hwy:geo:-112.061182,43.4631483
END:VEVENT
BEGIN:VEVENT
DTSTART;TZID=UTC:20230915T180000
DTEND;TZID=UTC:20230917T140000
DTSTAMP:20260425T201639
CREATED:20230422T054458Z
LAST-MODIFIED:20230429T164127Z
UID:10000483-1694800800-1694959200@www.bsator.com
SUMMARY:2023 Ittawamba Lodge Trade-O-Ree - State: Tennessee
DESCRIPTION:Date: September 15-17\, 2023 \nAddress:\nCamp Mack Morris\n455 Camp Mack Morris Rd\nCamden\, TN 38320 \nTimes:\nFriday: 6pm – 11pm\nSaturday: 8am – 8pm\nSunday: 8am – 2pm \nContact: Mitchell Haggard\nPhone: ?\nEmail: haggardmitch3@gmail.com \nContact: Steve Argo\nPhone: ?\nEmail: argosteved@yahoo.com \n \nTrade-O-Ree Flyer\n\n\n    Download the PDF file .
URL:https://www.bsator.com/event/2023-ittawamba-lodge-trade-o-ree-state-tennessee/
LOCATION:Camp Mack Morris\, 455 Camp Mack Morris Rd\, Camden\, TN\, 38320\, United States
ATTACH;FMTTYPE=image/jpeg:https://www.bsator.com/wp-content/uploads/2023/04/IMG_6150.jpg
ORGANIZER;CN="Mitchell Haggard":MAILTO:haggardmitch3@gmail.com
END:VEVENT
BEGIN:VEVENT
DTSTART;TZID=UTC:20230922T170000
DTEND;TZID=UTC:20230923T140000
DTSTAMP:20260425T201639
CREATED:20230324T052513Z
LAST-MODIFIED:20230324T052601Z
UID:10000279-1695402000-1695477600@www.bsator.com
SUMMARY:15th Annual Atlanta Memorabilia Show and Trade-O-Ree
DESCRIPTION:Date: September 22-23\, 2023 \nAddress:\nAtlanta Area Council\n1800 Circle 75 Pkwy\nAtlanta\, GA 30339 \nTimes:\nFriday: 5pm – 10pm\nSaturday: 9am – 2pm \nContact 1: Bruce Lafitte\nEmail: BLafitte1098@gmail.com\nPhone: (404) 697-8994 \n\n \nTrade-O-Ree Flyer\n\n\n    Download the PDF file .
URL:https://www.bsator.com/event/15th-annual-atlanta-memorabilia-show-and-trade-o-ree/
LOCATION:Atlanta Area Council\, BSA\, 1800 Circle 75 Parkway\, SE\, Atlanta\, GA. 30339-3055
ATTACH;FMTTYPE=image/jpeg:https://www.bsator.com/wp-content/uploads/2016/05/IMG_3730.jpg
ORGANIZER;CN="Bruce Lafitte":MAILTO:BLafitte1098@gmail.com
GEO:33.8930409;-84.4650293
X-APPLE-STRUCTURED-LOCATION;VALUE=URI;X-ADDRESS=Atlanta Area Council BSA 1800 Circle 75 Parkway SE Atlanta GA. 30339-3055;X-APPLE-RADIUS=500;X-TITLE=1800 Circle 75 Parkway\, SE:geo:-84.4650293,33.8930409
END:VEVENT
BEGIN:VEVENT
DTSTART;TZID=UTC:20230929T170000
DTEND;TZID=UTC:20230930T140000
DTSTAMP:20260425T201639
CREATED:20230702T141337Z
LAST-MODIFIED:20230702T141337Z
UID:10000489-1696006800-1696082400@www.bsator.com
SUMMARY:2nd Annual Owasippe Staff Association Trade-O-Ree - State: Illinois
DESCRIPTION:Date: September 29-30\, 2023 \nAddress:\nFaith United Methodist Church\n15101 S 80th Ave\nOrland Park\, IL 60462 \nTimes:\nFriday: 5pm – 9:30pm\nSaturday: 9am – 2pm \nThe Owasippe Staff Association\, a 501-c-3 Not-for-Profit Corp\, is running this event as a fundraiser to support its maintenance and restoration programs for Owasippe Scout Reservation in Twin Lake\, MI\, and to support their staff with any program or equipment needs. Please call\, text\, or email with any questions on registration\, facility\, or location. It is located in a church social hall & gym with ramp access\, a concession kitchen & a separate trading room. Access is via the church’s south portico entrance. Tables are 8ft x 32in and we will have an array of 70-80 tables. Silent auctions on Friday and Saturday. Grade level entry into the building with ramp entry into exhibit area\, ie. no stairs\, no elevator. Plenty of parking. Hotel accommodations in the local villages of Orland Park and Tinley Park (I-80 hotel campus). Free pizza party for exhibitors on Friday night. \nContact: Mike Mieszczak\nEmail: master@soaringwinds.com\nPhone: (630) 818-5678 \n\n \nTrade-O-Ree Flyer\n\n\n    Download the PDF file .
URL:https://www.bsator.com/event/2nd-annual-owasippe-staff-association-trade-o-ree-state-illinois/
LOCATION:Faith United Methodist Church\, 15101 S 80th Ave\, Orland Park\, IL\, 60462\, United States
ATTACH;FMTTYPE=image/jpeg:https://www.bsator.com/wp-content/uploads/2016/06/SWAPSHOP_zpsd7821994-4-1.jpg.opt430x360o00s430x360-4-1.jpg
ORGANIZER;CN="Mike Mieszczak":MAILTO:master@soaringwinds.com
END:VEVENT
BEGIN:VEVENT
DTSTART;TZID=UTC:20230929T180000
DTEND;TZID=UTC:20230930T150000
DTSTAMP:20260425T201639
CREATED:20230624T160615Z
LAST-MODIFIED:20250328T053627Z
UID:10000488-1696010400-1696086000@www.bsator.com
SUMMARY:NY Capital District 2023 Scout Memorabilia Trade-O-Ree
DESCRIPTION:Date: September 29-30\, 2023 \nAddress:\nWASHINGTON COUNTY FAIRGROUNDS\n392 Old Schuylerville Road\nGreenwich\, NY 12834 \nTimes:\nFriday: 6pm – 11pm\nSaturday: 9am – 3pm \nContact 1: Robert Pattison\nEmail: pattison_r@yahoo.com\nPhone: (518) 944-5794 \nRegister Now\n\n \nTrade-O-Ree Flyer\n\n\n    Download the PDF file .
URL:https://www.bsator.com/event/ny-capital-district-2023-scout-memorabilia-trade-o-ree/
LOCATION:WASHINGTON COUNTY FAIRGROUNDS\, 392 Old Schuylerville Road\, Greenwich\, NY\, 12834\, United States
ATTACH;FMTTYPE=image/jpeg:https://www.bsator.com/wp-content/uploads/2023/06/385786099_10233437609828571_9140442303049247041_n.jpg
ORGANIZER;CN="Robert Pattison":MAILTO:pattison_r@yahoo.com
END:VEVENT
END:VCALENDAR