BEGIN:VCALENDAR
VERSION:2.0
PRODID:-//Boy Scout Trade-O-Ree Calendar - ECPv6.15.20//NONSGML v1.0//EN
CALSCALE:GREGORIAN
METHOD:PUBLISH
X-ORIGINAL-URL:https://www.bsator.com
X-WR-CALDESC:Events for Boy Scout Trade-O-Ree Calendar
REFRESH-INTERVAL;VALUE=DURATION:PT1H
X-Robots-Tag:noindex
X-PUBLISHED-TTL:PT1H
BEGIN:VTIMEZONE
TZID:UTC
BEGIN:STANDARD
TZOFFSETFROM:+0000
TZOFFSETTO:+0000
TZNAME:UTC
DTSTART:20220101T000000
END:STANDARD
END:VTIMEZONE
BEGIN:VEVENT
DTSTART;TZID=UTC:20231103T080000
DTEND;TZID=UTC:20231104T170000
DTSTAMP:20260425T183146
CREATED:20230624T155753Z
LAST-MODIFIED:20230624T163929Z
UID:10000487-1698998400-1699117200@www.bsator.com
SUMMARY:44th Annual Three Harbors Council Trade-O-Ree - State: Wisconsin
DESCRIPTION:Date: November 3-4\, 2023 \nAddress:\nThree Harbors Council (Walter & Oliver Steimke Service Center / Pieperpower Learning Center)\n330 South 84th Street\nMilwaukee\, WI 53214 \nTimes:\nFriday: 1pm – ?\nSaturday: 9am – 3pm \nContact 1: Marianne Fisher\nEmail: Marianne.Fisher@Scouting.org\nPhone: (414) 774-1776 \nRegister Now\n\n \nTrade-O-Ree Flyer\n\n\n    Download the PDF file .
URL:https://www.bsator.com/event/44th-annual-three-harbors-council-trade-o-ree-state-wisconsin/
LOCATION:Three Harbors Council (PieperPower Learning Center)\, 330 South 84th Street\, Milwaukee\, WI\, 53214\, United States
ATTACH;FMTTYPE=image/png:https://www.bsator.com/wp-content/uploads/2016/06/Trade-O-Ree04.png.opt430x322o00s430x322.png
ORGANIZER;CN="Marianne Mikush":MAILTO:Marianne.Mikush@Scouting.org
GEO:43.0280982;-88.0167449
X-APPLE-STRUCTURED-LOCATION;VALUE=URI;X-ADDRESS=Three Harbors Council (PieperPower Learning Center) 330 South 84th Street Milwaukee WI 53214 United States;X-APPLE-RADIUS=500;X-TITLE=330 South 84th Street:geo:-88.0167449,43.0280982
END:VEVENT
BEGIN:VEVENT
DTSTART;TZID=UTC:20231110T170000
DTEND;TZID=UTC:20231111T150000
DTSTAMP:20260425T183146
CREATED:20230824T200247Z
LAST-MODIFIED:20230824T201648Z
UID:10000289-1699635600-1699714800@www.bsator.com
SUMMARY:2023 Northern California Trade-O-Ree & Memorabilia Auction - State: California
DESCRIPTION:Date: November 10-11\, 2023 \nAddress:\nPalo Alto Service Center\n1305 Middlefield Road\nPalo Alto\, CA 94303 \nTimes:\nFriday: 5pm – 9:30pm\nSaturday: 8:30am – 3pm \nContact 1: David Miura\nEmail: TOR@ohlone63.org\nPhone: (415) 235-4462 \n\nRegister Now\n\n \nTrade-O-Ree Flyer\n\n\n    Download the PDF file .
URL:https://www.bsator.com/event/2023-northern-california-trade-o-ree-memorabilia-auction-state-california/
LOCATION:Palo Alto Service Center\, 1305 Middlefield Road\, Palo Alto\, CA\, 94303\, United States
ATTACH;FMTTYPE=image/jpeg:https://www.bsator.com/wp-content/uploads/2016/06/12052639_10205296876809940_4021707816250912394_o.jpg.opt430x287o00s430x287.jpg
ORGANIZER;CN="David Miura":MAILTO:TOR@ohlone63.org
GEO:37.4445335;-122.1455875
X-APPLE-STRUCTURED-LOCATION;VALUE=URI;X-ADDRESS=Palo Alto Service Center 1305 Middlefield Road Palo Alto CA 94303 United States;X-APPLE-RADIUS=500;X-TITLE=1305 Middlefield Road:geo:-122.1455875,37.4445335
END:VEVENT
BEGIN:VEVENT
DTSTART;TZID=UTC:20231117T170000
DTEND;TZID=UTC:20231118T130000
DTSTAMP:20260425T183146
CREATED:20230824T173304Z
LAST-MODIFIED:20231124T035828Z
UID:10000497-1700240400-1700312400@www.bsator.com
SUMMARY:34th Annual Greater St. Louis Trade-O-Ree – State: Missouri
DESCRIPTION:Date: November 17-18\, 2023 \nAddress:\nEpiphany Catholic Church Community Center\n6596 Smiley Ave.\nSt. Louis\, MO 63139 \nTimes:\nFriday: 5pm – 11pm\nSaturday: 9am – 1pm \nContact: John Remelius\nEmail: jhremo@hotmail.com\nPhone: (314) 504-8898 \nContact: Mike LaTurno\nEmail: elaphe3@gmail.com\nPhone: (314) 481-0358 \nRegister Now\n\n \nTrade-O-Ree Flyer\n\n\n    Download the PDF file .
URL:https://www.bsator.com/event/34th-annual-greater-st-louis-trade-o-ree-state-missouri/
LOCATION:Epiphany Catholic Church Community Center\, 6596 Smiley Ave.\, St. Louis\, MO\, 63139\, United States
ATTACH;FMTTYPE=image/jpeg:https://www.bsator.com/wp-content/uploads/2023/08/IMG_8019-1.jpg
ORGANIZER;CN="John Remelius":MAILTO:jhremo@hotmail.com
GEO:38.607009;-90.3026069
X-APPLE-STRUCTURED-LOCATION;VALUE=URI;X-ADDRESS=Epiphany Catholic Church Community Center 6596 Smiley Ave. St. Louis MO 63139 United States;X-APPLE-RADIUS=500;X-TITLE=6596 Smiley Ave.:geo:-90.3026069,38.607009
END:VEVENT
BEGIN:VEVENT
DTSTART;TZID=UTC:20231118T090000
DTEND;TZID=UTC:20231118T150000
DTSTAMP:20260425T183146
CREATED:20230912T234318Z
LAST-MODIFIED:20230912T234545Z
UID:10000292-1700298000-1700319600@www.bsator.com
SUMMARY:26th Annual Kintecoying Trade-O-Ree – State: New Jersey
DESCRIPTION:Date: November 18\, 2023 \nAddress:\nCamp Alpine (John C Whitehead Dining Hall)\n441 US Highway 9 W\nAlpine\, NJ 07620 \nTimes:\nSaturday: 9am – 3pm (Dealer Set Up: 8:30am) \nContact: Robert Mirabella\nEmail: RJBELLA234@aol.com\nPhone: ? \nAs always this TOR will have free admission to all in order to help boost walk-in attendance. \nKintecoying Lodge #4 has assumed the sponsorship for the long running Shu Shu Gah Lodge #24 TOR and the event will once more be held this November. \nTables are first come first served\, we have sold out of tables the last dozen years. \nKintecoying Lodge will be conducting a live auction at the 2023 TOR. If you are interested in donating items for this auction. \n\nRegister Now\n\n\n    Download the PDF file .
URL:https://www.bsator.com/event/26th-annual-kintecoying-trade-o-ree-state-new-jersey/
LOCATION:Camp Alpine (John C Whitehead Dining Hall)\, 441 US Highway 9 W\, Alpine\, NJ 07620
ATTACH;FMTTYPE=image/jpeg:https://www.bsator.com/wp-content/uploads/2016/11/15133653_1798323937108633_159435161_o.jpg
ORGANIZER;CN="Robert Mirabella":MAILTO:RJBELLA234@aol.com
GEO:40.9502238;-73.8922097
X-APPLE-STRUCTURED-LOCATION;VALUE=URI;X-ADDRESS=Camp Alpine (John C Whitehead Dining Hall) 441 US Highway 9 W Alpine NJ 07620;X-APPLE-RADIUS=500;X-TITLE=441 US Highway 9 W:geo:-73.8922097,40.9502238
END:VEVENT
END:VCALENDAR