BEGIN:VCALENDAR
VERSION:2.0
PRODID:-//Boy Scout Trade-O-Ree Calendar - ECPv6.15.20//NONSGML v1.0//EN
CALSCALE:GREGORIAN
METHOD:PUBLISH
X-ORIGINAL-URL:https://www.bsator.com
X-WR-CALDESC:Events for Boy Scout Trade-O-Ree Calendar
REFRESH-INTERVAL;VALUE=DURATION:PT1H
X-Robots-Tag:noindex
X-PUBLISHED-TTL:PT1H
BEGIN:VTIMEZONE
TZID:UTC
BEGIN:STANDARD
TZOFFSETFROM:+0000
TZOFFSETTO:+0000
TZNAME:UTC
DTSTART:20220101T000000
END:STANDARD
END:VTIMEZONE
BEGIN:VEVENT
DTSTART;TZID=UTC:20231201T130000
DTEND;TZID=UTC:20231202T150000
DTSTAMP:20260425T160802
CREATED:20230702T151320Z
LAST-MODIFIED:20231208T075927Z
UID:10000492-1701435600-1701529200@www.bsator.com
SUMMARY:3rd Annual Toledo Trade-O-Ree - State: Ohio
DESCRIPTION:Date: December 1-2\, 2023 \nAddress:\nProvidence Lutheran Church – Fellowship Hall\n8131 Airport Highway\nHolland\, Ohio 43528 \nTimes:\nFriday: 1pm – 9pm (Vendor Setup: 12pm Noon)\nSaturday: 9am – 3pm (Vendor Setup: 8am) \nContact: Jim Whitehead\nEmail: jcwscouter@sbcglobal.net\nPhone: (419) 350-1944 \nContact: Rick Stewart\nEmail: rsseagle@frontier.com\nPhone: (815) 895-5782 \n\n \nTrade-O-Ree Flyer\n\n\n    Download the PDF file .
URL:https://www.bsator.com/event/3rd-annual-toledo-trade-o-ree-state-ohio/
LOCATION:Providence Lutheran Church – Fellowship Hall\, 8131 Airport Highway\, Holland\, OH\, 43528\, United States
ATTACH;FMTTYPE=image/jpeg:https://www.bsator.com/wp-content/uploads/2023/07/Toledo.jpg
ORGANIZER;CN="Jim Whitehead":MAILTO:jcwscouter@sbcglobal.net
END:VEVENT
BEGIN:VEVENT
DTSTART;TZID=UTC:20231201T150000
DTEND;TZID=UTC:20231202T140000
DTSTAMP:20260425T160802
CREATED:20230324T062606Z
LAST-MODIFIED:20230506T050100Z
UID:10000476-1701442800-1701525600@www.bsator.com
SUMMARY:3rd Annual National Capital Area Scouting Memorabilia Show - State: Virginia
DESCRIPTION:Date: December 1-2\, 2023 \nAddress:\nCamp Snyder (Dining Hall)\n6100 Antioch Road\nHaymarket\, VA 20169\n\nTimes:\nFriday: 3pm – 10pm (Dealer Setup: 2pm – Do not arrive earlier)\nSaturday: 8am – 2pm\n\nContact: Kevin Brendel\nPhone: (703) 919 8626\nEmail: kevinoa470@gmail.com\n\nContact: Todd Rogers\nPhone: (703) 618 4106\nEmail: todd.rogers@gmail.com\n\nPlease join Amangamek Wipit Lodge 470 for our 3rd Annual Trade O Ree & Memorabilia Show!  Tables for dealers and traders are $20 each.  For those wishing to stay in a cabin on Friday night\, bunks are $20.  Attendance is FREE with no registration needed!  Stop out to Camp Snyder and check out the Memorabilia Show!\n\nCost: \n8′ Table – $20 \n6′ Table – $15 \nAdmission – FREE \n\n \nTrade-O-Ree Flyer\n\n\n    Download the PDF file .
URL:https://www.bsator.com/event/3rd-annual-national-capital-area-scouting-memorabilia-show-state-virginia/
LOCATION:Camp Snyder (Dining Hall)\, 6100 Antioch Road\, Haymarket\, VA\, 20169\, United States
ATTACH;FMTTYPE=image/jpeg:https://www.bsator.com/wp-content/uploads/2021/08/IMG_3147.jpg
ORGANIZER;CN="Kevin Brendel":MAILTO:kevinoa470@gmail.com
END:VEVENT
BEGIN:VEVENT
DTSTART;TZID=UTC:20231202T080000
DTEND;TZID=UTC:20231202T160000
DTSTAMP:20260425T160802
CREATED:20231025T180802Z
LAST-MODIFIED:20231208T080135Z
UID:10000504-1701504000-1701532800@www.bsator.com
SUMMARY:Pine Island Scout Trade-O-Ree - State: Minnesota
DESCRIPTION:Date: December 2\, 2023 \nAddress:\nUnited Methodist Church\n200 N. Main St.\nPine Island\, MN 55963 \nTimes:\nSaturday: 8am – 4pm \nContact: Evan Goranson\nEmail: egoranson.scout@gmail.com\nPhone: (507) 601-9115 \n\n \nTrade-O-Ree Flyer\n\n\n    Download the PDF file .
URL:https://www.bsator.com/event/pine-island-scout-trade-o-ree-state-minnesota/
LOCATION:United Methodist Church\, 200 N. Main St.\, Pine Island\, MN\, 55963\, United States
ATTACH;FMTTYPE=image/jpeg:https://www.bsator.com/wp-content/uploads/2023/10/406777208_339220862057389_9007983769159976118_n.jpg
ORGANIZER;CN="Evan Goranson":MAILTO:egoranson.scout@gmail.com
END:VEVENT
BEGIN:VEVENT
DTSTART;TZID=UTC:20231208T180000
DTEND;TZID=UTC:20231209T140000
DTSTAMP:20260425T160802
CREATED:20230324T061746Z
LAST-MODIFIED:20230324T062139Z
UID:10000475-1702058400-1702130400@www.bsator.com
SUMMARY:30th Annual Old Hickory Trade-O-Ree - State: North Carolina
DESCRIPTION:Date: December 8-9\, 2023 \nAddress:\nHopewell Moravian Church\n701 Hopewell Church Rd\nWinston-Salem\, NC 27127 \nTimes:\nFriday: 6pm – 11pm\nSaturday: 9am – 2pm \nContact: Matt White\nEmail: mbwhite118@aol.com\nPhone: (336) 399-6041 \nRegister Now\n\n \nTrade-O-Ree Flyer
URL:https://www.bsator.com/event/30th-annual-old-hickory-trade-o-ree-state-north-carolina/
LOCATION:Hopewell Moravian Church\, 701 Hopewell Church Rd.\, Winston-Salem\, NC\, 27127\, United States
ATTACH;FMTTYPE=image/jpeg:https://www.bsator.com/wp-content/uploads/2016/12/15338742_10102526705973068_7762759780516699252.jpg
ORGANIZER;CN="Matt White":MAILTO:mbwhite118@aol.com
GEO:36.014043;-80.247395
X-APPLE-STRUCTURED-LOCATION;VALUE=URI;X-ADDRESS=Hopewell Moravian Church 701 Hopewell Church Rd. Winston-Salem NC 27127 United States;X-APPLE-RADIUS=500;X-TITLE=701 Hopewell Church Rd.:geo:-80.247395,36.014043
END:VEVENT
END:VCALENDAR