BEGIN:VCALENDAR
VERSION:2.0
PRODID:-//Boy Scout Trade-O-Ree Calendar - ECPv6.15.20//NONSGML v1.0//EN
CALSCALE:GREGORIAN
METHOD:PUBLISH
X-WR-CALNAME:Boy Scout Trade-O-Ree Calendar
X-ORIGINAL-URL:https://www.bsator.com
X-WR-CALDESC:Events for Boy Scout Trade-O-Ree Calendar
REFRESH-INTERVAL;VALUE=DURATION:PT1H
X-Robots-Tag:noindex
X-PUBLISHED-TTL:PT1H
BEGIN:VTIMEZONE
TZID:UTC
BEGIN:STANDARD
TZOFFSETFROM:+0000
TZOFFSETTO:+0000
TZNAME:UTC
DTSTART:20230101T000000
END:STANDARD
END:VTIMEZONE
BEGIN:VEVENT
DTSTART;TZID=UTC:20240202T160000
DTEND;TZID=UTC:20240203T150000
DTSTAMP:20260425T124250
CREATED:20230824T171728Z
LAST-MODIFIED:20230824T174044Z
UID:10000496-1706889600-1706972400@www.bsator.com
SUMMARY:31st Annual Crossroads of America Trade-O-Ree - State: Indiana
DESCRIPTION:Date: February 2-3\, 2024 \nNEW LOCATION\nAddress:\nBoone County Fairgrounds\n1300 E 100 South\nLebanon\, IN 46052 \nTimes:\nFriday:  4pm – 9pm (Doors Open at 12pm for Table Vendors)\nSaturday: 8am – 3pm \nContact 2: Rob Tankersley\nEmail: torinfo@cacin.us\nPhone: (317) 813-7125 \n\n \nTrade-O-Ree Flyer\n\n\n    Download the PDF file .
URL:https://www.bsator.com/event/31st-annual-crossroads-of-america-trade-o-ree-state-indiana/
LOCATION:Boone County Fairgrounds\, 1300 E 100 South\, Lebanon\, IN\, 46052\, United States
ATTACH;FMTTYPE=image/jpeg:https://www.bsator.com/wp-content/uploads/2021/11/IMG_5837a.jpg
ORGANIZER;CN="Rob Tankersley":MAILTO:torinfo@cacin.us
END:VEVENT
BEGIN:VEVENT
DTSTART;TZID=UTC:20240202T183000
DTEND;TZID=UTC:20240203T150000
DTSTAMP:20260425T124250
CREATED:20231207T233216Z
LAST-MODIFIED:20231207T233226Z
UID:10000509-1706898600-1706972400@www.bsator.com
SUMMARY:2024 Wiatava Lodge Trade-O-Ree - State: California
DESCRIPTION:Date: February 2-3\, 2024 \nAddress:\nSt. Bonaventure Catholic Church\n16400 Springdale St\nHuntington Beach\, CA 92649 \nTimes:\nFriday: 6:30pm – 10pm\nSaturday: 8am – 3pm \nContact: Brian Holmes\nEmail: cdoobrian@yahoo.com\nPhone: ? \n\n \nTrade-O-Ree Flyer\n\n\n    Download the PDF file .
URL:https://www.bsator.com/event/2024-wiatava-lodge-trade-o-ree-state-california/
LOCATION:St. Bonaventure Catholic Church\, 16400 Springdale St\, Huntington Beach\, CA\, 92649\, United States
ATTACH;FMTTYPE=image/jpeg:https://www.bsator.com/wp-content/uploads/2016/05/12764659_10205642706695471_8217570526336779486_o.jpg.opt415x277o00s415x277.jpg
ORGANIZER;CN="Brian Holmes":MAILTO:cdoobrian@yahoo.com
END:VEVENT
BEGIN:VEVENT
DTSTART;TZID=UTC:20240209T170000
DTEND;TZID=UTC:20240210T150000
DTSTAMP:20260425T124250
CREATED:20231006T031717Z
LAST-MODIFIED:20231006T033803Z
UID:10000297-1707498000-1707577200@www.bsator.com
SUMMARY:2024 Old North State Trade-O-Ree - State: North Carolina
DESCRIPTION:Date: February 9-10\, 2024 \nAddress:\nJamestown Presbyterian Church\n1804 Guilford College Road\nJamestown\, NC 27282 \nTimes:\nFriday: 5pm – 11pm\nSaturday: 9am – 3pm \nContact: Jason Hardy\nEmail: jshardy31@gmail.com\nPhone: (336) 451-7710 \n\n \nTrade-O-Ree Flyer\n\n\n    Download the PDF file .
URL:https://www.bsator.com/event/2024-old-north-state-trade-o-ree-state-north-carolina/
LOCATION:Jamestown Presbyterian Church\, 1804 Guilford College Road\, Jamestown\, NC\, 27282\, United States
ATTACH;FMTTYPE=image/jpeg:https://www.bsator.com/wp-content/uploads/2016/06/SWAPSHOP_zpsd7821994-4-1.jpg.opt430x360o00s430x360-4-1.jpg
ORGANIZER;CN="Jason Hardy":MAILTO:jshardy31@gmail.com
END:VEVENT
BEGIN:VEVENT
DTSTART;TZID=UTC:20240217T100000
DTEND;TZID=UTC:20240218T140000
DTSTAMP:20260425T124250
CREATED:20230331T035720Z
LAST-MODIFIED:20230331T035814Z
UID:10000478-1708164000-1708264800@www.bsator.com
SUMMARY:4th Annual Greater Tampa Bay Area Trade-O-Ree - State: Florida
DESCRIPTION:Date: February 17-18\, 2024 \nAddress:\nCamp Soule\n2201 Soule Road\nClearwater\, FL 33759 \nTimes:\nSaturday: 10am – 11pm\nSunday: 9am – 2pm \nContact 1: Tim Faughnan\nEmail: tim.faughnan@gmail.com\nPhone: (727) 534-6942 \n\n    Download the PDF file .
URL:https://www.bsator.com/event/4th-annual-greater-tampa-bay-area-trade-o-ree-state-florida-2/
LOCATION:Camp Soule\, 2201 Soule Road\, Clearwater\, FL\, 33759\, United States
ATTACH;FMTTYPE=image/jpeg:https://www.bsator.com/wp-content/uploads/2018/05/44426272_252452038787415_7503875832587223040_n.jpg
ORGANIZER;CN="Tim Faughnan":MAILTO:tim.faughnan@gmail.com
END:VEVENT
BEGIN:VEVENT
DTSTART;TZID=UTC:20240223T160000
DTEND;TZID=UTC:20240224T150000
DTSTAMP:20260425T124250
CREATED:20230912T202852Z
LAST-MODIFIED:20230912T202852Z
UID:10000291-1708704000-1708786800@www.bsator.com
SUMMARY:2024 Virginia Beach Trade-O-Ree - State: Virginia
DESCRIPTION:Date: February 23-24\, 2024 \nAddress:\nChurch of the Ascension Community Center\n4853 Princess Anne Road\nVirginia Beach\, VA 23462 \nTimes:\nFriday: 4pm – 11pm\nSaturday: 8am – 3pm \nContact: John Ortt\nEmail: jortt@cox.net\nPhone: (757) 496-9540 \nContact: Mike Scott\nEmail: kd4nfx@juno.com\nPhone: (757) 420-2039 \n\n \nTrade-O-Ree Flyer\n\n\n    Download the PDF file .
URL:https://www.bsator.com/event/2024-virginia-beach-trade-o-ree-state-virginia/
LOCATION:Church of the Ascension Community Center\, 4853 Princess Anne Road\, Virginia Beach\, VA\, 23462\, United States
ATTACH;FMTTYPE=image/jpeg:https://www.bsator.com/wp-content/uploads/2019/08/89071001_190553958919743_6542551354471088128_n.jpg
ORGANIZER;CN="John Ortt":MAILTO:jortt@cox.net
END:VEVENT
BEGIN:VEVENT
DTSTART;TZID=UTC:20240223T170000
DTEND;TZID=UTC:20240224T150000
DTSTAMP:20260425T124250
CREATED:20231124T034728Z
LAST-MODIFIED:20231124T034908Z
UID:10000508-1708707600-1708786800@www.bsator.com
SUMMARY:21st Annual Twin Cities Area Trade-O-Ree – State: Minnesota
DESCRIPTION:Date: February 23-24\, 2024 \nAddress:\nSt. James Lutheran Church\n3650 Williams Drive\nBurnsville\, MN 55378 \nTimes:\nFriday: 5pm – 10pm\nSaturday: 8am – 3pm \nContact 1: Bob & Jan Hannah\nEmail: janhannah32@hotmail.com\nPhone: (952) 894-2720 \nRegister Now\n \nTrade-O-Ree Flyer\n\n\n    Download the PDF file .
URL:https://www.bsator.com/event/21st-annual-twin-cities-area-trade-o-ree-state-minnesota/
LOCATION:St. James Lutheran Church\, 3650 Williams Drive\, Burnsville\, MN\, 55378\, United States
ATTACH;FMTTYPE=image/jpeg:https://www.bsator.com/wp-content/uploads/2018/02/28164576_10212901276581636_2417367282102817170_o.jpg
ORGANIZER;CN="Bob & Jan Hannah":MAILTO:proscout@hotmail.com
GEO:44.768427;-93.3259728
X-APPLE-STRUCTURED-LOCATION;VALUE=URI;X-ADDRESS=St. James Lutheran Church 3650 Williams Drive Burnsville MN 55378 United States;X-APPLE-RADIUS=500;X-TITLE=3650 Williams Drive:geo:-93.3259728,44.768427
END:VEVENT
END:VCALENDAR