BEGIN:VCALENDAR
VERSION:2.0
PRODID:-//Boy Scout Trade-O-Ree Calendar - ECPv6.15.20//NONSGML v1.0//EN
CALSCALE:GREGORIAN
METHOD:PUBLISH
X-WR-CALNAME:Boy Scout Trade-O-Ree Calendar
X-ORIGINAL-URL:https://www.bsator.com
X-WR-CALDESC:Events for Boy Scout Trade-O-Ree Calendar
REFRESH-INTERVAL;VALUE=DURATION:PT1H
X-Robots-Tag:noindex
X-PUBLISHED-TTL:PT1H
BEGIN:VTIMEZONE
TZID:UTC
BEGIN:STANDARD
TZOFFSETFROM:+0000
TZOFFSETTO:+0000
TZNAME:UTC
DTSTART:20230101T000000
END:STANDARD
END:VTIMEZONE
BEGIN:VEVENT
DTSTART;TZID=UTC:20240816T160000
DTEND;TZID=UTC:20240817T150000
DTSTAMP:20260425T031920
CREATED:20231006T050849Z
LAST-MODIFIED:20240707T155508Z
UID:10000501-1723824000-1723906800@www.bsator.com
SUMMARY:11th Annual Occoneechee Lodge 104 Trade-O-Ree – State: North Carolina
DESCRIPTION:Date: August 16-17\, 2024 \nAddress:\nCamp Durant (Grand Lodge Dining Hall)\n4637 Old Carthage Rd.\nCarthage\, NC 28327 \nTimes:\nFriday: 4pm – 12am (Vendor Setup: 3pm)\nSaturday: 9am – 3pm \nReserve Tables / Meals By Visiting: https://store.lodge104.net/shop/trade-o-ree/
URL:https://www.bsator.com/event/11th-annual-occoneechee-lodge-104-trade-o-ree-state-north-carolina/
LOCATION:Camp Durant (Grand Lodge Dining Hall)\, 4637 Old Carthage Rd.\, Carthage\, NC 28327
ATTACH;FMTTYPE=image/jpeg:https://www.bsator.com/wp-content/uploads/2016/12/14064311_10209258917261489_4956445438124930068_n.jpg
ORGANIZER;CN="Matt Breneman":MAILTO:mkbreneman@aol.com
GEO:35.3421553;-79.5534724
X-APPLE-STRUCTURED-LOCATION;VALUE=URI;X-ADDRESS=Camp Durant (Grand Lodge Dining Hall) 4637 Old Carthage Rd. Carthage NC 28327;X-APPLE-RADIUS=500;X-TITLE=4637 Old Carthage Rd.:geo:-79.5534724,35.3421553
END:VEVENT
BEGIN:VEVENT
DTSTART;TZID=UTC:20240823T120000
DTEND;TZID=UTC:20240824T160000
DTSTAMP:20260425T031920
CREATED:20231231T053437Z
LAST-MODIFIED:20240929T040321Z
UID:10000522-1724414400-1724515200@www.bsator.com
SUMMARY:2nd Annual Sagamore Trade-O-Ree - State: Indiana
DESCRIPTION:Date: August 23-24\, 2024 \nAddress:\nFranklin L. Cary Camp Dining Hall\n6286 State Road 26 East\nLafayette\, Indiana 47905 \nTimes:\nFriday: 12pm – 9pm\nSaturday: 8am – 4pm \nContact: Stephen Bowman\nEmail: stephenwbowman@yahoo.com\nPhone: ? \n\n \nTrade-O-Ree Flyer\n\n\n    Download the PDF file .
URL:https://www.bsator.com/event/2nd-annual-sagamore-trade-o-ree-state-indiana/
LOCATION:Franklin L. Cary Camp Dining Hall\, 6286 State Road 26 East\, Lafayette\, IN\, 47905\, United States
ATTACH;FMTTYPE=image/jpeg:https://www.bsator.com/wp-content/uploads/2023/12/456693218_10227694607503152_1878003914143022246_n.jpg
ORGANIZER;CN="Stephen Bowman":MAILTO:stephenwbowman@yahoo.com
END:VEVENT
BEGIN:VEVENT
DTSTART;TZID=UTC:20240823T163000
DTEND;TZID=UTC:20240824T140000
DTSTAMP:20260425T031920
CREATED:20240201T183044Z
LAST-MODIFIED:20240201T183044Z
UID:10000318-1724430600-1724508000@www.bsator.com
SUMMARY:Unami Lodge One - 2024 Scout Memorabilia Show - State: Pennsylvania
DESCRIPTION:Date: August 23-24\, 2024 \nAddress:\nEmmanuel Lutheran Church\n150 N Hanover Street\nPottstown\, Pennsylvania 19464 \nTimes:\nFriday: 4:30pm – 9:30pm\nSaturday: 8am – 2pm \nContact: Rhys Wallace\nEmail: rcw2email@gmail.com\nPhone: (610) 906-9140 \n\n \nTrade-O-Ree Flyer\n\n\n    Download the PDF file .
URL:https://www.bsator.com/event/unami-lodge-one-2024-scout-memorabilia-show-state-pennsylvania/
LOCATION:Emmanuel Lutheran Church\, 150 N Hanover Street\, Pottstown\, PA\, 19464\, United States
ATTACH;FMTTYPE=image/jpeg:https://www.bsator.com/wp-content/uploads/2016/05/1540443_10204174328632508_6809621361728788690_o.jpg.opt431x322o00s431x322.jpg
ORGANIZER;CN="Rhys Wallace":MAILTO:rcw2email@gmail.com
END:VEVENT
BEGIN:VEVENT
DTSTART;TZID=UTC:20240830T080000
DTEND;TZID=UTC:20240831T170000
DTSTAMP:20260425T031920
CREATED:20240209T022811Z
LAST-MODIFIED:20240209T022908Z
UID:10000326-1725004800-1725123600@www.bsator.com
SUMMARY:18th Annual Capitol Area Trade-O-Ree - State: Texas
DESCRIPTION:Date: August 30-31\, 2024 \nAddress:\nFrank Fickett Scout Training & Service Center\n12500 N-IH 35\nAustin\, TX 78753 \nTimes:\nFriday: 12pm – 10pm\nSaturday: 9am – 2pm \nContact: Jim Sylvester\nEmail: swtsu88@aol.com\nPhone: (512) 650-5591 \n\n \nTrade-O-Ree Flyer\n\n\n    Download the PDF file .
URL:https://www.bsator.com/event/18th-annual-capitol-area-trade-o-ree-state-texas/
LOCATION:Frank Fickett Scout Training & Service Center\, 12500 N IH 35\, Austin\, TX\, 78753\, United States
ATTACH;FMTTYPE=image/jpeg:https://www.bsator.com/wp-content/uploads/2016/05/10322761_10203640636091151_1542785950943790072_n.jpg
ORGANIZER;CN="Jim Sylvester":MAILTO:Jim.Sylvester@co.travis.tx.us
GEO:30.4057864;-97.6760917
X-APPLE-STRUCTURED-LOCATION;VALUE=URI;X-ADDRESS=Frank Fickett Scout Training & Service Center 12500 N IH 35 Austin TX 78753 United States;X-APPLE-RADIUS=500;X-TITLE=12500 N IH 35:geo:-97.6760917,30.4057864
END:VEVENT
END:VCALENDAR