BEGIN:VCALENDAR
VERSION:2.0
PRODID:-//Boy Scout Trade-O-Ree Calendar - ECPv6.15.20//NONSGML v1.0//EN
CALSCALE:GREGORIAN
METHOD:PUBLISH
X-ORIGINAL-URL:https://www.bsator.com
X-WR-CALDESC:Events for Boy Scout Trade-O-Ree Calendar
REFRESH-INTERVAL;VALUE=DURATION:PT1H
X-Robots-Tag:noindex
X-PUBLISHED-TTL:PT1H
BEGIN:VTIMEZONE
TZID:UTC
BEGIN:STANDARD
TZOFFSETFROM:+0000
TZOFFSETTO:+0000
TZNAME:UTC
DTSTART:20240101T000000
END:STANDARD
END:VTIMEZONE
BEGIN:VEVENT
DTSTART;TZID=UTC:20250228T100000
DTEND;TZID=UTC:20250301T150000
DTSTAMP:20260424T160050
CREATED:20250119T060751Z
LAST-MODIFIED:20250120T032711Z
UID:10000361-1740736800-1740841200@www.bsator.com
SUMMARY:2025 Ma-Nu Lodge Trade-O-Ree - State: Oklahoma
DESCRIPTION:Date: February 28 – March 1\, 2025 \nAddress:\nLast Frontier Council Office\n3031 NW 64th Street\nOklahoma City\, OK 73116 \nTimes:\nFriday: 10am – 10pm\nSaturday: 9am – 3pm \nContact 1: Eric Davis\nEmail: 434scout@gmail.com\nPhone: (580) 656-1758 \n\n \nTrade-O-Ree Flyer\n\n\n    Download the PDF file .
URL:https://www.bsator.com/event/2025-ma-nu-lodge-trade-o-ree-state-oklahoma/
LOCATION:Last Frontier Council Office\, 3031 NW 64th Street\, Oklahoma City\, OK\, 73116\, United States
ATTACH;FMTTYPE=image/jpeg:https://www.bsator.com/wp-content/uploads/2022/01/270434404_874807573188522_6595588138854289241_n-1.jpg
ORGANIZER;CN="Eric Davis":MAILTO:434scout@gmail.com
END:VEVENT
BEGIN:VEVENT
DTSTART;TZID=UTC:20250228T130000
DTEND;TZID=UTC:20250301T160000
DTSTAMP:20260424T160050
CREATED:20240822T023747Z
LAST-MODIFIED:20240904T021947Z
UID:10000545-1740747600-1740844800@www.bsator.com
SUMMARY:23rd Annual Friends of J.N. Webster Trade-O-Ree - State: Connecticut
DESCRIPTION:Date: February 28 – March 1\, 2025 \nAddress:\nJN Webster Scout Reservation\n231 Ashford Center Rd (RT44)\nAshford\, CT 06278 \nTimes:\nFriday: 1pm – 10pm (Dealer Setup: 12pm)\nSaturday: 8am – 4pm \nContact 1: Paul or Harry Segerstrom\nEmail: paratrooper325@netzero.net\nPhone: (860) 822-6235 \nLots of Free Parking\, Museum and Trading Post will be open during the show\, Youth only Silent auction Sat. morning\, Live auction Sat. afternoon\, food and snacks available\, handicap accessible\, Well Attended Show\, 70+ Tables\, Bunks for dealers in our heated Cabins $10.00 and a limited number of 2 person rooms $30.00\, Dealer setup at Noon. \nRegister Now\n\n \nTrade-O-Ree Flyer\n\n\n    Download the PDF file .
URL:https://www.bsator.com/event/23rd-annual-friends-of-j-n-webster-trade-o-ree-state-connecticut/
LOCATION:JN Webster Scout Reservation\, 231 Ashford Center Rd (RT44)\, Ashford\, CT\, 06278\, United States
ATTACH;FMTTYPE=image/jpeg:https://www.bsator.com/wp-content/uploads/2024/08/330452058_3558163764415736_7779330300667704265_n.jpg
ORGANIZER;CN="Harry Segerstrom":MAILTO:paratrooper325@netzero.net
GEO:41.8719597;-72.1419496
X-APPLE-STRUCTURED-LOCATION;VALUE=URI;X-ADDRESS=JN Webster Scout Reservation 231 Ashford Center Rd (RT44) Ashford CT 06278 United States;X-APPLE-RADIUS=500;X-TITLE=231 Ashford Center Rd (RT44):geo:-72.1419496,41.8719597
END:VEVENT
BEGIN:VEVENT
DTSTART;TZID=UTC:20250228T170000
DTEND;TZID=UTC:20250301T130000
DTSTAMP:20260424T160050
CREATED:20241122T050130Z
LAST-MODIFIED:20250303T154154Z
UID:10000558-1740762000-1740834000@www.bsator.com
SUMMARY:Troop 85 Trade-O-Ree - State: Mississippi
DESCRIPTION:Date: February 28 – March 1\, 2025 \nAddress:\nVictory Congressional Methodist Church\n125 MS-469\nFlorence\, MS 39073 \nTimes:\nFriday:  5pm – 10pm\nSaturday: 7am – 1pm \nContact: Cody Holliday\nEmail: 2015rolly@gmail.com\nPhone: (601) 926-7330 \n\n \nTrade-O-Ree Flyer\n\n\n    Download the PDF file .
URL:https://www.bsator.com/event/troop-85-trade-o-ree-state-mississippi/
LOCATION:Victory Congressional Methodist Church\, 125 MS-469\, Florence\, MS\, 39073\, United States
ATTACH;FMTTYPE=image/jpeg:https://www.bsator.com/wp-content/uploads/2024/11/IMG_0794.jpg
ORGANIZER;CN="Cody Holliday":MAILTO:2015rolly@gmail.com
END:VEVENT
BEGIN:VEVENT
DTSTART;TZID=UTC:20250307T160000
DTEND;TZID=UTC:20250308T140000
DTSTAMP:20260424T160050
CREATED:20250321T141716Z
LAST-MODIFIED:20250321T141716Z
UID:10000575-1741363200-1741442400@www.bsator.com
SUMMARY:2025 Girl Scout Collectors Show - State: North Carolina
DESCRIPTION:Date: March 7-8\, 2025 \nAddress:\nTrinity Reformed Church of Christ\n217 2nd Ave NE\nConover\, NC 28613 \nTimes:\nFriday: 4pm – 8pm\nSaturday: 9am – 2pm \nContact 1: Becky Byrns\nEmail: GSShow@aol.com\nPhone: (828) 569-2035 \nRegister Now\n\n    Download the PDF file .
URL:https://www.bsator.com/event/2025-girl-scout-collectors-show-state-north-carolina/
LOCATION:Trinity Reformed Church of Christ\, 217 2nd Ave NE\, Conover\, NC 28613
ATTACH;FMTTYPE=image/jpeg:https://www.bsator.com/wp-content/uploads/2018/12/46508259_10212729489408998_2116976435166969856_o.jpg
ORGANIZER;CN="Becky Byrns":MAILTO:GSShow@aol.com
GEO:35.709376;-81.214855
X-APPLE-STRUCTURED-LOCATION;VALUE=URI;X-ADDRESS=Trinity Reformed Church of Christ 217 2nd Ave NE Conover NC 28613;X-APPLE-RADIUS=500;X-TITLE=217 2nd Ave NE:geo:-81.214855,35.709376
END:VEVENT
BEGIN:VEVENT
DTSTART;TZID=UTC:20250307T160000
DTEND;TZID=UTC:20250308T160000
DTSTAMP:20260424T160050
CREATED:20240527T173804Z
LAST-MODIFIED:20240707T172538Z
UID:10000531-1741363200-1741449600@www.bsator.com
SUMMARY:16th Annual Michigan Crossroads Council Trade-O-Ree
DESCRIPTION:Date: March 7-8\, 2025 \nAddress:\nD-Bar-A Scout Ranch (Wyckoff Lodge Dining Hall)\n880 E. Sutton Road\nMetamora\, MI 48455 \nTimes:\nFriday: 4pm – 11pm\nSaturday: 8am – 4pm \nContact 1: Scott Wheeler\nEmail: panterat97@juno.com\nPhone: (586) 817-0654 \nContact 2: Denver Laabs\nEmail: Denver.laabs@scouting.org\nPhone: (313) 723-1488 \n\n \nTrade-O-Ree Flyer\n\n\n    Download the PDF file .
URL:https://www.bsator.com/event/16th-annual-michigan-crossroads-council-trade-o-ree/
LOCATION:D-Bar-A Scout Ranch (Wyckoff Lodge Dining Hall)\, 880 E. Sutton Road\, Metamora\, MI 48455
ATTACH;FMTTYPE=image/jpeg:https://www.bsator.com/wp-content/uploads/2021/11/IMG_0295a.jpg
ORGANIZER;CN="Scott Wheeler":MAILTO:panterat97@juno.com
GEO:42.9717489;-83.2579737
X-APPLE-STRUCTURED-LOCATION;VALUE=URI;X-ADDRESS=D-Bar-A Scout Ranch (Wyckoff Lodge Dining Hall) 880 E. Sutton Road Metamora MI 48455;X-APPLE-RADIUS=500;X-TITLE=880 E. Sutton Road:geo:-83.2579737,42.9717489
END:VEVENT
BEGIN:VEVENT
DTSTART;TZID=UTC:20250307T190000
DTEND;TZID=UTC:20250308T140000
DTSTAMP:20260424T160050
CREATED:20241103T044600Z
LAST-MODIFIED:20250204T180658Z
UID:10000555-1741374000-1741442400@www.bsator.com
SUMMARY:6th Annual Tuku'ut Lodge 33 Trade-O-Ree - State: California
DESCRIPTION:Date: March 7-8\, 2025 \nAddress:\nFoothill Vineyard Church\n100 E. Foothill Blvd.\nSan Dimas\, CA 91773 \nTimes:\nFriday: 7pm – 10pm\nSaturday: 8am – 2pm \nContact: Louis Smith\nEmail: mrlionel@aol.com\nPhone: (562) 698-8653 \nContact: Zack Johnson (OA Lodge Advisor)\nEmail: cheeseheadzack@aol.com\nPhone: (909) 802-9378 \n\n \nTrade-O-Ree Flyer\n\n\n    Download the PDF file .
URL:https://www.bsator.com/event/6th-annual-tukuut-lodge-33-trade-o-ree-state-california/
LOCATION:Foothill Vineyard Church\, 100 E. Foothill Blvd.\, San Dimas\, CA\, 91773\, United States
ATTACH;FMTTYPE=image/png:https://www.bsator.com/wp-content/uploads/2024/11/cw_center1-e1600732030488.png
ORGANIZER;CN="Louis Smith":MAILTO:mrlionel@aol.com
END:VEVENT
BEGIN:VEVENT
DTSTART;TZID=UTC:20250314T140000
DTEND;TZID=UTC:20250314T160000
DTSTAMP:20260424T160050
CREATED:20240720T045027Z
LAST-MODIFIED:20241216T033707Z
UID:10000536-1741960800-1741968000@www.bsator.com
SUMMARY:2025 Nguttitehen Lodge Trade-O-Ree - State: Kentucky
DESCRIPTION:Date: March 14-15\, 2025 \nAddress:\nCamp Crooked Creek Dining Hall\n950 Terry Drive\nShepherdsville\, KY 40165 \nTimes:\nFriday: 2pm – 10pm\nSaturday: 8am – 4pm \nContact: Brandon Hayes\nEmail: mr.bmhayes@gmail.com\nPhone: (270) 210-2310\n\nThe 3rd Annual Kentucky Trade-O-Ree\, hosted by Nguttitehen Lodge. March 14-15\, 2025 at Camp Crooked Creek outside of Louisville\, KY.\n8′ Tables are available for $20 each.\nFree tent camping. Bunks in our camp staff cabins are also available to rent at $10 per person for Friday night.\nMeal passes for Friday dinner\, Saturday breakfast\, and Saturday lunch are also available.\nWe will offer several merit badges for youth attending throughout the event.\nThe lodge trading post will be available.\nThere will be a silent auction running on Friday and Saturday. If you are interested in donating items\, please reach out to Brandon Hayes.\n\n \nTrade-O-Ree Flyer\n\n\n    Download the PDF file .
URL:https://www.bsator.com/event/2025-nguttitehen-lodge-trade-o-ree-state-kentucky/
LOCATION:Camp Crooked Creek Dining Hall\, 950 Terry Drive\, Shepherdsville\, KY\, 40165\, United States
ATTACH;FMTTYPE=image/jpeg:https://www.bsator.com/wp-content/uploads/2022/11/IMG_5729-1.jpg
ORGANIZER;CN="Brandon Hayes":MAILTO:mr.bmhayes@gmail.com
END:VEVENT
BEGIN:VEVENT
DTSTART;TZID=UTC:20250314T140000
DTEND;TZID=UTC:20250315T140000
DTSTAMP:20260424T160050
CREATED:20240209T024702Z
LAST-MODIFIED:20250114T175626Z
UID:10000330-1741960800-1742047200@www.bsator.com
SUMMARY:41st Annual Pittsburgh Trade-O-Ree - State: Pennsylvania
DESCRIPTION:Date: March 14-15\, 2025 \nAddress:\nThe Orchard at Oak Ridge\n1214 Oakridge Rd.\nMcDonald\, PA 15057 \nTimes:\nFriday: 2pm – 12am (Midnight)\nSaturday: 8:30am – 2pm \nContact: Todd Rogers\nEmail: trogers17@gmail.com\nPhone: (703) 618-4106 \nRegister Now\n\n \nTrade-O-Ree Flyer\n\n\n    Download the PDF file .
URL:https://www.bsator.com/event/41st-annual-pittsburgh-trade-o-ree-state-pennsylvania/
LOCATION:The Orchard at Oak Ridge\, 1214 Oakridge Rd.\, McDonald\, 15057\, United States
ATTACH;FMTTYPE=image/jpeg:https://www.bsator.com/wp-content/uploads/2016/05/1933334_1717737895110489_7154625735922781739_o.jpg.opt415x311o00s415x311.jpg
ORGANIZER;CN="Todd Rogers":MAILTO:todd.rogers@gmail.com
END:VEVENT
BEGIN:VEVENT
DTSTART;TZID=UTC:20250315T090000
DTEND;TZID=UTC:20250315T150000
DTSTAMP:20260424T160050
CREATED:20250204T184129Z
LAST-MODIFIED:20250205T155521Z
UID:10000567-1742029200-1742050800@www.bsator.com
SUMMARY:44th Annual Northeast Trade-O-Ree - State: New Jersey
DESCRIPTION:Date: March 15\, 2025 \nAddress:\nOur Lady of Consolation\n1799 Hamburg Turnpike\nWayne\, New Jersey 07470 \nTimes:\nSaturday: 9am – 3pm \nTable Registration: https://scoutingevent.com/333-79282 \nContact: Wayne Wharton\nEmail: wayne.wharton@verizon.net\nPhone: (201) 891-4076 \n\n \nTrade-O-Ree Flyer\n\n\n    Download the PDF file .
URL:https://www.bsator.com/event/44th-annual-northeast-trade-o-ree-state-new-jersey/
LOCATION:Our Lady of Consolation\, 1799 Hamburg Turnpike\, Wayne\, NJ\, 07470\, United States
ATTACH;FMTTYPE=image/jpeg:https://www.bsator.com/wp-content/uploads/2023/02/53910544_392176534929495_7993848742551748608.jpg
ORGANIZER;CN="Wayne Wharton":MAILTO:wayne.wharton@verizon.net
END:VEVENT
END:VCALENDAR