BEGIN:VCALENDAR
VERSION:2.0
PRODID:-//Boy Scout Trade-O-Ree Calendar - ECPv6.15.20//NONSGML v1.0//EN
CALSCALE:GREGORIAN
METHOD:PUBLISH
X-ORIGINAL-URL:https://www.bsator.com
X-WR-CALDESC:Events for Boy Scout Trade-O-Ree Calendar
REFRESH-INTERVAL;VALUE=DURATION:PT1H
X-Robots-Tag:noindex
X-PUBLISHED-TTL:PT1H
BEGIN:VTIMEZONE
TZID:UTC
BEGIN:STANDARD
TZOFFSETFROM:+0000
TZOFFSETTO:+0000
TZNAME:UTC
DTSTART:20240101T000000
END:STANDARD
END:VTIMEZONE
BEGIN:VEVENT
DTSTART;TZID=UTC:20250404T140000
DTEND;TZID=UTC:20250405T150000
DTSTAMP:20260424T111543
CREATED:20240922T022355Z
LAST-MODIFIED:20240922T022355Z
UID:10000550-1743775200-1743865200@www.bsator.com
SUMMARY:25th Annual Midwest Tradefest - State: Wisconsin
DESCRIPTION:Date: April 4-5\, 2025 \nAddress:\nRock County Fairgrounds	– Craig Center\n1301 Craig Avenue\nJanesville\, WI 53545 \nNew Town * New Location * Ample Parking \nTimes:\nFriday: 2pm – 9pm\nSaturday: 8am – 3pm \nContact: Kurt Hansen\nEmail: kwh96@hotmail.com\nPhone: (608) 770-4957 \n\n \nTrade-O-Ree Flyer\n\n\n    Download the PDF file .
URL:https://www.bsator.com/event/25th-annual-midwest-tradefest-state-wisconsin/
LOCATION:Rock County Fairgrounds	– Craig Center\, 1301 Craig Avenue\, Janesville\, WI\, 53545\, United States
ATTACH;FMTTYPE=image/jpeg:https://www.bsator.com/wp-content/uploads/2016/05/Midwest-Trade-Fest-Wisconsin.jpg.opt876x491o00s876x491.jpg
ORGANIZER;CN="Kurt Hansen":MAILTO:kwh96@hotmail.com
END:VEVENT
BEGIN:VEVENT
DTSTART;TZID=UTC:20250404T150000
DTEND;TZID=UTC:20250405T150000
DTSTAMP:20260424T111543
CREATED:20240904T021047Z
LAST-MODIFIED:20241206T235553Z
UID:10000549-1743778800-1743865200@www.bsator.com
SUMMARY:2025 Charlotte Trade-O-Ree – State: North Carolina
DESCRIPTION:Date: April 4-5\, 2025 \nAddress:\nSardis Presbyterian Church (Fellowship Hall)\n6100 Sardis Rd.\nCharlotte\, NC 28270 \nTimes:\nFriday: 3pm – 11pm\nSaturday: 8am – 3pm \nContact: Jason Spangler\nEmail: santeeswapper@gmail.com\nPhone: (910) 671-4949 \nThe Charlotte Trade-O-Ree has grown over the last few years to become one of the best Scouting memorabilia trade-o-rees (think swap meet) in the southeast. Hosted at a large church in Charlotte\, NC this years show will have 100+ tables full of Scouting memorabilia from vendors traveling from many surrounding states. A trade-o-ree is a chance to see Scouting history. You can come browse\, ask questions\, buy\, sell and trade Scouting memorabilia. There is no charge for admission so please come out and bring the whole family\, den or troop! \nOnce again Stuart Tucker of the Apache District\, Mecklenburg County Council will be teaching Collections & Scouting Heritage Merit Badges during the TOR on Saturday. \nThe 2025 Edition of the Charlotte TOR will have 100+ tables available for vendors. The tables are 6 feet long and 2 1/2 feet wide (standard size). Some of these tables have been reserved for the  silent auction. Tables are available for rent to vendors that want to come display and sell their items. The wall tables are $25 each and the inside tables rent for $20. The floor plan is tentative and subject to change based on reservations. \n\n \nTrade-O-Ree Flyer\n\n\n    Download the PDF file .
URL:https://www.bsator.com/event/2025-charlotte-trade-o-ree-state-north-carolina/
LOCATION:Sardis Presbyterian Church (Fellowship Hall)\, 6100 Sardis Rd.\, Charlotte\, NC\, 28270\, United States
ATTACH;FMTTYPE=image/jpeg:https://www.bsator.com/wp-content/uploads/2019/04/56255596_2040419749418490_4448387552197476352_n.jpg
ORGANIZER;CN="Jason Spangler":MAILTO:santeeswapper@gmail.com
GEO:35.157635;-80.777212
X-APPLE-STRUCTURED-LOCATION;VALUE=URI;X-ADDRESS=Sardis Presbyterian Church (Fellowship Hall) 6100 Sardis Rd. Charlotte NC 28270 United States;X-APPLE-RADIUS=500;X-TITLE=6100 Sardis Rd.:geo:-80.777212,35.157635
END:VEVENT
BEGIN:VEVENT
DTSTART;TZID=UTC:20250405T080000
DTEND;TZID=UTC:20250405T150000
DTSTAMP:20260424T111543
CREATED:20240419T045828Z
LAST-MODIFIED:20240419T050117Z
UID:10000530-1743840000-1743865200@www.bsator.com
SUMMARY:24th Annual Allentown Trade-O-Ree – State: Pennsylvania
DESCRIPTION:Date: April 5\, 2025 \nAddress:\nJordan Lutheran Church\n5103 Snowdrift Rd\nOrefield\, PA 18069 \nTimes:\nSaturday: 8am – 3pm \nContact 1: Mike or Scott Best\nEmail: tradeoree@allentowntor.com\nPhone: (610) 767-6079 \n\n \nTrade-O-Ree Flyer\n\n\n    Download the PDF file .
URL:https://www.bsator.com/event/24th-annual-allentown-trade-o-ree-state-pennsylvania/
LOCATION:Jordan Lutheran Church\, 5103 Snowdrift Rd\, Orefield\, PA 18069
ATTACH;FMTTYPE=image/jpeg:https://www.bsator.com/wp-content/uploads/2016/05/IMG_4618.JPG.opt415x311o00s415x311.jpg
ORGANIZER;CN="Mike or Scott Best":MAILTO:tradeoree@allentowntor.com
GEO:40.613104;-75.585292
X-APPLE-STRUCTURED-LOCATION;VALUE=URI;X-ADDRESS=Jordan Lutheran Church 5103 Snowdrift Rd Orefield PA 18069;X-APPLE-RADIUS=500;X-TITLE=5103 Snowdrift Rd:geo:-75.585292,40.613104
END:VEVENT
BEGIN:VEVENT
DTSTART;TZID=UTC:20250405T100000
DTEND;TZID=UTC:20250405T150000
DTSTAMP:20260424T111543
CREATED:20241121T180941Z
LAST-MODIFIED:20241121T181143Z
UID:10000557-1743847200-1743865200@www.bsator.com
SUMMARY:2025 Seneca Waterways Council Trade-O-Ree - State: New York
DESCRIPTION:Date: April 5\, 2025 \nAddress:\nSeneca Waterways Council\n2320 Brighton‐Henrietta Townline Road\nRochester\, NY 14623 \nTimes:\nSaturday: 10am – 3pm (Dealer Set-up: 9am) \nContact:  Admiral Lord\nEmail: swc.hx.soc@gmail.com\nPhone: (585) 755-8813 \n\n    Download the PDF file .
URL:https://www.bsator.com/event/2025-seneca-waterways-council-trade-o-ree-state-new-york/
LOCATION:Seneca Waterways Council\, 2320 Brighton‐Henrietta Townline Road\, Rochester\, NY\, 14623\, United States
ATTACH;FMTTYPE=image/jpeg:https://www.bsator.com/wp-content/uploads/2023/01/30441524_10216420600136558_5219071312651091968_a.jpg
ORGANIZER;CN="Admiral Lord":MAILTO:swc.hx.soc@gmail.com
GEO:43.095551;-77.615851
X-APPLE-STRUCTURED-LOCATION;VALUE=URI;X-ADDRESS=Seneca Waterways Council 2320 Brighton‐Henrietta Townline Road Rochester NY 14623 United States;X-APPLE-RADIUS=500;X-TITLE=2320 Brighton‐Henrietta Townline Road:geo:-77.615851,43.095551
END:VEVENT
BEGIN:VEVENT
DTSTART;TZID=UTC:20250411T170000
DTEND;TZID=UTC:20250412T150000
DTSTAMP:20260424T111543
CREATED:20240720T043643Z
LAST-MODIFIED:20241220T015339Z
UID:10000535-1744390800-1744470000@www.bsator.com
SUMMARY:2025 Crossroads of the West Council Spring Trade-O-Ree - State: Utah
DESCRIPTION:Date: April 11-12\, 2025 \nAddress:\nCamp Tracy\n3901 Mill Creek Canyon Rd\nSalt Lake City\, UT 84109 \nTimes:\nFriday: 5pm – 11pm\nSaturday: 9am – ? \nContact: Russ Baker\nPhone: (801) 891-3268 \nContact: Council Service Desk\nPhone: (801) 479-5460 \n \nTrade-O-Ree Flyer\n\n\n    Download the PDF file .
URL:https://www.bsator.com/event/2025-crossroads-of-the-west-council-spring-trade-o-ree-state-utah/
LOCATION:Camp Tracy\, 3901 Mill Creek Canyon Rd\, Salt Lake City\, UT\, 84109\, United States
ATTACH;FMTTYPE=image/jpeg:https://www.bsator.com/wp-content/uploads/2021/03/IMG_3008.jpg
ORGANIZER;CN="Russell Baker":MAILTO:elkutalodgeauction@yahoo.com
GEO:40.6892018;-111.7886351
X-APPLE-STRUCTURED-LOCATION;VALUE=URI;X-ADDRESS=Camp Tracy 3901 Mill Creek Canyon Rd Salt Lake City UT 84109 United States;X-APPLE-RADIUS=500;X-TITLE=3901 Mill Creek Canyon Rd:geo:-111.7886351,40.6892018
END:VEVENT
BEGIN:VEVENT
DTSTART;TZID=UTC:20250425T130000
DTEND;TZID=UTC:20250426T150000
DTSTAMP:20260424T111543
CREATED:20250318T160033Z
LAST-MODIFIED:20250328T033106Z
UID:10000570-1745586000-1745679600@www.bsator.com
SUMMARY:13th Annual Menawngihella Lodge Trade-O-Ree
DESCRIPTION:Date: April 25-26\, 2025 \nAddress:\nCamp Mountaineer Dining Hall\n187 Camp Mountaineer Rd\nMorgantown\, WV 26508 \nTimes:\nFriday: 1pm – 10pm (Table Vendors Set-Up: 10am)\nSaturday: 8am – 3pm \nVendor Registration: Click Here \nContact: Homer Moore\nEmail: shmoore1985@gmail.com\nPhone: (304) 338-6673 (Home)\nPhone: (304) 642-6650 (Cell)\n\nContact: Lori Ludas (Lodge Adviser)\nEmail: lori.ludas@gmail.com\nPhone: (773) 682-7607\n\nRegister Now \n\n \nTrade-O-Ree Flyer\n\n\n    Download the PDF file .
URL:https://www.bsator.com/event/13th-annual-menawngihella-lodge-trade-o-ree/
LOCATION:Camp Mountaineer Dining Hall\, 187 Camp Mountaineer Rd\, Morgantown\, WV\, 26508\, United States
ATTACH;FMTTYPE=image/jpeg:https://www.bsator.com/wp-content/uploads/2016/12/14102249_1169088013148585_4854816624710506001.jpg
ORGANIZER;CN="Homer Moore":MAILTO:shmoore1985@gmail.com
GEO:39.5224296;-79.8986158
X-APPLE-STRUCTURED-LOCATION;VALUE=URI;X-ADDRESS=Camp Mountaineer Dining Hall 187 Camp Mountaineer Rd Morgantown WV 26508 United States;X-APPLE-RADIUS=500;X-TITLE=187 Camp Mountaineer Rd:geo:-79.8986158,39.5224296
END:VEVENT
BEGIN:VEVENT
DTSTART;TZID=UTC:20250425T150000
DTEND;TZID=UTC:20250426T160000
DTSTAMP:20260424T111543
CREATED:20241103T033459Z
LAST-MODIFIED:20241103T033459Z
UID:10000552-1745593200-1745683200@www.bsator.com
SUMMARY:2025 Golden Gate Area Trade-O-Ree - State: California
DESCRIPTION:Date: April 25-26\, 2025 \nAddress:\nCamp Herms – Main Lodge\n1100 James Pl\nEl Cerrito\, CA 94530 \nTimes:\nFriday: 3pm – 11pm\nSaturday: 9am – 4pm \nContact: Mark Clevenger\nEmail: TOR@oa-yerbabuena.org\nPhone: (510) 468-0825 \n\n \nTrade-O-Ree Flyer\n\n\n    Download the PDF file .
URL:https://www.bsator.com/event/2025-golden-gate-area-trade-o-ree-state-california/
LOCATION:Camp Herms\, 1100 James Pl\, El Cerrito\, CA\, 94530\, United States
ATTACH;FMTTYPE=image/jpeg:https://www.bsator.com/wp-content/uploads/2022/08/IMG_4138a.jpg
ORGANIZER;CN="Mark Clevenger":MAILTO:TOR@oa-yerbabuena.org
END:VEVENT
END:VCALENDAR