BEGIN:VCALENDAR
VERSION:2.0
PRODID:-//Boy Scout Trade-O-Ree Calendar - ECPv6.15.20//NONSGML v1.0//EN
CALSCALE:GREGORIAN
METHOD:PUBLISH
X-WR-CALNAME:Boy Scout Trade-O-Ree Calendar
X-ORIGINAL-URL:https://www.bsator.com
X-WR-CALDESC:Events for Boy Scout Trade-O-Ree Calendar
REFRESH-INTERVAL;VALUE=DURATION:PT1H
X-Robots-Tag:noindex
X-PUBLISHED-TTL:PT1H
BEGIN:VTIMEZONE
TZID:UTC
BEGIN:STANDARD
TZOFFSETFROM:+0000
TZOFFSETTO:+0000
TZNAME:UTC
DTSTART:20250101T000000
END:STANDARD
END:VTIMEZONE
BEGIN:VEVENT
DTSTART;TZID=UTC:20260206T160000
DTEND;TZID=UTC:20260207T150000
DTSTAMP:20260423T160520
CREATED:20250202T165153Z
LAST-MODIFIED:20250212T184015Z
UID:10000365-1770393600-1770476400@www.bsator.com
SUMMARY:33rd Annual Crossroads of America Trade-O-Ree - State: Indiana
DESCRIPTION:Date: February 6-7\, 2026 \nAddress:\nBoone County Fairgrounds\n1300 E 100 South\nLebanon\, IN 46052 \nTimes:\nFriday:  4pm – 9pm (Doors Open at 12pm for Table Vendors)\nSaturday: 8am – 3pm \nContact: Rob Tankersley\nEmail: torinfo@cacin.us\nPhone: (317) 813-7125 \n\n \nTrade-O-Ree Flyer\n\n\n    Download the PDF file .
URL:https://www.bsator.com/event/33rd-annual-crossroads-of-america-trade-o-ree-state-indiana/
LOCATION:Boone County Fairgrounds\, 1300 E 100 South\, Lebanon\, IN\, 46052\, United States
ATTACH;FMTTYPE=image/jpeg:https://www.bsator.com/wp-content/uploads/2024/02/425339815_3693929174155960_1873716257857949578_n.jpg
ORGANIZER;CN="Rob Tankersley":MAILTO:torinfo@cacin.us
END:VEVENT
BEGIN:VEVENT
DTSTART;TZID=UTC:20260206T170000
DTEND;TZID=UTC:20260207T150000
DTSTAMP:20260423T160520
CREATED:20250816T041213Z
LAST-MODIFIED:20250816T041320Z
UID:10000588-1770397200-1770476400@www.bsator.com
SUMMARY:2026 Old North State Trade-O-Ree - State: North Carolina
DESCRIPTION:Date: February 6-7\, 2026 \nAddress:\nJamestown Presbyterian Church\n1804 Guilford College Road\nJamestown\, NC 27282 \nTimes:\nFriday: 5pm – 10pm\nSaturday: 9am – 3pm \nContact: Smith Hardy\nEmail: jshalarms@aol.com\nPhone: (336) 908-5507 \nContact: Jason Hardy\nEmail: jshardy31@gmail.com\nPhone: (336) 451-7710 \nContact: Bud Harrelson\nEmail: bud.harrelson@scouting.org\nPhone: ? \n\n \nTrade-O-Ree Flyer\n\n\n    Download the PDF file .
URL:https://www.bsator.com/event/2026-old-north-state-trade-o-ree-state-north-carolina/
LOCATION:Jamestown Presbyterian Church\, 1804 Guilford College Road\, Jamestown\, NC\, 27282\, United States
ATTACH;FMTTYPE=image/jpeg:https://www.bsator.com/wp-content/uploads/2024/07/426322582_10113245865606042_4360608944043898012_n.jpg
ORGANIZER;CN="Jason Hardy":MAILTO:jshardy31@gmail.com
END:VEVENT
BEGIN:VEVENT
DTSTART;TZID=UTC:20260213T150000
DTEND;TZID=UTC:20260214T150000
DTSTAMP:20260423T160520
CREATED:20250711T032458Z
LAST-MODIFIED:20250711T034839Z
UID:10000586-1770994800-1771081200@www.bsator.com
SUMMARY:6th Annual Greater Tampa Bay Area Trade-O-Ree - State: Florida
DESCRIPTION:Date: February 13-14\, 2026 \nAddress:\nSand Hill Scout Reservation\n11210 Cortez Boulevard\nBrooksville\, FL 34613 \nTimes:\nFriday: 3pm -10pm\nSaturday: 9am – 3pm \nContact: Tim Faughnan\nEmail: tim.faughnan@gmail.com\nPhone: (727) 534-6942 \nContact: George Romagnoli\nEmail: pascohouser@gmail.com\nPhone: (727) 992-2755 \n \nReserve your table today! (Reservations close 01/31/2026\, act fast!) \n\n \nTrade-O-Ree Flyer\n\n\n    Download the PDF file .
URL:https://www.bsator.com/event/6th-annual-greater-tampa-bay-area-trade-o-ree-state-florida/
LOCATION:Sand Hill Scout Reservation\, 11210 Cortez Boulevard\, Brooksville\, FL\, 34613\, United States
ATTACH;FMTTYPE=image/jpeg:https://www.bsator.com/wp-content/uploads/2018/05/44426272_252452038787415_7503875832587223040_n.jpg
ORGANIZER;CN="Tim Faughnan":MAILTO:tim.faughnan@gmail.com
END:VEVENT
BEGIN:VEVENT
DTSTART;TZID=UTC:20260220T180000
DTEND;TZID=UTC:20260221T160000
DTSTAMP:20260423T160520
CREATED:20251228T165509Z
LAST-MODIFIED:20251228T170119Z
UID:10000609-1771610400-1771689600@www.bsator.com
SUMMARY:40th Annual Wiatava Lodge Trade-O-Ree - State: California
DESCRIPTION:Date: February 20-21\, 2026 \nAddress:\nNorth Hills Church\n3100 E Birch St\nBrea\, CA 92821 \nTimes:\nFriday: 6pm – 9:30pm\nSaturday: 8am – 4pm \nContact: Tevye Manchan\nEmail: thescoutingmanchan@aol.com\nPhone: ? \n\n \nTrade-O-Ree Flyer\n\n\n    Download the PDF file .
URL:https://www.bsator.com/event/40th-annual-wiatava-lodge-trade-o-ree-state-california/
LOCATION:North Hills Church\, 3100 E Birch St\, Brea\, CA\, 92821\, United States
ATTACH;FMTTYPE=image/jpeg:https://www.bsator.com/wp-content/uploads/2016/05/12764659_10205642706695471_8217570526336779486_o.jpg.opt415x277o00s415x277.jpg
ORGANIZER;CN="Tevye Manchan":MAILTO:thescoutingmanchan@aol.com
END:VEVENT
BEGIN:VEVENT
DTSTART;TZID=UTC:20260227T100000
DTEND;TZID=UTC:20260228T140000
DTSTAMP:20260423T160520
CREATED:20260111T040552Z
LAST-MODIFIED:20260111T040608Z
UID:10000612-1772186400-1772287200@www.bsator.com
SUMMARY:Ta Tsu Hwa Lodge Trade-O-Ree - State: Oklahoma
DESCRIPTION:Date: February 27-28\, 2026 \nAddress:\nDonald W. Reynolds Scout Resource Center\n4295 South Garnett Road\nTulsa\, OK 74146\n\nTimes:\nFriday: 10am – 9pm\nSaturday: 9am – 2pm\n\nContact: Richard Wills\nPhone: (918) 557-3415\nEmail: richard.w.wills@gmail.com\n\n \nTrade-O-Ree Flyer\n\n\n    Download the PDF file .
URL:https://www.bsator.com/event/ta-tsu-hwa-lodge-trade-o-ree-state-oklahoma/
LOCATION:Donald W. Reynolds Scout Resource Center\, 4295 South Garnett Road\, Tulsa\, OK\, 74146\, United States
ATTACH;FMTTYPE=image/jpeg:https://www.bsator.com/wp-content/uploads/2016/06/SWAPSHOP_zpsd7821994-4-1.jpg.opt430x360o00s430x360-4-1.jpg
ORGANIZER;CN="Richard Wills":MAILTO:richard.w.wills@gmail.com
END:VEVENT
BEGIN:VEVENT
DTSTART;TZID=UTC:20260227T153000
DTEND;TZID=UTC:20260228T150000
DTSTAMP:20260423T160520
CREATED:20250617T131652Z
LAST-MODIFIED:20250617T131817Z
UID:10000390-1772206200-1772290800@www.bsator.com
SUMMARY:2026 Virginia Beach Trade-O-Ree - State: Virginia
DESCRIPTION:We are back for another year of good scouting fun\, fellowship\, and collectables. Free admission\, as always. Table rental rates remain unchanged\, as always. Buy\, sell\, trade\, or just browse. Come join us! – MANY THANKS\, John \nDate: February 27-28\, 2026 \nAddress:\nChurch of the Ascension Community Center\n4853 Princess Anne Road\nVirginia Beach\, VA 23462 \nTimes:\nFriday: 3:30pm – 10:30pm\nSaturday: 8am – 3pm \nContact: John Ortt\nEmail: jortt@cox.net\nPhone: (757) 496-9540 \nContact: Mike Scott\nEmail: kd4nfx@juno.com\nPhone: (757) 420-2039 \n\n \nTrade-O-Ree Flyer\n\n\n    Download the PDF file .
URL:https://www.bsator.com/event/2026-virginia-beach-trade-o-ree-state-virginia/
LOCATION:Church of the Ascension Community Center\, 4853 Princess Anne Road\, Virginia Beach\, VA\, 23462\, United States
ATTACH;FMTTYPE=image/jpeg:https://www.bsator.com/wp-content/uploads/2019/08/89071001_190553958919743_6542551354471088128_n.jpg
ORGANIZER;CN="John Ortt":MAILTO:jortt@cox.net
END:VEVENT
BEGIN:VEVENT
DTSTART;TZID=UTC:20260227T170000
DTEND;TZID=UTC:20260228T150000
DTSTAMP:20260423T160520
CREATED:20260111T164222Z
LAST-MODIFIED:20260111T165318Z
UID:10000615-1772211600-1772290800@www.bsator.com
SUMMARY:23rd Annual Twin Cities Area Trade-O-Ree – State: Minnesota
DESCRIPTION:Date: February 27-28\, 2026 \nAddress:\nSt. James Lutheran Church\n3650 Williams Drive\nBurnsville\, MN 55378 \nTimes:\nFriday: 5pm – 10pm\nSaturday: 8am – 3pm \nContact: Steve Young\nContact: Julie Young\nEmail: Steve276Young@gmail.com\nPhone: Steve: (651) 315-6113\, Julie: (651) 315-6030  \n \nTrade-O-Ree Flyer\n\n\n    Download the PDF file .
URL:https://www.bsator.com/event/23rd-annual-twin-cities-area-trade-o-ree-state-minnesota/
LOCATION:St. James Lutheran Church\, 3650 Williams Drive\, Burnsville\, MN\, 55378\, United States
ATTACH;FMTTYPE=image/jpeg:https://www.bsator.com/wp-content/uploads/2018/02/28164576_10212901276581636_2417367282102817170_o.jpg
ORGANIZER;CN="Steve and Julie Young":MAILTO:Steve276Young@gmail.com
GEO:44.768427;-93.3259728
X-APPLE-STRUCTURED-LOCATION;VALUE=URI;X-ADDRESS=St. James Lutheran Church 3650 Williams Drive Burnsville MN 55378 United States;X-APPLE-RADIUS=500;X-TITLE=3650 Williams Drive:geo:-93.3259728,44.768427
END:VEVENT
END:VCALENDAR