BEGIN:VCALENDAR
VERSION:2.0
PRODID:-//Boy Scout Trade-O-Ree Calendar - ECPv6.15.20//NONSGML v1.0//EN
CALSCALE:GREGORIAN
METHOD:PUBLISH
X-ORIGINAL-URL:https://www.bsator.com
X-WR-CALDESC:Events for Boy Scout Trade-O-Ree Calendar
REFRESH-INTERVAL;VALUE=DURATION:PT1H
X-Robots-Tag:noindex
X-PUBLISHED-TTL:PT1H
BEGIN:VTIMEZONE
TZID:UTC
BEGIN:STANDARD
TZOFFSETFROM:+0000
TZOFFSETTO:+0000
TZNAME:UTC
DTSTART:20250101T000000
END:STANDARD
END:VTIMEZONE
BEGIN:VEVENT
DTSTART;TZID=UTC:20260306T130000
DTEND;TZID=UTC:20260307T160000
DTSTAMP:20260423T143637
CREATED:20250318T162948Z
LAST-MODIFIED:20260106T165707Z
UID:10000572-1772802000-1772899200@www.bsator.com
SUMMARY:24th Annual Friends of J.N. Webster Trade-O-Ree - State: Connecticut
DESCRIPTION:Date: March 6-7\, 2026 \nAddress:\nSt Philip-Apostle Church\n64 Pompey Hollow Rd.\nAshford\, CT 06278 \nTimes:\nFriday: 1pm – 10pm (Dealer Setup: 12pm)\nSaturday: 8am – 4pm \nContact 1: Paul or Harry Segerstrom\nEmail: paratrooper325@netzero.net\nPhone: (860) 822-6235 \nLots of Free Parking\, Museum and Trading Post will be open during the show\, Youth only Silent auction Sat. morning\, Live auction Sat. afternoon\, food and snacks available\, handicap accessible\, Well Attended Show\, 70+ Tables\, Bunks for dealers in our heated Cabins $10.00 and a limited number of 2 person rooms $30.00\, Dealer setup at Noon. \nRegister Now\n\n \nTrade-O-Ree Flyer\n\n\n    Download the PDF file .
URL:https://www.bsator.com/event/24th-annual-friends-of-j-n-webster-trade-o-ree-state-connecticut/
LOCATION:St Philip-Apostle Church\, 64 Pompey Hollow Rd.\, Ashford\, 06278\, United States
ATTACH;FMTTYPE=image/jpeg:https://www.bsator.com/wp-content/uploads/2024/08/330452058_3558163764415736_7779330300667704265_n.jpg
ORGANIZER;CN="Harry Segerstrom":MAILTO:paratrooper325@netzero.net
END:VEVENT
BEGIN:VEVENT
DTSTART;TZID=UTC:20260306T150000
DTEND;TZID=UTC:20260307T150000
DTSTAMP:20260423T143637
CREATED:20251207T061118Z
LAST-MODIFIED:20251207T061826Z
UID:10000604-1772809200-1772895600@www.bsator.com
SUMMARY:2026 Catawba Lodge Trade-O-Ree - State: North Carolina
DESCRIPTION:Date: March 6-7\, 2026 \nAddress:\nBelk Scout Camp\n9804 Belt Road\nMidland\, NC  28107 \nTimes:\nFriday: 3pm – 11pm (Vendor Setup: 12pm – 3pm)\nSaturday: 9am – 3pm \nReserve Tables \nContact: Larry Banks\nEmail: lb.smt19@gmail com\nPhone: ? \n\n \nTrade-O-Ree Flyer\n\n\n    Download the PDF file .
URL:https://www.bsator.com/event/2026-catawba-lodge-trade-o-ree-state-north-carolina/
LOCATION:Belk Scout Camp\, 9804 Belt Road\, Midland\, NC\, 28107\, United States
ATTACH;FMTTYPE=image/jpeg:https://www.bsator.com/wp-content/uploads/2016/06/SWAPSHOP_zpsd7821994-4-1.jpg.opt430x360o00s430x360-4-1.jpg
ORGANIZER;CN="Larry Banks":MAILTO:lb.smt19@gmail com
END:VEVENT
BEGIN:VEVENT
DTSTART;TZID=UTC:20260306T160000
DTEND;TZID=UTC:20260307T160000
DTSTAMP:20260423T143637
CREATED:20250328T043102Z
LAST-MODIFIED:20251226T231351Z
UID:10000577-1772812800-1772899200@www.bsator.com
SUMMARY:17th Annual Michigan Crossroads Council Trade-O-Ree
DESCRIPTION:Date: March 6-7\, 2026 \nAddress:\nD-Bar-A Scout Ranch (Wyckoff Lodge Dining Hall)\n880 E. Sutton Road\nMetamora\, MI 48455 \nTimes:\nFriday: 4pm – 11pm\nSaturday: 8am – 4pm \nContact 1: Scott Wheeler\nEmail: panterat97@juno.com\nPhone: (586) 817-0654 \nContact 2: Denver Laabs\nEmail: Denver.laabs@scouting.org\nPhone: (313) 723-1488 \n\n \nTrade-O-Ree Flyer\n\n\n    Download the PDF file .
URL:https://www.bsator.com/event/17th-annual-michigan-crossroads-council-trade-o-ree/
LOCATION:D-Bar-A Scout Ranch (Wyckoff Lodge Dining Hall)\, 880 E. Sutton Road\, Metamora\, MI 48455
ATTACH;FMTTYPE=image/jpeg:https://www.bsator.com/wp-content/uploads/2021/11/IMG_0295a.jpg
ORGANIZER;CN="Scott Wheeler":MAILTO:panterat97@juno.com
GEO:42.9717489;-83.2579737
X-APPLE-STRUCTURED-LOCATION;VALUE=URI;X-ADDRESS=D-Bar-A Scout Ranch (Wyckoff Lodge Dining Hall) 880 E. Sutton Road Metamora MI 48455;X-APPLE-RADIUS=500;X-TITLE=880 E. Sutton Road:geo:-83.2579737,42.9717489
END:VEVENT
BEGIN:VEVENT
DTSTART;TZID=UTC:20260306T190000
DTEND;TZID=UTC:20260307T140000
DTSTAMP:20260423T143637
CREATED:20251207T043349Z
LAST-MODIFIED:20260210T164957Z
UID:10000599-1772823600-1772892000@www.bsator.com
SUMMARY:7th Annual Tuku'ut Lodge 33 Trade-O-Ree - State: California
DESCRIPTION:Date: March 6-7\, 2026 \nAddress:\nFoothill Vineyard Church\n100 E. Foothill Blvd.\nSan Dimas\, CA 91773 \nTimes:\nFriday: 7pm – 10pm\nSaturday: 8am – 2pm \nContact: Louis Smith\nEmail: mrlionel@aol.com\nPhone: (562) 698-8653 \nContact: Zack Johnson (OA Lodge Advisor)\nEmail: cheeseheadzack@aol.com\nPhone: (909) 802-9378 \n\n \nTrade-O-Ree Flyer\n\n\n    Download the PDF file .
URL:https://www.bsator.com/event/7th-annual-tukuut-lodge-33-trade-o-ree-state-california/
LOCATION:Foothill Vineyard Church\, 100 E. Foothill Blvd.\, San Dimas\, CA\, 91773\, United States
ATTACH;FMTTYPE=image/png:https://www.bsator.com/wp-content/uploads/2024/11/cw_center1-e1600732030488.png
ORGANIZER;CN="Louis Smith":MAILTO:mrlionel@aol.com
END:VEVENT
BEGIN:VEVENT
DTSTART;TZID=UTC:20260313T140000
DTEND;TZID=UTC:20260314T140000
DTSTAMP:20260423T143637
CREATED:20250318T161812Z
LAST-MODIFIED:20250318T161812Z
UID:10000571-1773410400-1773496800@www.bsator.com
SUMMARY:42nd Annual Pittsburgh Trade-O-Ree - State: Pennsylvania
DESCRIPTION:Date: March 13-14\, 2026 \nAddress:\nThe Chartiers Room\n370 Commercial St.\nBridgeville\, PA 15017 \nTimes:\nFriday: 2pm – 12am (Midnight)\nSaturday: 8:30am – 2pm \nContact: Todd Rogers\nEmail: trogers17@gmail.com\nPhone: (703) 618-4106 \nRegister Now\n\n \nTrade-O-Ree Flyer\n\n\n    Download the PDF file .
URL:https://www.bsator.com/event/42nd-annual-pittsburgh-trade-o-ree-state-pennsylvania/
LOCATION:The Chartiers Room\, 370 Commercial St.\, Bridgeville\, PA\, 15017\, United States
ATTACH;FMTTYPE=image/jpeg:https://www.bsator.com/wp-content/uploads/2016/05/1933334_1717737895110489_7154625735922781739_o.jpg.opt415x311o00s415x311.jpg
ORGANIZER;CN="Todd Rogers":MAILTO:todd.rogers@gmail.com
GEO:40.362;-80.1069387
X-APPLE-STRUCTURED-LOCATION;VALUE=URI;X-ADDRESS=The Chartiers Room 370 Commercial St. Bridgeville PA 15017 United States;X-APPLE-RADIUS=500;X-TITLE=370 Commercial St.:geo:-80.1069387,40.362
END:VEVENT
BEGIN:VEVENT
DTSTART;TZID=UTC:20260313T180000
DTEND;TZID=UTC:20260314T130000
DTSTAMP:20260423T143637
CREATED:20260122T183637Z
LAST-MODIFIED:20260122T183927Z
UID:10000618-1773424800-1773493200@www.bsator.com
SUMMARY:2026 Eastern Ontario "March Break" Trade-O-Ree - Country: Canada
DESCRIPTION:Date: March 13-14\, 2026 \nAddress:\nScouts Canada Headquarters\n1385 Baseline Rd.\nOttawa\, ON K1A 0C5 \nTimes:\nFriday: 6pm – 9pm\nSaturday: 9am – 1pm \nContact: Marc Couturier\nFacebook Profile: https://www.facebook.com/marc.couturier.98\nEmail: Ottawa.area.badgers@gmail.com \n\n    Download the PDF file .
URL:https://www.bsator.com/event/2026-eastern-ontario-march-break-trade-o-ree-country-canada/
LOCATION:Scouts Canada Headquarters\, 1345 Baseline Rd.\, Ottawa\, ON\, Canada
ATTACH;FMTTYPE=image/jpeg:https://www.bsator.com/wp-content/uploads/2017/02/16462966_10154903857542429_4254446891381154404_o.jpg
ORGANIZER;CN="Marc Couturier":MAILTO:ottawa.patch.trader@gmail.com
GEO:45.3624378;-75.7381692
X-APPLE-STRUCTURED-LOCATION;VALUE=URI;X-ADDRESS=Scouts Canada Headquarters 1345 Baseline Rd. Ottawa ON Canada;X-APPLE-RADIUS=500;X-TITLE=1345 Baseline Rd.:geo:-75.7381692,45.3624378
END:VEVENT
BEGIN:VEVENT
DTSTART;TZID=UTC:20260314T130000
DTEND;TZID=UTC:20260314T160000
DTSTAMP:20260423T143637
CREATED:20260111T055231Z
LAST-MODIFIED:20260116T173508Z
UID:10000614-1773493200-1773504000@www.bsator.com
SUMMARY:Patch Festival (Old Hickory Council) - State: North Carolina
DESCRIPTION:Date: March 14\, 2026 \nAddress:\nRaven Knob Scout Reservation (Program Center)\n266 Raven Knob Road\nMount Airy\, NC 27030 \nTimes:\nSaturday: 1pm – 4pm \n\nWe are inviting anyone that would like to attend Wahissa Lodge 118’s Winter Fellowship where we will be hosting a Patch Festival including a Trade-O-Ree and Patch Auction on Saturday\, March the 14th. It will be at Camp Raven Knob in our Program Center. We hope to see many of you there! \nContact: Carter Hull\nEmail:\nPhone:  \n\n \nTrade-O-Ree Flyer
URL:https://www.bsator.com/event/old-hickory-council-trade-o-ree-state-north-carolina/
LOCATION:Raven Knob Scout Reservation\, 266 Raven Knob Road\, Mount Airy\, NC\, 27030\, United States
ATTACH;FMTTYPE=image/jpeg:https://www.bsator.com/wp-content/uploads/2026/01/615471842_892962460094228_3749274189182821973_n.jpg
END:VEVENT
BEGIN:VEVENT
DTSTART;TZID=UTC:20260320T140000
DTEND;TZID=UTC:20260321T160000
DTSTAMP:20260423T143637
CREATED:20250320T173403Z
LAST-MODIFIED:20250320T173403Z
UID:10000573-1774015200-1774108800@www.bsator.com
SUMMARY:2026 Nguttitehen Lodge Trade-O-Ree - State: Kentucky
DESCRIPTION:Date: March 20-21\, 2026 \nAddress:\nCamp Crooked Creek Dining Hall\n950 Terry Drive\nShepherdsville\, KY 40165 \nTimes:\nFriday: 2pm – 10pm\nSaturday: 8am – 4pm \nContact: Brandon Hayes\nEmail: mr.bmhayes@gmail.com\nPhone: (270) 210-2310\n\nThe 3rd Annual Kentucky Trade-O-Ree\, hosted by Nguttitehen Lodge. March 14-15\, 2025 at Camp Crooked Creek outside of Louisville\, KY.\n8′ Tables are available for $20 each.\nFree tent camping. Bunks in our camp staff cabins are also available to rent at $10 per person for Friday night.\nMeal passes for Friday dinner\, Saturday breakfast\, and Saturday lunch are also available.\nWe will offer several merit badges for youth attending throughout the event.\nThe lodge trading post will be available.\nThere will be a silent auction running on Friday and Saturday. If you are interested in donating items\, please reach out to Brandon Hayes.\n\n \nTrade-O-Ree Flyer\n\n\n    Download the PDF file .
URL:https://www.bsator.com/event/2026-nguttitehen-lodge-trade-o-ree-state-kentucky/
LOCATION:Camp Crooked Creek Dining Hall\, 950 Terry Drive\, Shepherdsville\, KY\, 40165\, United States
ATTACH;FMTTYPE=image/jpeg:https://www.bsator.com/wp-content/uploads/2022/11/IMG_5729-1.jpg
ORGANIZER;CN="Brandon Hayes":MAILTO:mr.bmhayes@gmail.com
END:VEVENT
BEGIN:VEVENT
DTSTART;TZID=UTC:20260321T090000
DTEND;TZID=UTC:20260321T150000
DTSTAMP:20260423T143637
CREATED:20260205T061611Z
LAST-MODIFIED:20260205T174752Z
UID:10000625-1774083600-1774105200@www.bsator.com
SUMMARY:45th Annual Northeast Trade-O-Ree - State: New Jersey
DESCRIPTION:Date: March 21\, 2026 \nAddress:\nOur Lady of Visitation\n234 N Fairview Ave\nParamus\, New Jersey 07652 \nTimes:\nSaturday: 9am – 3pm \nTable Registration: https://scoutingevent.com/333-79282 \nContact: Wayne Wharton\nEmail: wayne.wharton@verizon.net\nPhone: (201) 891-4076 \nContact: Billy Cook (Lodge Adviser)\nEmail: lodgeadviser@oaix.nnjbsa.org\nPhone: ? \n\n \nTrade-O-Ree Flyer\n\n\n    Download the PDF file .
URL:https://www.bsator.com/event/45th-annual-northeast-trade-o-ree-state-new-jersey/
LOCATION:Our Lady of Visitation\, 234 N Fairview Ave\, Paramus\, NJ\, 07652\, United States
ATTACH;FMTTYPE=image/jpeg:https://www.bsator.com/wp-content/uploads/2023/02/53910544_392176534929495_7993848742551748608.jpg
ORGANIZER;CN="Wayne Wharton":MAILTO:wayne.wharton@verizon.net
END:VEVENT
BEGIN:VEVENT
DTSTART;TZID=UTC:20260321T090000
DTEND;TZID=UTC:20260321T160000
DTSTAMP:20260423T143638
CREATED:20260111T043529Z
LAST-MODIFIED:20260111T043709Z
UID:10000613-1774083600-1774108800@www.bsator.com
SUMMARY:1st Annual Mid Iowa Council Trade-O-Ree
DESCRIPTION:Date: March 21\, 2026 \nAddress:\nMid Iowa Council\n6123 Scout Trail\nDes Moines\, Iowa 50321\n\nTimes:\nSaturday: 9am – 4pm\n\nContact: Rick Romeo\nPhone: (515) 418-6069\nEmail:  ?\n\nContact: Mike Orgler\nPhone: (515) 231-2158\nEmail: mikeorgler@huxcomm.net\n\n \nTrade-O-Ree Flyer\n\n\n    Download the PDF file .
URL:https://www.bsator.com/event/mid-iowa-council-trade-o-ree-2/
LOCATION:Mid Iowa Council\, 6123 Scout Trail\, Des Moines\, IA\, 50321\, United States
ATTACH;FMTTYPE=image/jpeg:https://www.bsator.com/wp-content/uploads/2016/06/SWAPSHOP_zpsd7821994-4-1.jpg.opt430x360o00s430x360-4-1.jpg
ORGANIZER;CN="Rick Romeo":MAILTO:mikeorgler@huxcomm.net
END:VEVENT
END:VCALENDAR