BEGIN:VCALENDAR
VERSION:2.0
PRODID:-//Boy Scout Trade-O-Ree Calendar - ECPv6.15.20//NONSGML v1.0//EN
CALSCALE:GREGORIAN
METHOD:PUBLISH
X-WR-CALNAME:Boy Scout Trade-O-Ree Calendar
X-ORIGINAL-URL:https://www.bsator.com
X-WR-CALDESC:Events for Boy Scout Trade-O-Ree Calendar
REFRESH-INTERVAL;VALUE=DURATION:PT1H
X-Robots-Tag:noindex
X-PUBLISHED-TTL:PT1H
BEGIN:VTIMEZONE
TZID:UTC
BEGIN:STANDARD
TZOFFSETFROM:+0000
TZOFFSETTO:+0000
TZNAME:UTC
DTSTART:20250101T000000
END:STANDARD
END:VTIMEZONE
BEGIN:VEVENT
DTSTART;TZID=UTC:20261106T150000
DTEND;TZID=UTC:20261107T150000
DTSTAMP:20260423T225415
CREATED:20260203T064049Z
LAST-MODIFIED:20260205T053019Z
UID:10000620-1793977200-1794063600@www.bsator.com
SUMMARY:Middle Tennessee Council Jamboree Trade-O-Ree
DESCRIPTION:Date: November 6-7\, 2026 \nAddress:\nBoxwell Reservation (Camp Stahlman’s Aubry B. Harwell Leadership Center)\n1260 Creighton Lane\nLebanon\, TN 37087 \nTimes:\nFriday: 3pm – 10pm (Table Set up: 12pm)\nSaturday: 8am – 3pm \nContact: Michael Danielson\nEmail: mkdaniel@comcast.net\nPhone: (615) 663-5745 \n\n \nTrade-O-Ree Flyer\n\n\n    Download the PDF file .
URL:https://www.bsator.com/event/middle-tennessee-council-jamboree-trade-o-ree/
LOCATION:Boxwell Reservation (Camp Stahlman’s Aubry B. Harwell Leadership Center)\, 1260 Creighton Lane\, Lebanon\, TN\, 37087\, United States
ATTACH;FMTTYPE=image/jpeg:https://www.bsator.com/wp-content/uploads/2016/06/SWAPSHOP_zpsd7821994-4-1.jpg.opt430x360o00s430x360-4-1.jpg
ORGANIZER;CN="Michael Danielson":MAILTO:mkdaniel@comcast.net
END:VEVENT
BEGIN:VEVENT
DTSTART;TZID=UTC:20261106T170000
DTEND;TZID=UTC:20261107T150000
DTSTAMP:20260423T225415
CREATED:20251207T050601Z
LAST-MODIFIED:20251207T050914Z
UID:10000601-1793984400-1794063600@www.bsator.com
SUMMARY:2026 Northern California Trade-O-Ree & Memorabilia Auction - State: California
DESCRIPTION:Date: November 6-7\, 2026 \nAddress:\nPalo Alto Service Center\n1305 Middlefield Road\nPalo Alto\, CA 94303 \nTimes:\nFriday: 5pm – 9:30pm\nSaturday: 8:30am – 3pm \nContact: David Miura\nEmail: TOR@ohlone63.org\nPhone: (510) 541-8017 \n\nRegister Now\n\n \nTrade-O-Ree Flyer
URL:https://www.bsator.com/event/2026-northern-california-trade-o-ree-memorabilia-auction-state-california/
LOCATION:Palo Alto Service Center\, 1305 Middlefield Road\, Palo Alto\, CA\, 94303\, United States
ATTACH;FMTTYPE=image/jpeg:https://www.bsator.com/wp-content/uploads/2016/06/12052639_10205296876809940_4021707816250912394_o.jpg.opt430x287o00s430x287.jpg
ORGANIZER;CN="David Miura":MAILTO:TOR@ohlone63.org
GEO:37.4445335;-122.1455875
X-APPLE-STRUCTURED-LOCATION;VALUE=URI;X-ADDRESS=Palo Alto Service Center 1305 Middlefield Road Palo Alto CA 94303 United States;X-APPLE-RADIUS=500;X-TITLE=1305 Middlefield Road:geo:-122.1455875,37.4445335
END:VEVENT
BEGIN:VEVENT
DTSTART;TZID=UTC:20261113T170000
DTEND;TZID=UTC:20261114T150000
DTSTAMP:20260423T225415
CREATED:20251226T060543Z
LAST-MODIFIED:20251226T060704Z
UID:10000606-1794589200-1794668400@www.bsator.com
SUMMARY:2026 Greater Cincinnati Area Trade-O-Ree - State: Ohio
DESCRIPTION:Date: November 13-14\, 2026 \nAddress:\nCamp Friedlander Dining Hall\n581 Ibold Rd\nLoveland\, Ohio 45140 \nTimes:\nFriday: 5pm-10pm\nSaturday: 9am-3pm \nContact: Terry Aufermann\nEmail: terryaufermann@gmail.com\nPhone: (513) 293-1990 \nContact: Brian Holtel\nEmail: holtel@hotmail.com\nPhone: ? \n\n \nTrade-O-Ree Flyer\n\n\n    Download the PDF file .
URL:https://www.bsator.com/event/2026-greater-cincinnati-area-trade-o-ree-state-ohio/
LOCATION:Camp Friedlander Dining Hall\, 581 Ibold Rd\, Loveland\, OH\, 45140\, United States
ATTACH;FMTTYPE=image/png:https://www.bsator.com/wp-content/uploads/2023/12/GCA-Picture.png
ORGANIZER;CN="Terry Aufermann":MAILTO:terryaufermann@gmail.com
END:VEVENT
BEGIN:VEVENT
DTSTART;TZID=UTC:20261121T090000
DTEND;TZID=UTC:20261121T150000
DTSTAMP:20260423T225415
CREATED:20260102T044113Z
LAST-MODIFIED:20260102T044113Z
UID:10000610-1795251600-1795273200@www.bsator.com
SUMMARY:29th Annual Kintecoying Trade-O-Ree – State: New Jersey
DESCRIPTION:Date: November 21\, 2026 \nAddress:\nCamp Alpine (John C Whitehead Dining Hall)\n441 US Highway 9 W\nAlpine\, NJ 07620 \nTimes:\nSaturday: 9am – 3pm (Dealer Set Up: 8:30am) \nContact: Robert Mirabella\nEmail: RJBELLA234@aol.com\nPhone: ? \nTable Fee: $20.00 / After October 31\, all tables are: $25.00\nFree Admission to All Spectators. \nRegister Now\n\n \nTrade-O-Ree Flyer
URL:https://www.bsator.com/event/29th-annual-kintecoying-trade-o-ree-state-new-jersey/
LOCATION:Camp Alpine (John C Whitehead Dining Hall)\, 441 US Highway 9 W\, Alpine\, NJ 07620
ATTACH;FMTTYPE=image/jpeg:https://www.bsator.com/wp-content/uploads/2016/11/15133653_1798323937108633_159435161_o.jpg
ORGANIZER;CN="Robert Mirabella":MAILTO:RJBELLA234@aol.com
GEO:40.9502238;-73.8922097
X-APPLE-STRUCTURED-LOCATION;VALUE=URI;X-ADDRESS=Camp Alpine (John C Whitehead Dining Hall) 441 US Highway 9 W Alpine NJ 07620;X-APPLE-RADIUS=500;X-TITLE=441 US Highway 9 W:geo:-73.8922097,40.9502238
END:VEVENT
END:VCALENDAR