BEGIN:VCALENDAR
VERSION:2.0
PRODID:-//Boy Scout Trade-O-Ree Calendar - ECPv6.15.20//NONSGML v1.0//EN
CALSCALE:GREGORIAN
METHOD:PUBLISH
X-WR-CALNAME:Boy Scout Trade-O-Ree Calendar
X-ORIGINAL-URL:https://www.bsator.com
X-WR-CALDESC:Events for Boy Scout Trade-O-Ree Calendar
REFRESH-INTERVAL;VALUE=DURATION:PT1H
X-Robots-Tag:noindex
X-PUBLISHED-TTL:PT1H
BEGIN:VTIMEZONE
TZID:UTC
BEGIN:STANDARD
TZOFFSETFROM:+0000
TZOFFSETTO:+0000
TZNAME:UTC
DTSTART:20220101T000000
END:STANDARD
END:VTIMEZONE
BEGIN:VEVENT
DTSTART;TZID=UTC:20230901T120000
DTEND;TZID=UTC:20230902T150000
DTSTAMP:20260426T010118
CREATED:20230513T034453Z
LAST-MODIFIED:20230513T034755Z
UID:10000486-1693569600-1693666800@www.bsator.com
SUMMARY:17th Annual Capitol Area Trade-O-Ree - State: Texas
DESCRIPTION:Date: September 1-2\, 2023 \nAddress:\nFrank Fickett Scout Training & Service Center\n12500 N-IH 35\nAustin\, TX 78753 \nTimes:\nFriday: 12pm – 9pm\nSaturday: 10am – 3pm \nContact: Jim Sylvester\nEmail: swtsu88@aol.com\nPhone: (512) 650-5591 \n\n \nTrade-O-Ree Flyer\n\n\n    Download the PDF file .
URL:https://www.bsator.com/event/17th-annual-capitol-area-trade-o-ree-state-texas/
LOCATION:Frank Fickett Scout Training & Service Center\, 12500 N IH 35\, Austin\, TX\, 78753\, United States
ATTACH;FMTTYPE=image/jpeg:https://www.bsator.com/wp-content/uploads/2016/05/10322761_10203640636091151_1542785950943790072_n.jpg
ORGANIZER;CN="Jim Sylvester":MAILTO:Jim.Sylvester@co.travis.tx.us
GEO:30.4057864;-97.6760917
X-APPLE-STRUCTURED-LOCATION;VALUE=URI;X-ADDRESS=Frank Fickett Scout Training & Service Center 12500 N IH 35 Austin TX 78753 United States;X-APPLE-RADIUS=500;X-TITLE=12500 N IH 35:geo:-97.6760917,30.4057864
END:VEVENT
END:VCALENDAR