BEGIN:VCALENDAR
VERSION:2.0
PRODID:-//Boy Scout Trade-O-Ree Calendar - ECPv6.15.20//NONSGML v1.0//EN
CALSCALE:GREGORIAN
METHOD:PUBLISH
X-WR-CALNAME:Boy Scout Trade-O-Ree Calendar
X-ORIGINAL-URL:https://www.bsator.com
X-WR-CALDESC:Events for Boy Scout Trade-O-Ree Calendar
REFRESH-INTERVAL;VALUE=DURATION:PT1H
X-Robots-Tag:noindex
X-PUBLISHED-TTL:PT1H
BEGIN:VTIMEZONE
TZID:UTC
BEGIN:STANDARD
TZOFFSETFROM:+0000
TZOFFSETTO:+0000
TZNAME:UTC
DTSTART:20220101T000000
END:STANDARD
END:VTIMEZONE
BEGIN:VEVENT
DTSTART;TZID=UTC:20231006T120000
DTEND;TZID=UTC:20231007T140000
DTSTAMP:20260426T004240
CREATED:20230702T142238Z
LAST-MODIFIED:20230702T142238Z
UID:10000490-1696593600-1696687200@www.bsator.com
SUMMARY:36th Annual Sunshine Trade-O-Ree - State: Florida
DESCRIPTION:Date: October 6-7\, 2023 \nAddress:\nNational Guard Armory (Armory Hall)\n2809 South Fern Creek Ave\nOrlando\, FL 32806 \nTimes:\nSaturday: 12pm – 10pm\nSunday: 8am – 2pm \nContact: Howard Gross\nEmail: howardgr326@gmail.com\nPhone: (407) 415-0476 \n\n \nTrade-O-Ree Flyer\n\n\n    Download the PDF file .
URL:https://www.bsator.com/event/36th-annual-sunshine-trade-o-ree-state-florida/
LOCATION:National Guard Armory\, 2809 South Ferncreek Ave.\, Orlando\, Fl.\, 32806
ATTACH;FMTTYPE=image/jpeg:https://www.bsator.com/wp-content/uploads/2016/08/IMG_8041.jpg
ORGANIZER;CN="Howard Gross":MAILTO:howardgr326@gmail.com
GEO:28.5108;-81.3593222
X-APPLE-STRUCTURED-LOCATION;VALUE=URI;X-ADDRESS=National Guard Armory 2809 South Ferncreek Ave. Orlando Fl. 32806;X-APPLE-RADIUS=500;X-TITLE=2809 South Ferncreek Ave.:geo:-81.3593222,28.5108
END:VEVENT
BEGIN:VEVENT
DTSTART;TZID=UTC:20231006T170000
DTEND;TZID=UTC:20231007T160000
DTSTAMP:20260426T004240
CREATED:20230716T001658Z
LAST-MODIFIED:20230716T001658Z
UID:10000494-1696611600-1696694400@www.bsator.com
SUMMARY:2023 Ed Harris Trade-O-Ree - State: Oregon
DESCRIPTION:Date: October 6-7\, 2023 \nAddress:\nKeizer Civic Center\n930 Chemawa Rd. NE\nKeizer\, OR 97303 \nTimes:\nFriday: 5pm – 9pm\nSaturday: 9am – 4pm \nContact 1: Jeff Ansley\nEmail: skyloo442@comcast.net\nPhone: (503) 352-5357 \nContact 2: Todd Hatfield\nEmail: machque@hotmail.com\nPhone: (503) 859-2443 \nRegister Now\n\n \nTrade-O-Ree Flyer\n\n\n    Download the PDF file .
URL:https://www.bsator.com/event/2023-ed-harris-trade-o-ree-state-oregon/
LOCATION:Keizer Civic Center\, 930 Chemawa Rd. NE\, Keizer\, OR\, 97303\, United States
ATTACH;FMTTYPE=image/jpeg:https://www.bsator.com/wp-content/uploads/2016/06/10710284_10152663411746195_1283144467783832528_o.jpg.opt430x322o00s430x322.jpg
ORGANIZER;CN="Jeff Ansley":MAILTO:skyloo442@comcast.net
END:VEVENT
END:VCALENDAR