BEGIN:VCALENDAR
VERSION:2.0
PRODID:-//Boy Scout Trade-O-Ree Calendar - ECPv6.15.20//NONSGML v1.0//EN
CALSCALE:GREGORIAN
METHOD:PUBLISH
X-ORIGINAL-URL:https://www.bsator.com
X-WR-CALDESC:Events for Boy Scout Trade-O-Ree Calendar
REFRESH-INTERVAL;VALUE=DURATION:PT1H
X-Robots-Tag:noindex
X-PUBLISHED-TTL:PT1H
BEGIN:VTIMEZONE
TZID:UTC
BEGIN:STANDARD
TZOFFSETFROM:+0000
TZOFFSETTO:+0000
TZNAME:UTC
DTSTART:20230101T000000
END:STANDARD
END:VTIMEZONE
BEGIN:VEVENT
DTSTART;TZID=UTC:20240322T140000
DTEND;TZID=UTC:20240323T150000
DTSTAMP:20260425T141127
CREATED:20231006T030503Z
LAST-MODIFIED:20231006T043200Z
UID:10000296-1711116000-1711206000@www.bsator.com
SUMMARY:24th Annual Midwest Tradefest - State: Wisconsin
DESCRIPTION:Date: March 22-23\, 2024 \nAddress:\nMadison Masonic Center\n301 Wisconsin Ave.\nMadison\, WI 53703 \nTimes:\nFriday: 2pm – 9pm\nSaturday: 8am – 3pm \nContact: Michael Heitke\nEmail: mheitke@hotmail.com\nPhone: (608) 225-7414 \n\n \nTrade-O-Ree Flyer\n\n\n    Download the PDF file .
URL:https://www.bsator.com/event/24th-annual-midwest-tradefest-state-wisconsin/
LOCATION:Madison Masonic Center\, 301 Wisconsin Ave.\, Madison\, WI\, 53703\, United States
ATTACH;FMTTYPE=image/jpeg:https://www.bsator.com/wp-content/uploads/2016/05/Midwest-Trade-Fest-Wisconsin.jpg.opt876x491o00s876x491.jpg
ORGANIZER;CN="Michael Heitke":MAILTO:mheitke@hotmail.com
END:VEVENT
END:VCALENDAR