BEGIN:VCALENDAR
VERSION:2.0
PRODID:-//Boy Scout Trade-O-Ree Calendar - ECPv6.15.20//NONSGML v1.0//EN
CALSCALE:GREGORIAN
METHOD:PUBLISH
X-WR-CALNAME:Boy Scout Trade-O-Ree Calendar
X-ORIGINAL-URL:https://www.bsator.com
X-WR-CALDESC:Events for Boy Scout Trade-O-Ree Calendar
REFRESH-INTERVAL;VALUE=DURATION:PT1H
X-Robots-Tag:noindex
X-PUBLISHED-TTL:PT1H
BEGIN:VTIMEZONE
TZID:UTC
BEGIN:STANDARD
TZOFFSETFROM:+0000
TZOFFSETTO:+0000
TZNAME:UTC
DTSTART:20230101T000000
END:STANDARD
END:VTIMEZONE
BEGIN:VEVENT
DTSTART;TZID=UTC:20240607T150000
DTEND;TZID=UTC:20240608T170000
DTSTAMP:20260425T124257
CREATED:20231230T181059Z
LAST-MODIFIED:20231231T151256Z
UID:10000515-1717772400-1717866000@www.bsator.com
SUMMARY:2024 Central New York Trade-O-Ree
DESCRIPTION:Date: June 7-8\, 2024 \nAddress:\nComing Soon \nTimes:\nFriday: ?\nSaturday: ? \nContact: Steve Austin\nEmail: saustincsp@gmail.com\nPhone: (315) 420-0333 \n\n \nTrade-O-Ree Flyer\n\n\n    Download the PDF file .
URL:https://www.bsator.com/event/2024-central-new-york-trade-o-ree/
LOCATION:MS
ATTACH;FMTTYPE=image/jpeg:https://www.bsator.com/wp-content/uploads/2016/05/11402447_10153489190010992_6780963237335378505_o.jpg.opt430x322o00s430x322.jpg
ORGANIZER;CN="Steve Austin":MAILTO:saustincsp@gmail.com
END:VEVENT
BEGIN:VEVENT
DTSTART;TZID=UTC:20240607T170000
DTEND;TZID=UTC:20240608T150000
DTSTAMP:20260425T124257
CREATED:20231207T235235Z
LAST-MODIFIED:20240929T040727Z
UID:10000510-1717779600-1717858800@www.bsator.com
SUMMARY:1st Annual Hawkeye Area Council Trade-O-Ree - State Iowa
DESCRIPTION:Date: June 7-8\, 2024 \nAddress:\nMarion Methodist Church Hall\n5050 REC Drive\nMarion\, Iowa 52302 \nTimes:\nFriday: 5pm – 9:30pm (Vendor setup on Friday at 3:30pm)\nSaturday: 9am – 3pm (Vendor setup on Saturday at 8:00am) \nContact: Loren Waterman\nEmail: lh20man@msn.com\nPhone: (319) 310-0276 \n\n \nTrade-O-Ree Flyer\n\n\n    Download the PDF file .
URL:https://www.bsator.com/event/1st-annual-hawkeye-area-council-trade-o-ree-state-iowa/
LOCATION:Marion Methodist Church Hall\, 5050 REC Drive\, Marion\, IA\, 52302\, United States
ATTACH;FMTTYPE=image/jpeg:https://www.bsator.com/wp-content/uploads/2023/12/447748283_10231239809757104_2244615323060558198_n.jpg
ORGANIZER;CN="Loren Waterman":MAILTO:lh20man@msn.com
END:VEVENT
END:VCALENDAR