BEGIN:VCALENDAR
VERSION:2.0
PRODID:-//Boy Scout Trade-O-Ree Calendar - ECPv6.15.20//NONSGML v1.0//EN
CALSCALE:GREGORIAN
METHOD:PUBLISH
X-WR-CALNAME:Boy Scout Trade-O-Ree Calendar
X-ORIGINAL-URL:https://www.bsator.com
X-WR-CALDESC:Events for Boy Scout Trade-O-Ree Calendar
REFRESH-INTERVAL;VALUE=DURATION:PT1H
X-Robots-Tag:noindex
X-PUBLISHED-TTL:PT1H
BEGIN:VTIMEZONE
TZID:UTC
BEGIN:STANDARD
TZOFFSETFROM:+0000
TZOFFSETTO:+0000
TZNAME:UTC
DTSTART:20230101T000000
END:STANDARD
END:VTIMEZONE
BEGIN:VEVENT
DTSTART;TZID=UTC:20241108T140000
DTEND;TZID=UTC:20241109T150000
DTSTAMP:20260425T014955
CREATED:20231231T054847Z
LAST-MODIFIED:20250328T040027Z
UID:10000523-1731074400-1731164400@www.bsator.com
SUMMARY:Greater Cincinnati Area Trade-O-Ree - State: Ohio
DESCRIPTION:Date: November 8-9\, 2024 \nAddress:\nCamp Friedlander\n581 Ibold Rd\nLoveland\, OH 45140 \nTimes:\nFriday: 2pm-10pm\nSaturday: 9am-3pm \nContact: Terry Aufermann\nEmail: terryaufermann@gmail.com\nPhone: ? \nContact: Brian Holtel\nEmail: holtel@hotmail.com\nPhone: ? \n\n \nTrade-O-Ree Flyer\n\n\n    Download the PDF file .
URL:https://www.bsator.com/event/greater-cincinnati-area-trade-o-ree-state-ohio/
LOCATION:Camp Friedlander\, 581 Ibold Rd\, Loveland\, OH\, 45140\, United States
ATTACH;FMTTYPE=image/png:https://www.bsator.com/wp-content/uploads/2023/12/GCA-Picture.png
END:VEVENT
BEGIN:VEVENT
DTSTART;TZID=UTC:20241108T170000
DTEND;TZID=UTC:20241109T150000
DTSTAMP:20260425T014955
CREATED:20240707T170329Z
LAST-MODIFIED:20240917T173418Z
UID:10000533-1731085200-1731164400@www.bsator.com
SUMMARY:2024 Northern California Trade-O-Ree & Memorabilia Auction - State: California
DESCRIPTION:Date: November 8-9\, 2024 \nAddress:\nPalo Alto Service Center\n1305 Middlefield Road\nPalo Alto\, CA 94303 \nTimes:\nFriday: 5pm – 9:30pm\nSaturday: 8:30am – 3pm \nContact: David Miura\nEmail: TOR@ohlone63.org\nPhone: (510) 541-8017 \n\nRegister Now\n\n \nTrade-O-Ree Flyer
URL:https://www.bsator.com/event/2024-pacific-skyline-council-trade-o-ree-memorabilia-auction-state-california/
LOCATION:Palo Alto Service Center\, 1305 Middlefield Road\, Palo Alto\, CA\, 94303\, United States
ATTACH;FMTTYPE=image/jpeg:https://www.bsator.com/wp-content/uploads/2016/06/12052639_10205296876809940_4021707816250912394_o.jpg.opt430x287o00s430x287.jpg
ORGANIZER;CN="David Miura":MAILTO:TOR@ohlone63.org
GEO:37.4445335;-122.1455875
X-APPLE-STRUCTURED-LOCATION;VALUE=URI;X-ADDRESS=Palo Alto Service Center 1305 Middlefield Road Palo Alto CA 94303 United States;X-APPLE-RADIUS=500;X-TITLE=1305 Middlefield Road:geo:-122.1455875,37.4445335
END:VEVENT
END:VCALENDAR