BEGIN:VCALENDAR
VERSION:2.0
PRODID:-//Boy Scout Trade-O-Ree Calendar - ECPv6.15.20//NONSGML v1.0//EN
CALSCALE:GREGORIAN
METHOD:PUBLISH
X-WR-CALNAME:Boy Scout Trade-O-Ree Calendar
X-ORIGINAL-URL:https://www.bsator.com
X-WR-CALDESC:Events for Boy Scout Trade-O-Ree Calendar
REFRESH-INTERVAL;VALUE=DURATION:PT1H
X-Robots-Tag:noindex
X-PUBLISHED-TTL:PT1H
BEGIN:VTIMEZONE
TZID:UTC
BEGIN:STANDARD
TZOFFSETFROM:+0000
TZOFFSETTO:+0000
TZNAME:UTC
DTSTART:20240101T000000
END:STANDARD
END:VTIMEZONE
BEGIN:VEVENT
DTSTART;TZID=UTC:20250207T150000
DTEND;TZID=UTC:20250208T150000
DTSTAMP:20260425T000907
CREATED:20240720T051430Z
LAST-MODIFIED:20250711T031305Z
UID:10000537-1738940400-1739026800@www.bsator.com
SUMMARY:5th Annual Greater Tampa Bay Area Trade-O-Ree - State: Florida
DESCRIPTION:Date: February 7-8\, 2025 \nAddress:\nSand Hill Scout Reservation\n11210 Cortez Boulevard\nBrooksville\, FL 34613 \nTimes:\nFriday: 3pm – 10pm\nSaturday: 9am – 3pm \nContact: Tim Faughnan\nEmail: tim.faughnan@gmail.com\nPhone: (727) 534-6942 \n\n \nTrade-O-Ree Flyer\n\n[PDF]https://www.bsator.com/wp-content/uploads/2024/07/Greater-Tampa-TOR.pdf[/PDF]
URL:https://www.bsator.com/event/5th-annual-greater-tampa-bay-area-trade-o-ree-state-florida/
LOCATION:Sand Hill Scout Reservation\, 11210 Cortez Boulevard\, Brooksville\, FL\, 34613\, United States
ATTACH;FMTTYPE=image/jpeg:https://www.bsator.com/wp-content/uploads/2018/05/44426272_252452038787415_7503875832587223040_n.jpg
ORGANIZER;CN="Tim Faughnan":MAILTO:tim.faughnan@gmail.com
END:VEVENT
BEGIN:VEVENT
DTSTART;TZID=UTC:20250207T170000
DTEND;TZID=UTC:20250208T150000
DTSTAMP:20260425T000907
CREATED:20240707T173436Z
LAST-MODIFIED:20240929T043027Z
UID:10000534-1738947600-1739026800@www.bsator.com
SUMMARY:2025 Old North State Trade-O-Ree - State: North Carolina
DESCRIPTION:Date: February 7-8\, 2025 \nAddress:\nJamestown Presbyterian Church\n1804 Guilford College Road\nJamestown\, NC 27282 \nTimes:\nFriday: 5pm – 11pm\nSaturday: 9am – 3pm \nContact: Jason Hardy\nEmail: jshardy31@gmail.com\nPhone: (336) 451-7710 \n\n \nTrade-O-Ree Flyer\n\n\n    Download the PDF file .
URL:https://www.bsator.com/event/2025-old-north-state-trade-o-ree-state-north-carolina/
LOCATION:Jamestown Presbyterian Church\, 1804 Guilford College Road\, Jamestown\, NC\, 27282\, United States
ATTACH;FMTTYPE=image/jpeg:https://www.bsator.com/wp-content/uploads/2024/07/426322582_10113245865606042_4360608944043898012_n.jpg
ORGANIZER;CN="Jason Hardy":MAILTO:jshardy31@gmail.com
END:VEVENT
BEGIN:VEVENT
DTSTART;TZID=UTC:20250207T180000
DTEND;TZID=UTC:20250208T150000
DTSTAMP:20260425T000907
CREATED:20241220T003351Z
LAST-MODIFIED:20241220T003554Z
UID:10000559-1738951200-1739026800@www.bsator.com
SUMMARY:39th Annual Wiatava Lodge Trade-O-Ree - State: California
DESCRIPTION:Date: February 7-8\, 2025 \nAddress:\nLaguna Country United Methodist Church\n24442 Moulton Parkway\nLaguna Woods\, CA 92637 \nTimes:\nFriday: 6pm – 9:30pm\nSaturday: 9am – 3pm \nContact: Brian Holmes\nEmail: cdoobrian@yahoo.com\nPhone: ? \n\n \nTrade-O-Ree Flyer\n\n\n    Download the PDF file .
URL:https://www.bsator.com/event/2025-wiatava-lodge-trade-o-ree-state-california/
LOCATION:Laguna Country United Methodist Church\, 24442 Moulton Parkway\, Laguna Woods\, CA\, 92637\, United States
ATTACH;FMTTYPE=image/jpeg:https://www.bsator.com/wp-content/uploads/2016/05/12764659_10205642706695471_8217570526336779486_o.jpg.opt415x277o00s415x277.jpg
ORGANIZER;CN="Brian Holmes":MAILTO:cdoobrian@yahoo.com
END:VEVENT
END:VCALENDAR