BEGIN:VCALENDAR
VERSION:2.0
PRODID:-//Boy Scout Trade-O-Ree Calendar - ECPv6.15.20//NONSGML v1.0//EN
CALSCALE:GREGORIAN
METHOD:PUBLISH
X-WR-CALNAME:Boy Scout Trade-O-Ree Calendar
X-ORIGINAL-URL:https://www.bsator.com
X-WR-CALDESC:Events for Boy Scout Trade-O-Ree Calendar
REFRESH-INTERVAL;VALUE=DURATION:PT1H
X-Robots-Tag:noindex
X-PUBLISHED-TTL:PT1H
BEGIN:VTIMEZONE
TZID:UTC
BEGIN:STANDARD
TZOFFSETFROM:+0000
TZOFFSETTO:+0000
TZNAME:UTC
DTSTART:20240101T000000
END:STANDARD
END:VTIMEZONE
BEGIN:VEVENT
DTSTART;TZID=UTC:20250530T130000
DTEND;TZID=UTC:20250531T140000
DTSTAMP:20260424T155915
CREATED:20250321T134103Z
LAST-MODIFIED:20250321T135313Z
UID:10000574-1748610000-1748700000@www.bsator.com
SUMMARY:2025 Lone Star Trade-O-Ree State: Texas
DESCRIPTION:Date: May 30-31\, 2025 \nAddress:\nKnights of Columbus Hall\n1319 Brown Trail\nBedford\, TX 76021 \nTimes:\nFriday: 1pm – 9pm (Set-up: 1pm – 3pm)\nSaturday: 9am – 2pm \nContact: John Ryan\nEmail: thetexaswebguy@yahoo.com\nPhone: (817) 939-5673 \nWe welcome the tired\, the hungry and those with PATCH FEVER to the Annual Lone Star Trade O Ree that’s located in a “hometown” setting perfect for picking up a few patches\, trading a few patches\, GIVING AWAY A LOT OF PATCHES (Youth Auction). \nFor Scouts 18 and under\, we have a special YOUTH Table where you drop your patch on the table (and pick one up – Scouts Honor). Please take a minute to put this on your calendar – drop by for some great collecting!!! \nRegister Now\n \nTrade-O-Ree Flyer\n\n\n    Download the PDF file .
URL:https://www.bsator.com/event/2025-lone-star-trade-o-ree-state-texas/
LOCATION:Knights of Columbus Hall\, 1319 Brown Trail\, Bedford\, TX\, 76021\, United States
ATTACH;FMTTYPE=image/jpeg:https://www.bsator.com/wp-content/uploads/2022/02/thumbnail.jpeg
ORGANIZER;CN="John Ryan":MAILTO:thetexaswebguy@yahoo.com
END:VEVENT
BEGIN:VEVENT
DTSTART;TZID=UTC:20250530T160000
DTEND;TZID=UTC:20250531T150000
DTSTAMP:20260424T155915
CREATED:20250204T161350Z
LAST-MODIFIED:20250204T161350Z
UID:10000565-1748620800-1748703600@www.bsator.com
SUMMARY:47th Annual California Inland Empire Council Trade-O-Ree
DESCRIPTION:Date: May 30-31\, 2025 \nAddress:\nImmanuel Lutheran Church & School\n5455 Alessandro Blvd.\nRiverside\, CA 92506-3537 \nTimes:\nFriday: 4pm – 9pm\nSaturday: 9am – 3pm \nContact 1: Matt Brandt\nEmail: mkb969@verizon.net\nPhone: (951) 992-9438 \n\n    Download the PDF file .
URL:https://www.bsator.com/event/47th-annual-california-inland-empire-council-trade-o-ree/
LOCATION:Immanuel Lutheran Church\, 5545 Alessandro Blvd\, Riverside\, CA\, 92506\, United States
ATTACH;FMTTYPE=image/jpeg:https://www.bsator.com/wp-content/uploads/2016/06/1890417_10202588828390422_5847759151497661390_o.jpg.opt430x286o00s430x286.jpg
ORGANIZER;CN="Matt Brandt":MAILTO:mkb969@verizon.net
END:VEVENT
END:VCALENDAR