BEGIN:VCALENDAR
VERSION:2.0
PRODID:-//Boy Scout Trade-O-Ree Calendar - ECPv6.15.20//NONSGML v1.0//EN
CALSCALE:GREGORIAN
METHOD:PUBLISH
X-WR-CALNAME:Boy Scout Trade-O-Ree Calendar
X-ORIGINAL-URL:https://www.bsator.com
X-WR-CALDESC:Events for Boy Scout Trade-O-Ree Calendar
REFRESH-INTERVAL;VALUE=DURATION:PT1H
X-Robots-Tag:noindex
X-PUBLISHED-TTL:PT1H
BEGIN:VTIMEZONE
TZID:UTC
BEGIN:STANDARD
TZOFFSETFROM:+0000
TZOFFSETTO:+0000
TZNAME:UTC
DTSTART:20240101T000000
END:STANDARD
END:VTIMEZONE
BEGIN:VEVENT
DTSTART;TZID=UTC:20251004T090000
DTEND;TZID=UTC:20251005T160000
DTSTAMP:20260424T002243
CREATED:20250329T010251Z
LAST-MODIFIED:20250329T011508Z
UID:10000582-1759568400-1759680000@www.bsator.com
SUMMARY:38th Annual Sunshine Trade-O-Ree - State: Florida
DESCRIPTION:Date: October 4-5\, 2025 \nAddress:\nCamp La-No-Che (W.T. Bland Dining Hall)\n41940 Boy Scout Rd\nPaisley\, FL 32767 \nTimes:\nSaturday: 10am – 10pm (Table Renters: 9am)\nSunday: 8am – 4pm \nContact: Howard Gross\nEmail: howardgr326@gmail.com\nPhone: (407) 415-0476 \nFREE Entry For All.\nThis is a SATURDAY/ SUNDAY PATCH TRADE-O-REE.\nRegister For The Show Online At The Central Florida\nBoy Scout Council Office Website.\nLive Patch Auctions Saturday and Sunday As Well As\nSilent Patch Auctions Saturday and Sunday Until 1pm.\nFood and Drinks Available. \n\n \nTrade-O-Ree Flyer\n\n\n    Download the PDF file .
URL:https://www.bsator.com/event/38th-annual-sunshine-trade-o-ree-state-florida/
LOCATION:Camp La-No-Che (W.T. Bland Dining Hall)\, 41940 Boy Scout Rd\, Paisley\, FL\, 32767\, United States
ATTACH;FMTTYPE=image/jpeg:https://www.bsator.com/wp-content/uploads/2016/08/IMG_8041.jpg
ORGANIZER;CN="Howard Gross":MAILTO:howardgr326@gmail.com
END:VEVENT
BEGIN:VEVENT
DTSTART;TZID=UTC:20251010T140000
DTEND;TZID=UTC:20251011T150000
DTSTAMP:20260424T002243
CREATED:20241220T070648Z
LAST-MODIFIED:20241220T070648Z
UID:10000355-1760104800-1760194800@www.bsator.com
SUMMARY:2025 Summit Bechtel Reserve National Scout Trade-O-Ree - State: West Virginia
DESCRIPTION:Date: October 10-11\, 2025 \nAddress:\nGene H. Yamagata Hall & Lodge at The J.W. Marriott Jr. Leadership Center (Summit Bechtel Reserve)\n1189 Jack Furst Road\nGlen Jean\, WV 25846 \nTimes:\nFriday: 2pm – 12am\nSaturday: 9am – 3pm \nContact: Chris Jensen\nEmail: cjensen@streamwood.net\nPhone: (864) 859-2915 \n\n \nTrade-O-Ree Flyer\n\n\n    Download the PDF file .
URL:https://www.bsator.com/event/2025-summit-bechtel-reserve-national-scout-trade-o-ree-state-west-virginia/
LOCATION:Gene H. Yamagata Hall & Lodge at The J.W. Marriott Jr. Leadership Center\, 1189 Jack Furst Road\, Glen Jean\, WV\, 25846\, United States
ATTACH;FMTTYPE=image/jpeg:https://www.bsator.com/wp-content/uploads/2024/12/Marriott-Full-Pic-2.jpg
ORGANIZER;CN="Chris Jensen":MAILTO:cjensen@streamwood.net
END:VEVENT
BEGIN:VEVENT
DTSTART;TZID=UTC:20251010T170000
DTEND;TZID=UTC:20251011T150000
DTSTAMP:20260424T002243
CREATED:20241220T020137Z
LAST-MODIFIED:20241220T020137Z
UID:10000561-1760115600-1760194800@www.bsator.com
SUMMARY:2025 Crossroads of the West Council Fall Trade-O-Ree - State: Utah
DESCRIPTION:Date: October 10-11\, 2025 \nAddress:\nCamp Tracy\n3901 Mill Creek Canyon Rd\nSalt Lake City\, UT 84109 \nTimes:\nFriday: 5pm – 11pm\nSaturday: 9am – ? \nContact: Russ Baker\nPhone: (801) 891-3268 \nContact: Council Service Desk\nPhone: (801) 479-5460 \n \nTrade-O-Ree Flyer\n\n\n    Download the PDF file .
URL:https://www.bsator.com/event/2025-crossroads-of-the-west-council-fall-trade-o-ree-state-utah/
LOCATION:Camp Tracy\, 3901 Mill Creek Canyon Rd\, Salt Lake City\, UT\, 84109\, United States
ATTACH;FMTTYPE=image/jpeg:https://www.bsator.com/wp-content/uploads/2021/03/IMG_3008.jpg
GEO:40.6892018;-111.7886351
X-APPLE-STRUCTURED-LOCATION;VALUE=URI;X-ADDRESS=Camp Tracy 3901 Mill Creek Canyon Rd Salt Lake City UT 84109 United States;X-APPLE-RADIUS=500;X-TITLE=3901 Mill Creek Canyon Rd:geo:-111.7886351,40.6892018
END:VEVENT
BEGIN:VEVENT
DTSTART;TZID=UTC:20251010T180000
DTEND;TZID=UTC:20251011T150000
DTSTAMP:20260424T002243
CREATED:20250328T054017Z
LAST-MODIFIED:20250606T040930Z
UID:10000578-1760119200-1760194800@www.bsator.com
SUMMARY:NY Capital District 2025 Scout Memorabilia Trade-O-Ree
DESCRIPTION:Date: October 10-11\, 2025 \nAddress:\nSchaghticoke Fair Grounds (Building #26)\n69 Stillwater Bridge\nSchaghticoke\, New York 12154 \nTimes:\nFriday: 6pm – 11pm\nSaturday: 9am – 3pm \nContact: Adam Naumovitz\nEmail: TwinRiversToR@gmail.com\nPhone: (518) 336-0633 \nContact 1: Robert Pattison\nEmail: pattison_r@yahoo.com\nPhone: (518) 944-5794 \nRegister Now\n\n \nTrade-O-Ree Flyer\n\n\n    Download the PDF file .
URL:https://www.bsator.com/event/ny-capital-district-2025-scout-memorabilia-trade-o-ree/
LOCATION:Schaghticoke Fair Grounds\, 69 Stillwater Bridge\, Schaghticoke\, 12154\, United States
ATTACH;FMTTYPE=image/jpeg:https://www.bsator.com/wp-content/uploads/2023/06/385786099_10233437609828571_9140442303049247041_n.jpg
ORGANIZER;CN="Adam Naumovitz":MAILTO:TwinRiversToR@gmail.com
END:VEVENT
BEGIN:VEVENT
DTSTART;TZID=UTC:20251011T090000
DTEND;TZID=UTC:20251011T150000
DTSTAMP:20260424T002243
CREATED:20250525T031158Z
LAST-MODIFIED:20250525T031158Z
UID:10000386-1760173200-1760194800@www.bsator.com
SUMMARY:2025 Central Minnesota Council Trade-O-Ree
DESCRIPTION:Date: October 11\, 2025 \nAddress:\nWatkins Scout Center\n1191 Scout Dr\nSartell\, MN 56377 \nTimes:\nSaturday: 9am – 3pm (7:30am Dealer Setup) \nContact: Steven Reese\nEmail: flyingreese@gmail.com\nPhone: (320) 224-5742 \n\n \nTrade-O-Ree Flyer\n\n\n    Download the PDF file .
URL:https://www.bsator.com/event/2025-central-minnesota-council-trade-o-ree/
LOCATION:Watkins Scout Center\, 1191 Scout Dr\, Sartell\, MN\, 56377\, United States
ATTACH;FMTTYPE=image/jpeg:https://www.bsator.com/wp-content/uploads/2016/06/SWAPSHOP_zpsd7821994-4-1.jpg.opt430x360o00s430x360-4-1.jpg
ORGANIZER;CN="Steven Reese":MAILTO:flyingreese@gmail.com
END:VEVENT
END:VCALENDAR