BEGIN:VCALENDAR
VERSION:2.0
PRODID:-//Boy Scout Trade-O-Ree Calendar - ECPv6.15.20//NONSGML v1.0//EN
CALSCALE:GREGORIAN
METHOD:PUBLISH
X-ORIGINAL-URL:https://www.bsator.com
X-WR-CALDESC:Events for Boy Scout Trade-O-Ree Calendar
REFRESH-INTERVAL;VALUE=DURATION:PT1H
X-Robots-Tag:noindex
X-PUBLISHED-TTL:PT1H
BEGIN:VTIMEZONE
TZID:UTC
BEGIN:STANDARD
TZOFFSETFROM:+0000
TZOFFSETTO:+0000
TZNAME:UTC
DTSTART:20240101T000000
END:STANDARD
END:VTIMEZONE
BEGIN:VEVENT
DTSTART;TZID=UTC:20251107T170000
DTEND;TZID=UTC:20251108T150000
DTSTAMP:20260423T225649
CREATED:20241220T004217Z
LAST-MODIFIED:20241220T004250Z
UID:10000560-1762534800-1762614000@www.bsator.com
SUMMARY:2025 Northern California Trade-O-Ree & Memorabilia Auction - State: California
DESCRIPTION:Date: November 7-8\, 2025 \nAddress:\nPalo Alto Service Center\n1305 Middlefield Road\nPalo Alto\, CA 94303 \nTimes:\nFriday: 5pm – 9:30pm\nSaturday: 8:30am – 3pm \nContact: David Miura\nEmail: TOR@ohlone63.org\nPhone: (510) 541-8017 \n\nRegister Now\n\n \nTrade-O-Ree Flyer\n\n\n    Download the PDF file .
URL:https://www.bsator.com/event/2025-northern-california-trade-o-ree-memorabilia-auction-state-california/
LOCATION:Palo Alto Service Center\, 1305 Middlefield Road\, Palo Alto\, CA\, 94303\, United States
ATTACH;FMTTYPE=image/jpeg:https://www.bsator.com/wp-content/uploads/2016/06/12052639_10205296876809940_4021707816250912394_o.jpg.opt430x287o00s430x287.jpg
ORGANIZER;CN="David Miura":MAILTO:TOR@ohlone63.org
GEO:37.4445335;-122.1455875
X-APPLE-STRUCTURED-LOCATION;VALUE=URI;X-ADDRESS=Palo Alto Service Center 1305 Middlefield Road Palo Alto CA 94303 United States;X-APPLE-RADIUS=500;X-TITLE=1305 Middlefield Road:geo:-122.1455875,37.4445335
END:VEVENT
BEGIN:VEVENT
DTSTART;TZID=UTC:20251107T170000
DTEND;TZID=UTC:20251108T150000
DTSTAMP:20260423T225649
CREATED:20250726T232722Z
LAST-MODIFIED:20250726T233027Z
UID:10000587-1762534800-1762614000@www.bsator.com
SUMMARY:Nayawin Rar Lodge Trade-O-Ree - State: North Carolina
DESCRIPTION:Date: November 7-8\, 2025 \nAddress:\nTuscarora Scout Reservation\n965 Scout Road\nFour Oaks\, NC 27524 \nTimes:\nFriday: 5pm – 10pm (Dealer Setup: 3pm)\nSaturday: 7am – 3pm \nContact: Matthew Ghirarda\nEmail: ?\nPhone: (919) 734-1714 \nContact: Larry Lane\nEmail: Lanel13@ecualumni.ecu.edu\nPhone: (919) 631-4148 \n\n \nTrade-O-Ree Flyer\n\n\n    Download the PDF file .
URL:https://www.bsator.com/event/nayawin-rar-lodge-trade-o-ree-state-north-carolina/
LOCATION:Tuscarora Scout Reservation\, 965 Scout Road\, Four Oaks\, NC\, 27524\, United States
ATTACH;FMTTYPE=image/jpeg:https://www.bsator.com/wp-content/uploads/2016/06/SWAPSHOP_zpsd7821994-4-1.jpg.opt430x360o00s430x360-4-1.jpg
END:VEVENT
END:VCALENDAR