BEGIN:VCALENDAR
VERSION:2.0
PRODID:-//Boy Scout Trade-O-Ree Calendar - ECPv6.15.20//NONSGML v1.0//EN
CALSCALE:GREGORIAN
METHOD:PUBLISH
X-WR-CALNAME:Boy Scout Trade-O-Ree Calendar
X-ORIGINAL-URL:https://www.bsator.com
X-WR-CALDESC:Events for Boy Scout Trade-O-Ree Calendar
REFRESH-INTERVAL;VALUE=DURATION:PT1H
X-Robots-Tag:noindex
X-PUBLISHED-TTL:PT1H
BEGIN:VTIMEZONE
TZID:UTC
BEGIN:STANDARD
TZOFFSETFROM:+0000
TZOFFSETTO:+0000
TZNAME:UTC
DTSTART:20240101T000000
END:STANDARD
END:VTIMEZONE
BEGIN:VEVENT
DTSTART;TZID=UTC:20251212T180000
DTEND;TZID=UTC:20251213T130000
DTSTAMP:20260423T213233
CREATED:20251207T032750Z
LAST-MODIFIED:20251207T032750Z
UID:10000594-1765562400-1765630800@www.bsator.com
SUMMARY:32nd Annual Old Hickory Trade-O-Ree - State: North Carolina
DESCRIPTION:Date: December 12-13\, 2025 \nAddress:\nHopewell Moravian Church\n701 Hopewell Church Rd\nWinston-Salem\, NC 27127 \nTimes:\nFriday: 6pm – 11pm\nSaturday: 9am – 1pm \nContact: Matt White\nEmail: mbwhite118@aol.com\nPhone: (336) 399-6041 \nRegister Now\n\n \nTrade-O-Ree Flyer\n\n\n    Download the PDF file .
URL:https://www.bsator.com/event/32nd-annual-old-hickory-trade-o-ree-state-north-carolina/
LOCATION:Hopewell Moravian Church\, 701 Hopewell Church Rd.\, Winston-Salem\, NC\, 27127\, United States
ATTACH;FMTTYPE=image/jpeg:https://www.bsator.com/wp-content/uploads/2016/12/15338742_10102526705973068_7762759780516699252.jpg
ORGANIZER;CN="Matt White":MAILTO:mbwhite118@aol.com
GEO:36.014043;-80.247395
X-APPLE-STRUCTURED-LOCATION;VALUE=URI;X-ADDRESS=Hopewell Moravian Church 701 Hopewell Church Rd. Winston-Salem NC 27127 United States;X-APPLE-RADIUS=500;X-TITLE=701 Hopewell Church Rd.:geo:-80.247395,36.014043
END:VEVENT
END:VCALENDAR