BEGIN:VCALENDAR
VERSION:2.0
PRODID:-//Boy Scout Trade-O-Ree Calendar - ECPv6.15.20//NONSGML v1.0//EN
CALSCALE:GREGORIAN
METHOD:PUBLISH
X-ORIGINAL-URL:https://www.bsator.com
X-WR-CALDESC:Events for Boy Scout Trade-O-Ree Calendar
REFRESH-INTERVAL;VALUE=DURATION:PT1H
X-Robots-Tag:noindex
X-PUBLISHED-TTL:PT1H
BEGIN:VTIMEZONE
TZID:UTC
BEGIN:STANDARD
TZOFFSETFROM:+0000
TZOFFSETTO:+0000
TZNAME:UTC
DTSTART:20250101T000000
END:STANDARD
END:VTIMEZONE
BEGIN:VEVENT
DTSTART;TZID=UTC:20260116T160000
DTEND;TZID=UTC:20260117T150000
DTSTAMP:20260423T225612
CREATED:20250914T051806Z
LAST-MODIFIED:20250914T051806Z
UID:10000591-1768579200-1768662000@www.bsator.com
SUMMARY:35th Annual South Carolina (Winter) Trade-O-Ree - State: South Carolina
DESCRIPTION:Date: January 16-17\, 2026 \nAddress:\nJ.B. “Red” Owens Recreation Complex\n111 Walkers Way\nEasley\, SC 29642 \nTimes:\nFriday: 4pm – 11:30pm\n(6pm – Free Pizza Party)\n(7pm – Silent Auctions Start)\nSaturday: 8am – 3pm \nTOR Wall Tables: $30\nTOR Inside Tables: $25\nAdults: $3\nYouth: FREE \nContact: Chris Jensen\nEmail: CJENSEN@STREAMWOOD.NET\nPhone: (864) 859-2915 \nRegister Now\n\n \nTrade-O-Ree Flyer\n\n\n    Download the PDF file .
URL:https://www.bsator.com/event/35th-annual-south-carolina-winter-trade-o-ree-state-south-carolina/
LOCATION:J.B. “Red” Owens Recreation Complex\, 111 Walkers Way\, Easley\, SC\, 29642\, United States
ATTACH;FMTTYPE=image/jpeg:https://www.bsator.com/wp-content/uploads/2016/05/563007_294437054016777_2059250902_n.jpg
ORGANIZER;CN="Chris Jensen":MAILTO:cjensen@streamwood.net
GEO:34.8043102;-82.5869585
X-APPLE-STRUCTURED-LOCATION;VALUE=URI;X-ADDRESS=J.B. “Red” Owens Recreation Complex 111 Walkers Way Easley SC 29642 United States;X-APPLE-RADIUS=500;X-TITLE=111 Walkers Way:geo:-82.5869585,34.8043102
END:VEVENT
END:VCALENDAR