BEGIN:VCALENDAR
VERSION:2.0
PRODID:-//Boy Scout Trade-O-Ree Calendar - ECPv6.15.20//NONSGML v1.0//EN
CALSCALE:GREGORIAN
METHOD:PUBLISH
X-ORIGINAL-URL:https://www.bsator.com
X-WR-CALDESC:Events for Boy Scout Trade-O-Ree Calendar
REFRESH-INTERVAL;VALUE=DURATION:PT1H
X-Robots-Tag:noindex
X-PUBLISHED-TTL:PT1H
BEGIN:VTIMEZONE
TZID:UTC
BEGIN:STANDARD
TZOFFSETFROM:+0000
TZOFFSETTO:+0000
TZNAME:UTC
DTSTART:20250101T000000
END:STANDARD
END:VTIMEZONE
BEGIN:VEVENT
DTSTART;TZID=UTC:20260206T160000
DTEND;TZID=UTC:20260207T150000
DTSTAMP:20260423T200039
CREATED:20250202T165153Z
LAST-MODIFIED:20250212T184015Z
UID:10000365-1770393600-1770476400@www.bsator.com
SUMMARY:33rd Annual Crossroads of America Trade-O-Ree - State: Indiana
DESCRIPTION:Date: February 6-7\, 2026 \nAddress:\nBoone County Fairgrounds\n1300 E 100 South\nLebanon\, IN 46052 \nTimes:\nFriday:  4pm – 9pm (Doors Open at 12pm for Table Vendors)\nSaturday: 8am – 3pm \nContact: Rob Tankersley\nEmail: torinfo@cacin.us\nPhone: (317) 813-7125 \n\n \nTrade-O-Ree Flyer\n\n\n    Download the PDF file .
URL:https://www.bsator.com/event/33rd-annual-crossroads-of-america-trade-o-ree-state-indiana/
LOCATION:Boone County Fairgrounds\, 1300 E 100 South\, Lebanon\, IN\, 46052\, United States
ATTACH;FMTTYPE=image/jpeg:https://www.bsator.com/wp-content/uploads/2024/02/425339815_3693929174155960_1873716257857949578_n.jpg
ORGANIZER;CN="Rob Tankersley":MAILTO:torinfo@cacin.us
END:VEVENT
BEGIN:VEVENT
DTSTART;TZID=UTC:20260206T170000
DTEND;TZID=UTC:20260207T150000
DTSTAMP:20260423T200039
CREATED:20250816T041213Z
LAST-MODIFIED:20250816T041320Z
UID:10000588-1770397200-1770476400@www.bsator.com
SUMMARY:2026 Old North State Trade-O-Ree - State: North Carolina
DESCRIPTION:Date: February 6-7\, 2026 \nAddress:\nJamestown Presbyterian Church\n1804 Guilford College Road\nJamestown\, NC 27282 \nTimes:\nFriday: 5pm – 10pm\nSaturday: 9am – 3pm \nContact: Smith Hardy\nEmail: jshalarms@aol.com\nPhone: (336) 908-5507 \nContact: Jason Hardy\nEmail: jshardy31@gmail.com\nPhone: (336) 451-7710 \nContact: Bud Harrelson\nEmail: bud.harrelson@scouting.org\nPhone: ? \n\n \nTrade-O-Ree Flyer\n\n\n    Download the PDF file .
URL:https://www.bsator.com/event/2026-old-north-state-trade-o-ree-state-north-carolina/
LOCATION:Jamestown Presbyterian Church\, 1804 Guilford College Road\, Jamestown\, NC\, 27282\, United States
ATTACH;FMTTYPE=image/jpeg:https://www.bsator.com/wp-content/uploads/2024/07/426322582_10113245865606042_4360608944043898012_n.jpg
ORGANIZER;CN="Jason Hardy":MAILTO:jshardy31@gmail.com
END:VEVENT
END:VCALENDAR