BEGIN:VCALENDAR
VERSION:2.0
PRODID:-//Boy Scout Trade-O-Ree Calendar - ECPv6.15.20//NONSGML v1.0//EN
CALSCALE:GREGORIAN
METHOD:PUBLISH
X-ORIGINAL-URL:https://www.bsator.com
X-WR-CALDESC:Events for Boy Scout Trade-O-Ree Calendar
REFRESH-INTERVAL;VALUE=DURATION:PT1H
X-Robots-Tag:noindex
X-PUBLISHED-TTL:PT1H
BEGIN:VTIMEZONE
TZID:UTC
BEGIN:STANDARD
TZOFFSETFROM:+0000
TZOFFSETTO:+0000
TZNAME:UTC
DTSTART:20250101T000000
END:STANDARD
END:VTIMEZONE
BEGIN:VEVENT
DTSTART;TZID=UTC:20260508T120000
DTEND;TZID=UTC:20260509T160000
DTSTAMP:20260423T210834
CREATED:20260205T052445Z
LAST-MODIFIED:20260205T052633Z
UID:10000622-1778241600-1778342400@www.bsator.com
SUMMARY:12th Annual Alabama Trade-O-Ree
DESCRIPTION:Date: May 8-9\, 2026 \nAddress:\nFive Points Baptist Church\n3718 36th Street\nNorthport\, ALABAMA 35473\n(Located behind the Northport Civic Center off Hwy 43) \nTimes:\nFriday: 2pm – 10pm (Dealer Set up: 12pm)\nSaturday: 8am – 4pm \nContact: Jon Hall\nEmail: camper481@aol.com\nPhone: (205) 799-5939 \nSold all 101 tables last three years. Might have more this year! Great event with plenty of local walk through and dealers from 15 states. Display competition. Food on site. Lots of local attractions\, good hotels/motels and resturants. \nRegister Now\n \nTrade-O-Ree Flyer\n\n\n    Download the PDF file .
URL:https://www.bsator.com/event/12th-annual-alabama-trade-o-ree/
LOCATION:Five Points Baptist Church\, 3718 36th Street\, Northport\, AL\, 35473\, United States
ATTACH;FMTTYPE=image/jpeg:https://www.bsator.com/wp-content/uploads/2016/09/Alabama-Image.jpg
ORGANIZER;CN="Jon Hall":MAILTO:camper481@aol.com
END:VEVENT
BEGIN:VEVENT
DTSTART;TZID=UTC:20260509T073000
DTEND;TZID=UTC:20260509T163000
DTSTAMP:20260423T210834
CREATED:20260315T020054Z
LAST-MODIFIED:20260315T020126Z
UID:10000628-1778311800-1778344200@www.bsator.com
SUMMARY:4th Annual Susquehanna Council Cabin Fever Trade-O-Ree - State: Pennsylvania
DESCRIPTION:Date: May 9\, 2026 \nAddress:\nSaint John’s Newberry United Methodist Church\n2101 Newberry Street\nWilliamsport\, PA 17701 \nTimes:\nSaturday: 9am – 4:30pm (Set-up: 7:30am) \nContact: Don Cohick\nEmail: donaldcohick@gmail.com\nPhone: (570) 419-0181 \n\n \nTrade-O-Ree Flyer\n\n\n    Download the PDF file .
URL:https://www.bsator.com/event/4th-annual-susquehanna-council-cabin-fever-trade-o-ree-state-pennsylvania/
LOCATION:Saint John’s Newberry United Methodist Church\, 2101 Newberry Street\, Williamsport\, PA\, 17701\, United States
ATTACH;FMTTYPE=image/jpeg:https://www.bsator.com/wp-content/uploads/2025/04/495173984_10102219128166882_4282732753798792818_n.jpg
ORGANIZER;CN="Don Cohick":MAILTO:donaldcohick@gmail.com
END:VEVENT
END:VCALENDAR