BEGIN:VCALENDAR
VERSION:2.0
PRODID:-//Boy Scout Trade-O-Ree Calendar - ECPv6.15.20//NONSGML v1.0//EN
CALSCALE:GREGORIAN
METHOD:PUBLISH
X-WR-CALNAME:Boy Scout Trade-O-Ree Calendar
X-ORIGINAL-URL:https://www.bsator.com
X-WR-CALDESC:Events for Boy Scout Trade-O-Ree Calendar
REFRESH-INTERVAL;VALUE=DURATION:PT1H
X-Robots-Tag:noindex
X-PUBLISHED-TTL:PT1H
BEGIN:VTIMEZONE
TZID:UTC
BEGIN:STANDARD
TZOFFSETFROM:+0000
TZOFFSETTO:+0000
TZNAME:UTC
DTSTART:20250101T000000
END:STANDARD
END:VTIMEZONE
BEGIN:VEVENT
DTSTART;TZID=UTC:20261009T170000
DTEND;TZID=UTC:20261010T150000
DTSTAMP:20260424T002206
CREATED:20250427T055700Z
LAST-MODIFIED:20251227T005033Z
UID:10000379-1791565200-1791644400@www.bsator.com
SUMMARY:2026 Crossroads of the West Council Fall Trade-O-Ree - State: Utah
DESCRIPTION:Date: October 9-10\, 2026 \nAddress:\nCamp Tracy\n3901 Mill Creek Canyon Rd\nSalt Lake City\, UT 84109 \nTimes:\nFriday: 5pm – 11pm\nSaturday: 9am – ? \nContact: Russ Baker\nPhone: (801) 891-3268 \nContact: Council Service Desk\nPhone: (801) 479-5460 \n \nTrade-O-Ree Flyer\n\n\n    Download the PDF file .
URL:https://www.bsator.com/event/2026-crossroads-of-the-west-council-fall-trade-o-ree-state-utah/
LOCATION:Camp Tracy\, 3901 Mill Creek Canyon Rd\, Salt Lake City\, UT\, 84109\, United States
ATTACH;FMTTYPE=image/jpeg:https://www.bsator.com/wp-content/uploads/2021/03/IMG_3008.jpg
GEO:40.6892018;-111.7886351
X-APPLE-STRUCTURED-LOCATION;VALUE=URI;X-ADDRESS=Camp Tracy 3901 Mill Creek Canyon Rd Salt Lake City UT 84109 United States;X-APPLE-RADIUS=500;X-TITLE=3901 Mill Creek Canyon Rd:geo:-111.7886351,40.6892018
END:VEVENT
END:VCALENDAR