BEGIN:VCALENDAR
VERSION:2.0
PRODID:-//Boy Scout Trade-O-Ree Calendar - ECPv6.15.20//NONSGML v1.0//EN
CALSCALE:GREGORIAN
METHOD:PUBLISH
X-ORIGINAL-URL:https://www.bsator.com
X-WR-CALDESC:Events for Boy Scout Trade-O-Ree Calendar
REFRESH-INTERVAL;VALUE=DURATION:PT1H
X-Robots-Tag:noindex
X-PUBLISHED-TTL:PT1H
BEGIN:VTIMEZONE
TZID:UTC
BEGIN:STANDARD
TZOFFSETFROM:+0000
TZOFFSETTO:+0000
TZNAME:UTC
DTSTART:20160101T000000
END:STANDARD
END:VTIMEZONE
BEGIN:VEVENT
DTSTART;TZID=UTC:20181006T090000
DTEND;TZID=UTC:20181006T210000
DTSTAMP:20260423T184655
CREATED:20180612T081201Z
LAST-MODIFIED:20180612T081833Z
UID:10000251-1538816400-1538859600@www.bsator.com
SUMMARY:Rota-Kiwan Trade-O-Ree 2018 – State: Michigan
DESCRIPTION:Date: October 6\, 2018 \nAddress:\nRota-Kiwan Scout Reservation\n6278 Texas Drive\nKalamazoo\, MI 49009 \nTimes:\nSaturday: 9am – 9pm \nContact 1: Aaron Collins\nEmail: aaron.collins@scouting.org\nPhone: (734) 807-0201 \nRegister Now\n\n    Download the PDF file .
URL:https://www.bsator.com/event/rota-kiwan-trade-o-ree-2018-state-michigan/
LOCATION:Rota-Kiwan Scout Reservation\, 6278 Texas Drive\, Kalamazoo\, MI\, 49009\, United States
ATTACH;FMTTYPE=image/jpeg:https://www.bsator.com/wp-content/uploads/2016/06/SWAPSHOP_zpsd7821994-4-1.jpg.opt430x360o00s430x360-4-1.jpg
ORGANIZER;CN="Aaron Collins":MAILTO:aaron.collins@scouting.org
GEO:42.211497;-85.6746751
X-APPLE-STRUCTURED-LOCATION;VALUE=URI;X-ADDRESS=Rota-Kiwan Scout Reservation 6278 Texas Drive Kalamazoo MI 49009 United States;X-APPLE-RADIUS=500;X-TITLE=6278 Texas Drive:geo:-85.6746751,42.211497
END:VEVENT
BEGIN:VEVENT
DTSTART;TZID=UTC:20171006T160000
DTEND;TZID=UTC:20171008T150000
DTSTAMP:20260423T184655
CREATED:20161213T182522Z
LAST-MODIFIED:20161214T181702Z
UID:10000020-1507305600-1507474800@www.bsator.com
SUMMARY:Rota-Kiwan Trade-O-Ree 2017 – State: Michigan
DESCRIPTION:Date: October 6-8\, 2017 \nAddress:\nRota-Kiwan Scout Reservation\n6278 Texas Drive\nKalamazoo\, MI 49009 \nTimes:\nFriday: 4pm – 10pm\nSaturday: 9am – 10pm\nSunday: 9am – 3pm \nContact 1: Aaron Collins\nEmail: aaron.collins@scouting.org\nPhone: (734) 807-0201 \nWebsite: Click Here \nFlyer: Coming Soon\n\nRegister Now
URL:https://www.bsator.com/event/rota-kiwan-trade-o-ree-2017-state-michigan/
LOCATION:Rota-Kiwan Scout Reservation\, 6278 Texas Drive\, Kalamazoo\, MI\, 49009\, United States
ATTACH;FMTTYPE=image/jpeg:https://www.bsator.com/wp-content/uploads/2016/06/SWAPSHOP_zpsd7821994-4-1.jpg.opt430x360o00s430x360-4-1.jpg
ORGANIZER;CN="Aaron Collins":MAILTO:aaron.collins@scouting.org
GEO:42.211497;-85.6746751
X-APPLE-STRUCTURED-LOCATION;VALUE=URI;X-ADDRESS=Rota-Kiwan Scout Reservation 6278 Texas Drive Kalamazoo MI 49009 United States;X-APPLE-RADIUS=500;X-TITLE=6278 Texas Drive:geo:-85.6746751,42.211497
END:VEVENT
END:VCALENDAR