BEGIN:VCALENDAR
VERSION:2.0
PRODID:-//Boy Scout Trade-O-Ree Calendar - ECPv6.15.20//NONSGML v1.0//EN
CALSCALE:GREGORIAN
METHOD:PUBLISH
X-WR-CALNAME:Boy Scout Trade-O-Ree Calendar
X-ORIGINAL-URL:https://www.bsator.com
X-WR-CALDESC:Events for Boy Scout Trade-O-Ree Calendar
REFRESH-INTERVAL;VALUE=DURATION:PT1H
X-Robots-Tag:noindex
X-PUBLISHED-TTL:PT1H
BEGIN:VTIMEZONE
TZID:UTC
BEGIN:STANDARD
TZOFFSETFROM:+0000
TZOFFSETTO:+0000
TZNAME:UTC
DTSTART:20160101T000000
END:STANDARD
END:VTIMEZONE
BEGIN:VEVENT
DTSTART;TZID=UTC:20170211T090000
DTEND;TZID=UTC:20170211T160000
DTSTAMP:20260423T173934
CREATED:20160813T051204Z
LAST-MODIFIED:20160829T220646Z
UID:10000003-1486803600-1486828800@www.bsator.com
SUMMARY:MedCity Trade-O-Ree - State: Minnesota
DESCRIPTION:Date: February 11\, 2017 \nAddress:\nZumbro Lutheran Church Gym\n624 3rd Ave SW\nRochester\, MN 55902 \nTimes:\nSaturday: 9am – 4pm \nContact 1: Alex Peters\nEmail: alex.peters314@gmail.com\nPhone: (507) 990-7655 \nFlyer: Click Here\n\nRegister Now \n\n    Download the PDF file .
URL:https://www.bsator.com/event/medcity-trade-o-ree-state-minnesota/
LOCATION:Zumbro Lutheran Church\, 624 3rd Ave SW\, Rochester\, MN\, 55902
ATTACH;FMTTYPE=image/jpeg:https://www.bsator.com/wp-content/uploads/2016/06/SWAPSHOP_zpsd7821994-4-1.jpg.opt430x360o00s430x360-4-1.jpg
ORGANIZER;CN="Alex Peters":MAILTO:alex.peters314@gmail.com
GEO:44.0163416;-92.4669265
X-APPLE-STRUCTURED-LOCATION;VALUE=URI;X-ADDRESS=Zumbro Lutheran Church 624 3rd Ave SW Rochester MN 55902;X-APPLE-RADIUS=500;X-TITLE=624 3rd Ave SW:geo:-92.4669265,44.0163416
END:VEVENT
END:VCALENDAR