BEGIN:VCALENDAR
VERSION:2.0
PRODID:-//Boy Scout Trade-O-Ree Calendar - ECPv6.15.20//NONSGML v1.0//EN
CALSCALE:GREGORIAN
METHOD:PUBLISH
X-WR-CALNAME:Boy Scout Trade-O-Ree Calendar
X-ORIGINAL-URL:https://www.bsator.com
X-WR-CALDESC:Events for Boy Scout Trade-O-Ree Calendar
REFRESH-INTERVAL;VALUE=DURATION:PT1H
X-Robots-Tag:noindex
X-PUBLISHED-TTL:PT1H
BEGIN:VTIMEZONE
TZID:UTC
BEGIN:STANDARD
TZOFFSETFROM:+0000
TZOFFSETTO:+0000
TZNAME:UTC
DTSTART:20150101T000000
END:STANDARD
END:VTIMEZONE
BEGIN:VEVENT
DTSTART;TZID=UTC:20221119T090000
DTEND;TZID=UTC:20221119T150000
DTSTAMP:20260423T180732
CREATED:20221011T164050Z
LAST-MODIFIED:20221011T164339Z
UID:10000459-1668848400-1668870000@www.bsator.com
SUMMARY:25th Annual Kintecoying Trade-O-Ree – State: New Jersey
DESCRIPTION:Date: November 19\, 2022 \nAddress:\nCamp Alpine (John C Whitehead Dining Hall)\n441 US Highway 9 W\nAlpine\, NJ 07620 \nTimes:\nSaturday: 9am – 3pm (Dealer Set Up: 8:30am) \nContact: Bill Mulrenin\nEmail: billmul@mindspring.com\nPhone: (917) 692-9056 \nAs always this TOR will have free admission to all in order to help boost walk-in attendance. \nKintecoying Lodge #4 has assumed the sponsorship for the long running Shu Shu Gah Lodge #24 TOR and the event will once more be held this November after a COVID hiatus. \nKintecoying Lodge will be conducting a live auction at the 2022 TOR. If you are interested in donating items for this auction\, please contact me. Proceeds of the Auction will be used to help support the Lodges Commitment to various service projects during the Scouting Year. \n\nRegister Now\n\n\n    Download the PDF file .
URL:https://www.bsator.com/event/25th-annual-kintecoying-trade-o-ree-state-new-jersey/
LOCATION:Camp Alpine (John C Whitehead Dining Hall)\, 441 US Highway 9 W\, Alpine\, NJ 07620
ATTACH;FMTTYPE=image/jpeg:https://www.bsator.com/wp-content/uploads/2016/11/15133653_1798323937108633_159435161_o.jpg
ORGANIZER;CN="Bill Mulrenin":MAILTO:billmul@mindspring.com
GEO:40.9502238;-73.8922097
X-APPLE-STRUCTURED-LOCATION;VALUE=URI;X-ADDRESS=Camp Alpine (John C Whitehead Dining Hall) 441 US Highway 9 W Alpine NJ 07620;X-APPLE-RADIUS=500;X-TITLE=441 US Highway 9 W:geo:-73.8922097,40.9502238
END:VEVENT
BEGIN:VEVENT
DTSTART;TZID=UTC:20191123T090000
DTEND;TZID=UTC:20191123T150000
DTSTAMP:20260423T180732
CREATED:20190405T121603Z
LAST-MODIFIED:20190519T173504Z
UID:10000127-1574499600-1574521200@www.bsator.com
SUMMARY:24th Annual Kintecoying Trade-O-Ree – State: New Jersey
DESCRIPTION:Date: November 23\, 2019 \nAddress:\nCamp Alpine (John C Whitehead Dining Hall)\n441 US Highway 9 W\nAlpine\, NJ 07620 \nTimes:\nSaturday: 9am – 3pm (Dealer Set Up: 8:30am) \nContact 1: Bill Mulrenin\nEmail: billmul@mindspring.com\nPhone: (917) 692-9056 \n\nRegister Now\n\n\n    Download the PDF file .
URL:https://www.bsator.com/event/24th-annual-kintecoying-trade-o-ree-state-new-jersey/
LOCATION:Camp Alpine (John C Whitehead Dining Hall)\, 441 US Highway 9 W\, Alpine\, NJ 07620
ATTACH;FMTTYPE=image/jpeg:https://www.bsator.com/wp-content/uploads/2016/11/15133653_1798323937108633_159435161_o.jpg
ORGANIZER;CN="Bill Mulrenin":MAILTO:billmul@mindspring.com
GEO:40.9502238;-73.8922097
X-APPLE-STRUCTURED-LOCATION;VALUE=URI;X-ADDRESS=Camp Alpine (John C Whitehead Dining Hall) 441 US Highway 9 W Alpine NJ 07620;X-APPLE-RADIUS=500;X-TITLE=441 US Highway 9 W:geo:-73.8922097,40.9502238
END:VEVENT
BEGIN:VEVENT
DTSTART;TZID=UTC:20181117T090000
DTEND;TZID=UTC:20181117T150000
DTSTAMP:20260423T180732
CREATED:20171222T023159Z
LAST-MODIFIED:20190405T121809Z
UID:10000214-1542445200-1542466800@www.bsator.com
SUMMARY:23rd Annual Kintecoying Trade-O-Ree – State: New Jersey
DESCRIPTION:Date: November 17\, 2018 \nAddress:\nCamp Alpine (John C Whitehead Dining Hall)\n441 US Highway 9 W\nAlpine\, NJ 07620 \nTimes:\nSaturday: 9am – 3pm (Dealer Set Up: 8:00am) \nContact 1: Bill Mulrenin\nEmail: billmul@mindspring.com\nPhone: (917) 692-9056 \n\nRegister Now\n\n\n    Download the PDF file .
URL:https://www.bsator.com/event/23rd-annual-kintecoying-trade-o-ree-state-new-jersey/
LOCATION:Camp Alpine (John C Whitehead Dining Hall)\, 441 US Highway 9 W\, Alpine\, NJ 07620
ATTACH;FMTTYPE=image/jpeg:https://www.bsator.com/wp-content/uploads/2016/11/15133653_1798323937108633_159435161_o.jpg
ORGANIZER;CN="Bill Mulrenin":MAILTO:billmul@mindspring.com
GEO:40.9502238;-73.8922097
X-APPLE-STRUCTURED-LOCATION;VALUE=URI;X-ADDRESS=Camp Alpine (John C Whitehead Dining Hall) 441 US Highway 9 W Alpine NJ 07620;X-APPLE-RADIUS=500;X-TITLE=441 US Highway 9 W:geo:-73.8922097,40.9502238
END:VEVENT
BEGIN:VEVENT
DTSTART;TZID=UTC:20171118T090000
DTEND;TZID=UTC:20171118T150000
DTSTAMP:20260423T180732
CREATED:20160813T083950Z
LAST-MODIFIED:20171031T053906Z
UID:10000006-1510995600-1511017200@www.bsator.com
SUMMARY:22nd Annual Kintecoying Trade-O-Ree – State: New Jersey
DESCRIPTION:Date: November 18\, 2017 \nAddress:\nCamp Alpine (John C Whitehead Dining Hall)\n441 US Highway 9 W\nAlpine\, NJ 07620 \nTimes:\nSaturday: 9am – 3pm (Dealer Set Up: 8:00am) \nContact 1: Bill Mulrenin\nEmail: billmul@mindspring.com\nPhone: (917) 692-9056 \nRegister Now\n\n    Download the PDF file .
URL:https://www.bsator.com/event/22nd-annual-kintecoying-trade-o-ree-state-new-jersey-2/
LOCATION:Camp Alpine (John C Whitehead Dining Hall)\, 441 US Highway 9 W\, Alpine\, NJ 07620
ATTACH;FMTTYPE=image/jpeg:https://www.bsator.com/wp-content/uploads/2016/06/10385500_10154932140870165_5448061562557828294_n.jpg.opt241x328o00s241x328.jpg
ORGANIZER;CN="Bill Mulrenin":MAILTO:billmul@mindspring.com
GEO:40.9502238;-73.8922097
X-APPLE-STRUCTURED-LOCATION;VALUE=URI;X-ADDRESS=Camp Alpine (John C Whitehead Dining Hall) 441 US Highway 9 W Alpine NJ 07620;X-APPLE-RADIUS=500;X-TITLE=441 US Highway 9 W:geo:-73.8922097,40.9502238
END:VEVENT
BEGIN:VEVENT
DTSTART;TZID=UTC:20161119T090000
DTEND;TZID=UTC:20161119T150000
DTSTAMP:20260423T180732
CREATED:20160601T113301Z
LAST-MODIFIED:20160831T051754Z
UID:10000019-1479546000-1479567600@www.bsator.com
SUMMARY:21st Annual Kintecoying Trade-O-Ree - State: New Jersey
DESCRIPTION:Date: November 19\, 2016 \nAddress:\nCamp Alpine (John C Whitehead Dining Hall)\n441 US Highway 9 W\nAlpine\, NJ 07620 \nTimes:\nSaturday: 9am – 3pm (Dealer Set Up: 8:30am) \nContact 1: Bill Mulrenin\nEmail: billmul@mindspring.com\nPhone: (917) 692-9056 \nFlyer: Click Here\n\nRegister Now \n\n    Download the PDF file .
URL:https://www.bsator.com/event/21st-annual-kintecoying-trade-o-ree-state-new-jersey/
LOCATION:Camp Alpine (John C Whitehead Dining Hall)\, 441 US Highway 9 W\, Alpine\, NJ 07620
ATTACH;FMTTYPE=image/jpeg:https://www.bsator.com/wp-content/uploads/2016/06/10385500_10154932140870165_5448061562557828294_n.jpg.opt241x328o00s241x328.jpg
ORGANIZER;CN="Bill Mulrenin":MAILTO:billmul@mindspring.com
GEO:40.9502238;-73.8922097
X-APPLE-STRUCTURED-LOCATION;VALUE=URI;X-ADDRESS=Camp Alpine (John C Whitehead Dining Hall) 441 US Highway 9 W Alpine NJ 07620;X-APPLE-RADIUS=500;X-TITLE=441 US Highway 9 W:geo:-73.8922097,40.9502238
END:VEVENT
END:VCALENDAR