BEGIN:VCALENDAR
VERSION:2.0
PRODID:-//Boy Scout Trade-O-Ree Calendar - ECPv6.15.20//NONSGML v1.0//EN
CALSCALE:GREGORIAN
METHOD:PUBLISH
X-WR-CALNAME:Boy Scout Trade-O-Ree Calendar
X-ORIGINAL-URL:https://www.bsator.com
X-WR-CALDESC:Events for Boy Scout Trade-O-Ree Calendar
REFRESH-INTERVAL;VALUE=DURATION:PT1H
X-Robots-Tag:noindex
X-PUBLISHED-TTL:PT1H
BEGIN:VTIMEZONE
TZID:UTC
BEGIN:STANDARD
TZOFFSETFROM:+0000
TZOFFSETTO:+0000
TZNAME:UTC
DTSTART:20150101T000000
END:STANDARD
END:VTIMEZONE
BEGIN:VEVENT
DTSTART;TZID=UTC:20161021T170000
DTEND;TZID=UTC:20161022T150000
DTSTAMP:20260423T173341
CREATED:20160601T111307Z
LAST-MODIFIED:20160829T212913Z
UID:10000049-1477069200-1477148400@www.bsator.com
SUMMARY:EL-KU-TA Lodge Trade-O-Ree - State: Utah
DESCRIPTION:Date: October 21-22\, 2016 \nAddress:\nCamp Tracy Lodge – Millcreek Canyon\n3901 East 3800 South\nSalt Lake City\, UT \nTimes:\nFriday: 5pm – 12am\nSaturday: 9am – 3pm \nContact 1: Blair Hope\nEmail: hope.b@pg.com\nPhone: (805) 554-0527 \nFlyer: Click Here\n\nRegister Now \n\n    Download the PDF file .
URL:https://www.bsator.com/event/el-ku-ta-lodge-trade-o-ree-state-utah/
LOCATION:Camp Tracy\, 3901 Mill Creek Canyon Rd\, Salt Lake City\, UT\, 84109\, United States
ATTACH;FMTTYPE=image/jpeg:https://www.bsator.com/wp-content/uploads/2016/06/SWAPSHOP_zpsd7821994-2.jpg.opt430x360o00s430x360-2.jpg
ORGANIZER;CN="Blair Hope":MAILTO:hope.b@pg.com
GEO:40.6892018;-111.7886351
X-APPLE-STRUCTURED-LOCATION;VALUE=URI;X-ADDRESS=Camp Tracy 3901 Mill Creek Canyon Rd Salt Lake City UT 84109 United States;X-APPLE-RADIUS=500;X-TITLE=3901 Mill Creek Canyon Rd:geo:-111.7886351,40.6892018
END:VEVENT
END:VCALENDAR