BEGIN:VCALENDAR
VERSION:2.0
PRODID:-//Boy Scout Trade-O-Ree Calendar - ECPv6.15.20//NONSGML v1.0//EN
CALSCALE:GREGORIAN
METHOD:PUBLISH
X-WR-CALNAME:Boy Scout Trade-O-Ree Calendar
X-ORIGINAL-URL:https://www.bsator.com
X-WR-CALDESC:Events for Boy Scout Trade-O-Ree Calendar
REFRESH-INTERVAL;VALUE=DURATION:PT1H
X-Robots-Tag:noindex
X-PUBLISHED-TTL:PT1H
BEGIN:VTIMEZONE
TZID:UTC
BEGIN:STANDARD
TZOFFSETFROM:+0000
TZOFFSETTO:+0000
TZNAME:UTC
DTSTART:20160101T000000
END:STANDARD
END:VTIMEZONE
BEGIN:VEVENT
DTSTART;TZID=UTC:20171020T100000
DTEND;TZID=UTC:20171021T150000
DTSTAMP:20260423T213228
CREATED:20170711T024133Z
LAST-MODIFIED:20170711T024441Z
UID:10000050-1508493600-1508598000@www.bsator.com
SUMMARY:Red River Trade-O-Ree - State: Oklahoma
DESCRIPTION:Date: October 20-21\, 2017 \nAddress:\nHilton Garden Inn\n701 Premier Parkway\nArdmore\, Oklahoma \nTimes:\nFriday: 10am – 10pm\nSaturday: 9am – 3pm \nContact 1: Brad England\nEmail: bgengland@gmail.com\nPhone: (405) 795-8978 \n\n    Download the PDF file .
URL:https://www.bsator.com/event/red-river-trade-o-ree-state-oklahoma/
LOCATION:Hilton Garden Inn\, 701 Premier Parkway\, Ardmore\, OK\, United States
ATTACH;FMTTYPE=image/jpeg:https://www.bsator.com/wp-content/uploads/2016/06/SWAPSHOP_zpsd7821994-4-1.jpg.opt430x360o00s430x360-4-1.jpg
ORGANIZER;CN="Brad England":MAILTO:bgengland@gmail.com
END:VEVENT
END:VCALENDAR