BEGIN:VCALENDAR
VERSION:2.0
PRODID:-//Boy Scout Trade-O-Ree Calendar - ECPv6.15.20//NONSGML v1.0//EN
CALSCALE:GREGORIAN
METHOD:PUBLISH
X-WR-CALNAME:Boy Scout Trade-O-Ree Calendar
X-ORIGINAL-URL:https://www.bsator.com
X-WR-CALDESC:Events for Boy Scout Trade-O-Ree Calendar
REFRESH-INTERVAL;VALUE=DURATION:PT1H
X-Robots-Tag:noindex
X-PUBLISHED-TTL:PT1H
BEGIN:VTIMEZONE
TZID:UTC
BEGIN:STANDARD
TZOFFSETFROM:+0000
TZOFFSETTO:+0000
TZNAME:UTC
DTSTART:20150101T000000
END:STANDARD
END:VTIMEZONE
BEGIN:VEVENT
DTSTART;TZID=UTC:20250919T170000
DTEND;TZID=UTC:20250920T140000
DTSTAMP:20260423T160545
CREATED:20250114T180150Z
LAST-MODIFIED:20250211T182357Z
UID:10000360-1758301200-1758376800@www.bsator.com
SUMMARY:17th Annual Atlanta Memorabilia Show and Trade-O-Ree
DESCRIPTION:Date: September 19-20\, 2025 \nAddress:\nAtlanta Area Council\n1800 Circle 75 Pkwy\nAtlanta\, GA 30339 \nTimes:\nFriday: 5pm – 10pm\nSaturday: 9am – 2pm \nContact 1: Bruce Lafitte\nEmail: BLafitte1098@gmail.com\nPhone: (404) 697-8994 \n\n \nTrade-O-Ree Flyer\n\n\n    Download the PDF file .
URL:https://www.bsator.com/event/17th-annual-atlanta-memorabilia-show-and-trade-o-ree/
LOCATION:Atlanta Area Council\, BSA\, 1800 Circle 75 Parkway\, SE\, Atlanta\, GA. 30339-3055
ATTACH;FMTTYPE=image/jpeg:https://www.bsator.com/wp-content/uploads/2016/05/IMG_3730.jpg
ORGANIZER;CN="Bruce Lafitte":MAILTO:BLafitte1098@gmail.com
GEO:33.8930409;-84.4650293
X-APPLE-STRUCTURED-LOCATION;VALUE=URI;X-ADDRESS=Atlanta Area Council BSA 1800 Circle 75 Parkway SE Atlanta GA. 30339-3055;X-APPLE-RADIUS=500;X-TITLE=1800 Circle 75 Parkway\, SE:geo:-84.4650293,33.8930409
END:VEVENT
BEGIN:VEVENT
DTSTART;TZID=UTC:20240920T170000
DTEND;TZID=UTC:20240921T140000
DTSTAMP:20260423T160545
CREATED:20231230T181959Z
LAST-MODIFIED:20240201T181317Z
UID:10000516-1726851600-1726927200@www.bsator.com
SUMMARY:16th Annual Atlanta Memorabilia Show and Trade-O-Ree
DESCRIPTION:Date: September 20-21\, 2024 \nAddress:\nAtlanta Area Council\n1800 Circle 75 Pkwy\nAtlanta\, GA 30339 \nTimes:\nFriday: 5pm – 10pm\nSaturday: 9am – 2pm \nContact 1: Bruce Lafitte\nEmail: BLafitte1098@gmail.com\nPhone: (404) 697-8994 \n\n \nTrade-O-Ree Flyer\n\n\n    Download the PDF file .
URL:https://www.bsator.com/event/16th-annual-atlanta-memorabilia-show-and-trade-o-ree/
LOCATION:Atlanta Area Council\, BSA\, 1800 Circle 75 Parkway\, SE\, Atlanta\, GA. 30339-3055
ATTACH;FMTTYPE=image/jpeg:https://www.bsator.com/wp-content/uploads/2016/05/IMG_3730.jpg
ORGANIZER;CN="Bruce Lafitte":MAILTO:BLafitte1098@gmail.com
GEO:33.8930409;-84.4650293
X-APPLE-STRUCTURED-LOCATION;VALUE=URI;X-ADDRESS=Atlanta Area Council BSA 1800 Circle 75 Parkway SE Atlanta GA. 30339-3055;X-APPLE-RADIUS=500;X-TITLE=1800 Circle 75 Parkway\, SE:geo:-84.4650293,33.8930409
END:VEVENT
BEGIN:VEVENT
DTSTART;TZID=UTC:20230922T170000
DTEND;TZID=UTC:20230923T140000
DTSTAMP:20260423T160545
CREATED:20230324T052513Z
LAST-MODIFIED:20230324T052601Z
UID:10000279-1695402000-1695477600@www.bsator.com
SUMMARY:15th Annual Atlanta Memorabilia Show and Trade-O-Ree
DESCRIPTION:Date: September 22-23\, 2023 \nAddress:\nAtlanta Area Council\n1800 Circle 75 Pkwy\nAtlanta\, GA 30339 \nTimes:\nFriday: 5pm – 10pm\nSaturday: 9am – 2pm \nContact 1: Bruce Lafitte\nEmail: BLafitte1098@gmail.com\nPhone: (404) 697-8994 \n\n \nTrade-O-Ree Flyer\n\n\n    Download the PDF file .
URL:https://www.bsator.com/event/15th-annual-atlanta-memorabilia-show-and-trade-o-ree/
LOCATION:Atlanta Area Council\, BSA\, 1800 Circle 75 Parkway\, SE\, Atlanta\, GA. 30339-3055
ATTACH;FMTTYPE=image/jpeg:https://www.bsator.com/wp-content/uploads/2016/05/IMG_3730.jpg
ORGANIZER;CN="Bruce Lafitte":MAILTO:BLafitte1098@gmail.com
GEO:33.8930409;-84.4650293
X-APPLE-STRUCTURED-LOCATION;VALUE=URI;X-ADDRESS=Atlanta Area Council BSA 1800 Circle 75 Parkway SE Atlanta GA. 30339-3055;X-APPLE-RADIUS=500;X-TITLE=1800 Circle 75 Parkway\, SE:geo:-84.4650293,33.8930409
END:VEVENT
BEGIN:VEVENT
DTSTART;TZID=UTC:20220923T170000
DTEND;TZID=UTC:20220924T140000
DTSTAMP:20260423T160545
CREATED:20210428T163255Z
LAST-MODIFIED:20220120T182630Z
UID:10000391-1663952400-1664028000@www.bsator.com
SUMMARY:14th Annual Atlanta Memorabilia Show and Trade-O-Ree
DESCRIPTION:Date: September 23-24\, 2022 \nAddress:\nAtlanta Area Council\n1800 Circle 75 Pkwy\nAtlanta\, GA 30339 \nTimes:\nFriday: 5pm – 10pm\nSaturday: 9am – 2pm \nContact 1: Bruce Lafitte\nEmail: BLafitte1098@gmail.com\nPhone: (404) 697-8994 \n\n \nTrade-O-Ree Flyer\n\n\n    Download the PDF file .
URL:https://www.bsator.com/event/14th-annual-atlanta-memorabilia-show-and-trade-o-ree-2/
LOCATION:Atlanta Area Council\, BSA\, 1800 Circle 75 Parkway\, SE\, Atlanta\, GA. 30339-3055
ATTACH;FMTTYPE=image/jpeg:https://www.bsator.com/wp-content/uploads/2016/05/IMG_3730.jpg
ORGANIZER;CN="Bruce Lafitte":MAILTO:BLafitte1098@gmail.com
GEO:33.8930409;-84.4650293
X-APPLE-STRUCTURED-LOCATION;VALUE=URI;X-ADDRESS=Atlanta Area Council BSA 1800 Circle 75 Parkway SE Atlanta GA. 30339-3055;X-APPLE-RADIUS=500;X-TITLE=1800 Circle 75 Parkway\, SE:geo:-84.4650293,33.8930409
END:VEVENT
BEGIN:VEVENT
DTSTART;TZID=UTC:20200918T170000
DTEND;TZID=UTC:20200919T140000
DTSTAMP:20260423T160545
CREATED:20200207T081126Z
LAST-MODIFIED:20200207T081126Z
UID:10000169-1600448400-1600524000@www.bsator.com
SUMMARY:13th Annual Atlanta Memorabilia Show and Trade-O-Ree
DESCRIPTION:Date: September 18-19\, 2020 \nAddress:\nAtlanta Area Council\n1800 Circle 75 Pkwy\nAtlanta\, GA 30339 \nTimes:\nFriday: 5pm – 10pm\nSaturday: 9am – 2pm \nContact 1: Bruce Lafitte\nEmail: BLafitte1098@gmail.com\nPhone: (404) 697-8994 \n\n    Download the PDF file .
URL:https://www.bsator.com/event/13th-annual-atlanta-memorabilia-show-and-trade-o-ree/
LOCATION:Atlanta Area Council\, BSA\, 1800 Circle 75 Parkway\, SE\, Atlanta\, GA. 30339-3055
ATTACH;FMTTYPE=image/jpeg:https://www.bsator.com/wp-content/uploads/2016/05/IMG_3730.jpg
ORGANIZER;CN="Bruce Lafitte":MAILTO:BLafitte1098@gmail.com
GEO:33.8930409;-84.4650293
X-APPLE-STRUCTURED-LOCATION;VALUE=URI;X-ADDRESS=Atlanta Area Council BSA 1800 Circle 75 Parkway SE Atlanta GA. 30339-3055;X-APPLE-RADIUS=500;X-TITLE=1800 Circle 75 Parkway\, SE:geo:-84.4650293,33.8930409
END:VEVENT
BEGIN:VEVENT
DTSTART;TZID=UTC:20190927T170000
DTEND;TZID=UTC:20190928T140000
DTSTAMP:20260423T160545
CREATED:20190425T181659Z
LAST-MODIFIED:20190425T181659Z
UID:10000302-1569603600-1569679200@www.bsator.com
SUMMARY:12th Annual Atlanta Memorabilia Show and Trade-O-Ree
DESCRIPTION:Date: September 27-28\, 2019 \nAddress:\nAtlanta Area Council\n1800 Circle 75 Pkwy\nAtlanta\, GA 30339 \nTimes:\nFriday: 5pm – 10pm\nSaturday: 9am – 2pm \nContact 1: Bruce Lafitte\nEmail: BLafitte1098@gmail.com\nPhone: (404) 697-8994 \n\n    Download the PDF file .
URL:https://www.bsator.com/event/12th-annual-atlanta-memorabilia-show-and-trade-o-ree/
LOCATION:Atlanta Area Council\, BSA\, 1800 Circle 75 Parkway\, SE\, Atlanta\, GA. 30339-3055
ATTACH;FMTTYPE=image/jpeg:https://www.bsator.com/wp-content/uploads/2016/05/IMG_3730.jpg
ORGANIZER;CN="Bruce Lafitte":MAILTO:BLafitte1098@gmail.com
GEO:33.8930409;-84.4650293
X-APPLE-STRUCTURED-LOCATION;VALUE=URI;X-ADDRESS=Atlanta Area Council BSA 1800 Circle 75 Parkway SE Atlanta GA. 30339-3055;X-APPLE-RADIUS=500;X-TITLE=1800 Circle 75 Parkway\, SE:geo:-84.4650293,33.8930409
END:VEVENT
BEGIN:VEVENT
DTSTART;TZID=UTC:20180928T170000
DTEND;TZID=UTC:20180929T140000
DTSTAMP:20260423T160545
CREATED:20180406T043947Z
LAST-MODIFIED:20180929T025950Z
UID:10000239-1538154000-1538229600@www.bsator.com
SUMMARY:11th Annual Atlanta Memorabilia Show and Trade-O-Ree
DESCRIPTION:Date: September 28-29\, 2018 \nAddress:\nAtlanta Area Council\n1800 Circle 75 Pkwy\nAtlanta\, GA 30339 \nTimes:\nFriday: 5pm – 10pm\nSaturday: 9am – 2pm \nContact 1: Bruce Lafitte\nEmail: Bruce.Lafitte@nordson.com\nPhone: (404) 697-8994 \n\n    Download the PDF file .
URL:https://www.bsator.com/event/11th-annual-atlanta-memorabilia-show-and-trade-o-ree/
LOCATION:Atlanta Area Council\, BSA\, 1800 Circle 75 Parkway\, SE\, Atlanta\, GA. 30339-3055
ATTACH;FMTTYPE=image/jpeg:https://www.bsator.com/wp-content/uploads/2016/05/IMG_3730.jpg
ORGANIZER;CN="Bruce Lafitte":MAILTO:BLafitte1098@gmail.com
GEO:33.8930409;-84.4650293
X-APPLE-STRUCTURED-LOCATION;VALUE=URI;X-ADDRESS=Atlanta Area Council BSA 1800 Circle 75 Parkway SE Atlanta GA. 30339-3055;X-APPLE-RADIUS=500;X-TITLE=1800 Circle 75 Parkway\, SE:geo:-84.4650293,33.8930409
END:VEVENT
BEGIN:VEVENT
DTSTART;TZID=UTC:20170929T170000
DTEND;TZID=UTC:20170930T140000
DTSTAMP:20260423T160545
CREATED:20170131T153406Z
LAST-MODIFIED:20170206T163310Z
UID:10000148-1506704400-1506780000@www.bsator.com
SUMMARY:10th Annual Atlanta Memorabilia Show and Trade-O-Ree
DESCRIPTION:Date: September 29-30\, 2017 \nAddress:\nAtlanta Area Council\n1800 Circle 75 Pkwy\nAtlanta\, GA 30339 \nTimes:\nFriday: 5pm – 10pm\nSaturday: 9am – 2pm \nContact 1: Bruce Lafitte\nEmail: Bruce.Lafitte@nordson.com\nPhone: (404) 697-8994 \n\n    Download the PDF file .
URL:https://www.bsator.com/event/10th-annual-atlanta-memorabilia-show-and-trade-o-ree/
LOCATION:Atlanta Area Council\, BSA\, 1800 Circle 75 Parkway\, SE\, Atlanta\, GA. 30339-3055
ATTACH;FMTTYPE=image/jpeg:https://www.bsator.com/wp-content/uploads/2016/05/IMG_3730.jpg
ORGANIZER;CN="Bruce Lafitte":MAILTO:BLafitte1098@gmail.com
GEO:33.8930409;-84.4650293
X-APPLE-STRUCTURED-LOCATION;VALUE=URI;X-ADDRESS=Atlanta Area Council BSA 1800 Circle 75 Parkway SE Atlanta GA. 30339-3055;X-APPLE-RADIUS=500;X-TITLE=1800 Circle 75 Parkway\, SE:geo:-84.4650293,33.8930409
END:VEVENT
BEGIN:VEVENT
DTSTART;TZID=UTC:20160923T170000
DTEND;TZID=UTC:20160924T150000
DTSTAMP:20260423T160545
CREATED:20160601T095009Z
LAST-MODIFIED:20160909T052854Z
UID:10000067-1474650000-1474729200@www.bsator.com
SUMMARY:Atlanta Scout Memorabilia Show & Trade-O-Ree - State: Georgia
DESCRIPTION:Date: September 23-24\, 2016 \nEgwa Tawa Dee Lodge & Atlanta Area Council \nAddress:\nAtlanta Area Council\, BSA\n1800 Circle 75 Parkway\, SE\nAtlanta\, GA. 30339-3055 \nTimes:\nFriday: 5pm – 11pm\nSaturday: 9am – 3pm \nContact 1: Bruce Lafitte\nEmail: BLafitte@nordson.com\nPhone: (404) 697-8994 \nFlyer: Click Here\n\nRegister Now \n\n    Download the PDF file .
URL:https://www.bsator.com/event/atlanta-scout-memorabilia-show-trade-o-ree-state-georgia/
LOCATION:Atlanta Area Council\, BSA\, 1800 Circle 75 Parkway\, SE\, Atlanta\, GA. 30339-3055
ATTACH;FMTTYPE=image/png:https://www.bsator.com/wp-content/uploads/2016/06/IMG_0230.png.opt430x322o00s430x322.png
ORGANIZER;CN="Bruce Lafitte":MAILTO:BLafitte1098@gmail.com
GEO:33.8930409;-84.4650293
X-APPLE-STRUCTURED-LOCATION;VALUE=URI;X-ADDRESS=Atlanta Area Council BSA 1800 Circle 75 Parkway SE Atlanta GA. 30339-3055;X-APPLE-RADIUS=500;X-TITLE=1800 Circle 75 Parkway\, SE:geo:-84.4650293,33.8930409
END:VEVENT
END:VCALENDAR