BEGIN:VCALENDAR
VERSION:2.0
PRODID:-//Boy Scout Trade-O-Ree Calendar - ECPv6.15.20//NONSGML v1.0//EN
CALSCALE:GREGORIAN
METHOD:PUBLISH
X-WR-CALNAME:Boy Scout Trade-O-Ree Calendar
X-ORIGINAL-URL:https://www.bsator.com
X-WR-CALDESC:Events for Boy Scout Trade-O-Ree Calendar
REFRESH-INTERVAL;VALUE=DURATION:PT1H
X-Robots-Tag:noindex
X-PUBLISHED-TTL:PT1H
BEGIN:VTIMEZONE
TZID:UTC
BEGIN:STANDARD
TZOFFSETFROM:+0000
TZOFFSETTO:+0000
TZNAME:UTC
DTSTART:20250101T000000
END:STANDARD
END:VTIMEZONE
BEGIN:VEVENT
DTSTART;TZID=UTC:20260925T180000
DTEND;TZID=UTC:20260926T140000
DTSTAMP:20260423T144019
CREATED:20251207T040614Z
LAST-MODIFIED:20251227T021735Z
UID:10000597-1790359200-1790431200@www.bsator.com
SUMMARY:18th Annual Atlanta Memorabilia Show and Trade-O-Ree
DESCRIPTION:Date: September 25-26\, 2026 \nAddress:\nAtlanta Area Council\n1800 Circle 75 Pkwy\nAtlanta\, GA 30339 \nTimes:\nFriday: 5pm – 10pm\nSaturday: 9am – 2pm \nContact 1: Bruce Lafitte\nEmail: BLafitte1098@gmail.com\nPhone: (404) 697-8994 \n\n \nTrade-O-Ree Flyer\n\n\n    Download the PDF file .
URL:https://www.bsator.com/event/18th-annual-atlanta-memorabilia-show-and-trade-o-ree/
LOCATION:Atlanta Area Council\, BSA\, 1800 Circle 75 Parkway\, SE\, Atlanta\, GA. 30339-3055
ATTACH;FMTTYPE=image/jpeg:https://www.bsator.com/wp-content/uploads/2016/05/IMG_3730.jpg
ORGANIZER;CN="Bruce Lafitte":MAILTO:BLafitte1098@gmail.com
GEO:33.8930409;-84.4650293
X-APPLE-STRUCTURED-LOCATION;VALUE=URI;X-ADDRESS=Atlanta Area Council BSA 1800 Circle 75 Parkway SE Atlanta GA. 30339-3055;X-APPLE-RADIUS=500;X-TITLE=1800 Circle 75 Parkway\, SE:geo:-84.4650293,33.8930409
END:VEVENT
END:VCALENDAR