BEGIN:VCALENDAR
VERSION:2.0
PRODID:-//Boy Scout Trade-O-Ree Calendar - ECPv6.15.20//NONSGML v1.0//EN
CALSCALE:GREGORIAN
METHOD:PUBLISH
X-WR-CALNAME:Boy Scout Trade-O-Ree Calendar
X-ORIGINAL-URL:https://www.bsator.com
X-WR-CALDESC:Events for Boy Scout Trade-O-Ree Calendar
REFRESH-INTERVAL;VALUE=DURATION:PT1H
X-Robots-Tag:noindex
X-PUBLISHED-TTL:PT1H
BEGIN:VTIMEZONE
TZID:UTC
BEGIN:STANDARD
TZOFFSETFROM:+0000
TZOFFSETTO:+0000
TZNAME:UTC
DTSTART:20160101T000000
END:STANDARD
END:VTIMEZONE
BEGIN:VEVENT
DTSTART;TZID=UTC:20190322T170000
DTEND;TZID=UTC:20190323T150000
DTSTAMP:20260423T184602
CREATED:20180412T160205Z
LAST-MODIFIED:20180412T161340Z
UID:10000242-1553274000-1553353200@www.bsator.com
SUMMARY:2019 Southern Willamette Valley Trade-O-Ree - State: Oregon
DESCRIPTION:Date: March 22-23\, 2019 \nAddress:\nLane Events Center (Auditorium)\n796 W 13th Ave.\nEugene\, OR 97402 \nTimes:\nFriday: 5pm – 10pm\nSaturday: 9am – 3pm \nContact Email: tor@tsisqan.org \n\n    Download the PDF file .
URL:https://www.bsator.com/event/2019-southern-willamette-valley-trade-o-ree-state-oregon/
LOCATION:Lane Events Center (Auditorium)\, 796 W 13th Ave\, Eugene\, OR\, 97402\, United States
ATTACH;FMTTYPE=image/jpeg:https://www.bsator.com/wp-content/uploads/2016/05/12063505_10208083233612135_4525830413850654031_n.jpg
ORGANIZER;CN="Chris Graves":MAILTO:graveschris@hotmail.com
END:VEVENT
BEGIN:VEVENT
DTSTART;TZID=UTC:20180323T180000
DTEND;TZID=UTC:20180324T160000
DTSTAMP:20260423T184602
CREATED:20171121T083609Z
LAST-MODIFIED:20180412T160721Z
UID:10000202-1521828000-1521907200@www.bsator.com
SUMMARY:2018 Southern Willamette Valley Trade-O-Ree - State: Oregon
DESCRIPTION:Date: March 23-24\, 2018 \nAddress:\nBethesda Lutheran Church\n4445 Royal Ave.\nEugene\, OR 97402 \nTimes:\nFriday: 6pm – 10pm\nSaturday: 9am – 4pm \nContact 1: Chris Graves\nEmail: graveschris@hotmail.com\nPhone: ? \nContact 2: Carl Hastings\nEmail: shark_253@msn.com\nPhone: ? \nContact 3: Todd Hatfield\nEmail: that@wvi.com\nPhone: (503) 859-2443  \n\n    Download the PDF file .
URL:https://www.bsator.com/event/2018-southern-willamette-valley-trade-o-ree-state-oregon/
LOCATION:Bethesda Lutheran Church\, 4445 Royal Ave.\, Eugene\, OR\, United States
ATTACH;FMTTYPE=image/jpeg:https://www.bsator.com/wp-content/uploads/2016/05/12063505_10208083233612135_4525830413850654031_n.jpg
ORGANIZER;CN="Chris Graves":MAILTO:graveschris@hotmail.com
GEO:44.0704982;-123.1716704
X-APPLE-STRUCTURED-LOCATION;VALUE=URI;X-ADDRESS=Bethesda Lutheran Church 4445 Royal Ave. Eugene OR United States;X-APPLE-RADIUS=500;X-TITLE=4445 Royal Ave.:geo:-123.1716704,44.0704982
END:VEVENT
BEGIN:VEVENT
DTSTART;TZID=UTC:20170317T180000
DTEND;TZID=UTC:20170318T160000
DTSTAMP:20260423T184602
CREATED:20161129T050327Z
LAST-MODIFIED:20161201T194143Z
UID:10000016-1489773600-1489852800@www.bsator.com
SUMMARY:Southern Willamette Valley Trade-O-Ree - State: Oregon
DESCRIPTION:Date: March 17-18\, 2017 \nAddress:\nBethesda Lutheran Church\n4445 Royal Ave.\nEugene\, OR \nTimes:\nFriday: 6pm – 10pm\nSaturday: 9am – 4pm \nContact 1: Chris Graves\nEmail: graveschris@hotmail.com\nPhone: ? \nContact 2: Carl Hastings\nEmail: shark_253@msn.com\nPhone: ? \nContact 3: Todd Hatfield\nEmail: that@wvi.com\nPhone: (503) 859-2443  \nFlyer: Click Here \n\n    Download the PDF file .
URL:https://www.bsator.com/event/southern-willamette-valley-trade-o-ree-state-oregon/
LOCATION:Bethesda Lutheran Church\, 4445 Royal Ave.\, Eugene\, OR\, United States
ATTACH;FMTTYPE=image/jpeg:https://www.bsator.com/wp-content/uploads/2016/05/12063505_10208083233612135_4525830413850654031_n.jpg
ORGANIZER;CN="Chris Graves":MAILTO:graveschris@hotmail.com
GEO:44.0704982;-123.1716704
X-APPLE-STRUCTURED-LOCATION;VALUE=URI;X-ADDRESS=Bethesda Lutheran Church 4445 Royal Ave. Eugene OR United States;X-APPLE-RADIUS=500;X-TITLE=4445 Royal Ave.:geo:-123.1716704,44.0704982
END:VEVENT
END:VCALENDAR