BEGIN:VCALENDAR
VERSION:2.0
PRODID:-//Boy Scout Trade-O-Ree Calendar - ECPv6.15.20//NONSGML v1.0//EN
CALSCALE:GREGORIAN
METHOD:PUBLISH
X-WR-CALNAME:Boy Scout Trade-O-Ree Calendar
X-ORIGINAL-URL:https://www.bsator.com
X-WR-CALDESC:Events for Boy Scout Trade-O-Ree Calendar
REFRESH-INTERVAL;VALUE=DURATION:PT1H
X-Robots-Tag:noindex
X-PUBLISHED-TTL:PT1H
BEGIN:VTIMEZONE
TZID:UTC
BEGIN:STANDARD
TZOFFSETFROM:+0000
TZOFFSETTO:+0000
TZNAME:UTC
DTSTART:20160101T000000
END:STANDARD
END:VTIMEZONE
BEGIN:VEVENT
DTSTART;TZID=UTC:20240308T140000
DTEND;TZID=UTC:20240309T140000
DTSTAMP:20260423T184532
CREATED:20230324T055934Z
LAST-MODIFIED:20230324T060209Z
UID:10000283-1709906400-1709992800@www.bsator.com
SUMMARY:40th Annual Pittsburgh Trade-O-Ree - State: Pennsylvania
DESCRIPTION:Date: March 8-9\, 2024 \nAddress:\nThe Chartiers Room\n370 Commercial St.\nBridgeville\, PA. 15017 \nTimes:\nFriday: 2pm – 12am (Midnight)\nSaturday: 8:30am – 2pm \nContact: Conrad Auel\nEmail: cgauel@gmail.com\nPhone: (412) 877-0626 \nRegister Now\n\n \nTrade-O-Ree Flyer\n\n\n    Download the PDF file .
URL:https://www.bsator.com/event/40th-annual-pittsburgh-trade-o-ree-state-pennsylvania/
LOCATION:The Chartiers Room\, 370 Commercial St.\, Bridgeville\, PA\, 15017\, United States
ATTACH;FMTTYPE=image/jpeg:https://www.bsator.com/wp-content/uploads/2016/05/1933334_1717737895110489_7154625735922781739_o.jpg.opt415x311o00s415x311.jpg
ORGANIZER;CN="Conrad Auel":MAILTO:cgauel@gmail.com
GEO:40.362;-80.1069387
X-APPLE-STRUCTURED-LOCATION;VALUE=URI;X-ADDRESS=The Chartiers Room 370 Commercial St. Bridgeville PA 15017 United States;X-APPLE-RADIUS=500;X-TITLE=370 Commercial St.:geo:-80.1069387,40.362
END:VEVENT
BEGIN:VEVENT
DTSTART;TZID=UTC:20230310T140000
DTEND;TZID=UTC:20230311T140000
DTSTAMP:20260423T184532
CREATED:20220925T162533Z
LAST-MODIFIED:20220925T162611Z
UID:10000458-1678456800-1678543200@www.bsator.com
SUMMARY:39th Annual Pittsburgh Trade-O-Ree - State: Pennsylvania
DESCRIPTION:Date: March 10-11\, 2023 \nAddress:\nThe Chartiers Room\n370 Commercial St.\nBridgeville\, PA. 15017 \nTimes:\nFriday: 2pm – 12am (Midnight)\nSaturday: 8:30am – 2pm \nContact: Conrad Auel\nEmail: cgauel@gmail.com\nPhone: (412) 877-0626 \nRegister Now\n\n \nTrade-O-Ree Flyer\n\n\n    Download the PDF file .
URL:https://www.bsator.com/event/39th-annual-pittsburgh-trade-o-ree-state-pennsylvania/
LOCATION:The Chartiers Room\, 370 Commercial St.\, Bridgeville\, PA\, 15017\, United States
ATTACH;FMTTYPE=image/jpeg:https://www.bsator.com/wp-content/uploads/2016/05/1933334_1717737895110489_7154625735922781739_o.jpg.opt415x311o00s415x311.jpg
ORGANIZER;CN="Conrad Auel":MAILTO:cgauel@gmail.com
GEO:40.362;-80.1069387
X-APPLE-STRUCTURED-LOCATION;VALUE=URI;X-ADDRESS=The Chartiers Room 370 Commercial St. Bridgeville PA 15017 United States;X-APPLE-RADIUS=500;X-TITLE=370 Commercial St.:geo:-80.1069387,40.362
END:VEVENT
BEGIN:VEVENT
DTSTART;TZID=UTC:20220311T140000
DTEND;TZID=UTC:20220312T140000
DTSTAMP:20260423T184532
CREATED:20211008T021726Z
LAST-MODIFIED:20211210T044029Z
UID:10000404-1647007200-1647093600@www.bsator.com
SUMMARY:38th Annual Pittsburgh Trade-O-Ree - State: Pennsylvania
DESCRIPTION:Date: March 11-12\, 2022 \nAddress:\nThe Chartiers Room\n370 Commercial St.\nBridgeville\, PA. 15017 \nTimes:\nFriday: 2pm – 12am (Midnight)\nSaturday: 8:30am – 2pm \nContact 1: Conrad Auel\nEmail: cgauel@gmail.com\nPhone: (724) 684-8585 \nRegister Now\n\n \nTrade-O-Ree Flyer\n\n\n    Download the PDF file .
URL:https://www.bsator.com/event/38th-annual-pittsburgh-trade-o-ree-state-pennsylvania/
LOCATION:The Chartiers Room\, 370 Commercial St.\, Bridgeville\, PA\, 15017\, United States
ATTACH;FMTTYPE=image/jpeg:https://www.bsator.com/wp-content/uploads/2016/05/1933334_1717737895110489_7154625735922781739_o.jpg.opt415x311o00s415x311.jpg
ORGANIZER;CN="Conrad Auel":MAILTO:cgauel@gmail.com
GEO:40.362;-80.1069387
X-APPLE-STRUCTURED-LOCATION;VALUE=URI;X-ADDRESS=The Chartiers Room 370 Commercial St. Bridgeville PA 15017 United States;X-APPLE-RADIUS=500;X-TITLE=370 Commercial St.:geo:-80.1069387,40.362
END:VEVENT
BEGIN:VEVENT
DTSTART;TZID=UTC:20210312T140000
DTEND;TZID=UTC:20210313T140000
DTSTAMP:20260423T184532
CREATED:20201202T173906Z
LAST-MODIFIED:20201202T174341Z
UID:10000352-1615557600-1615644000@www.bsator.com
SUMMARY:37th Annual Pittsburgh Trade-O-Ree - State: Pennsylvania
DESCRIPTION:Date: March 12-13\, 2021 \nAddress:\nThe Chartiers Room\n370 Commercial St.\nBridgeville\, PA. 15017 \nTimes:\nFriday: 2pm – 12am (Midnight)\nSaturday: 8:30am – 2pm \nContact 1: Conrad Auel\nEmail: cgauel@gmail.com\nPhone: (724) 684-8585 \nRegister Now\n\n    Download the PDF file .
URL:https://www.bsator.com/event/37th-annual-pittsburgh-trade-o-ree-state-pennsylvania/
LOCATION:The Chartiers Room\, 370 Commercial St.\, Bridgeville\, PA\, 15017\, United States
ATTACH;FMTTYPE=image/jpeg:https://www.bsator.com/wp-content/uploads/2016/05/1933334_1717737895110489_7154625735922781739_o.jpg.opt415x311o00s415x311.jpg
ORGANIZER;CN="Conrad Auel":MAILTO:cgauel@gmail.com
GEO:40.362;-80.1069387
X-APPLE-STRUCTURED-LOCATION;VALUE=URI;X-ADDRESS=The Chartiers Room 370 Commercial St. Bridgeville PA 15017 United States;X-APPLE-RADIUS=500;X-TITLE=370 Commercial St.:geo:-80.1069387,40.362
END:VEVENT
BEGIN:VEVENT
DTSTART;TZID=UTC:20200313T140000
DTEND;TZID=UTC:20200314T140000
DTSTAMP:20260423T184532
CREATED:20190312T071031Z
LAST-MODIFIED:20190312T071031Z
UID:10000126-1584108000-1584194400@www.bsator.com
SUMMARY:36th Annual Pittsburgh Trade-O-Ree - State: Pennsylvania
DESCRIPTION:Date: March 13-14\, 2020 \nAddress:\nThe Chartiers Room\n370 Commercial St.\nBridgeville\, PA. 15017 \nTimes:\nFriday: 2pm – 12am (Midnight)\nSaturday: 8:30am – 2pm \nContact 1: Conrad Auel\nEmail: cgauel@gmail.com\nPhone: (724) 684-8585 \nRegister Now\n\n    Download the PDF file .
URL:https://www.bsator.com/event/36th-annual-pittsburgh-trade-o-ree-state-pennsylvania/
LOCATION:The Chartiers Room\, 370 Commercial St.\, Bridgeville\, PA\, 15017\, United States
ATTACH;FMTTYPE=image/jpeg:https://www.bsator.com/wp-content/uploads/2016/05/1933334_1717737895110489_7154625735922781739_o.jpg.opt415x311o00s415x311.jpg
ORGANIZER;CN="Conrad Auel":MAILTO:cgauel@gmail.com
GEO:40.362;-80.1069387
X-APPLE-STRUCTURED-LOCATION;VALUE=URI;X-ADDRESS=The Chartiers Room 370 Commercial St. Bridgeville PA 15017 United States;X-APPLE-RADIUS=500;X-TITLE=370 Commercial St.:geo:-80.1069387,40.362
END:VEVENT
BEGIN:VEVENT
DTSTART;TZID=UTC:20190308T140000
DTEND;TZID=UTC:20190309T140000
DTSTAMP:20260423T184532
CREATED:20180907T140808Z
LAST-MODIFIED:20180917T174346Z
UID:10000100-1552053600-1552140000@www.bsator.com
SUMMARY:35th Annual Pittsburgh Trade-O-Ree - State: Pennsylvania
DESCRIPTION:Date: March 8-9\, 2019 \nAddress:\nThe Chartiers Room\n370 Commercial St.\nBridgeville\, PA. 15017 \nTimes:\nFriday: 2pm – 12am (Midnight)\nSaturday: 8:30am – 2pm \nContact 1: Conrad Auel\nEmail: cgauel@gmail.com\nPhone: (724) 684-8585 \nRegister Now\n\n    Download the PDF file .
URL:https://www.bsator.com/event/35th-annual-pittsburgh-trade-o-ree-state-pennsylvania/
LOCATION:The Chartiers Room\, 370 Commercial St.\, Bridgeville\, PA\, 15017\, United States
ATTACH;FMTTYPE=image/jpeg:https://www.bsator.com/wp-content/uploads/2016/05/1933334_1717737895110489_7154625735922781739_o.jpg.opt415x311o00s415x311.jpg
ORGANIZER;CN="Conrad Auel":MAILTO:cgauel@gmail.com
GEO:40.362;-80.1069387
X-APPLE-STRUCTURED-LOCATION;VALUE=URI;X-ADDRESS=The Chartiers Room 370 Commercial St. Bridgeville PA 15017 United States;X-APPLE-RADIUS=500;X-TITLE=370 Commercial St.:geo:-80.1069387,40.362
END:VEVENT
BEGIN:VEVENT
DTSTART;TZID=UTC:20180309T080000
DTEND;TZID=UTC:20180310T170000
DTSTAMP:20260423T184532
CREATED:20171020T052632Z
LAST-MODIFIED:20171020T053734Z
UID:10000189-1520582400-1520701200@www.bsator.com
SUMMARY:34th Annual Pittsburgh Trade-O-Ree - State: Pennsylvania
DESCRIPTION:Date: March 9-10\, 2018 \nAddress:\nThe Chartiers Room\n370 Commercial St.\nBridgeville\, PA. 15017 \nTimes:\nFriday: 2pm – 12am (Midnight)\nSaturday: 8:30am – 2pm \nContact 1: Conrad Auel\nEmail: familynut@comcast.net\nPhone: (412) 877-0626 \nRegister Now\n\n    Download the PDF file .
URL:https://www.bsator.com/event/34th-annual-pittsburgh-trade-o-ree-state-pennsylvania/
LOCATION:The Chartiers Room\, 370 Commercial St.\, Bridgeville\, PA\, 15017\, United States
ATTACH;FMTTYPE=image/jpeg:https://www.bsator.com/wp-content/uploads/2016/05/1933334_1717737895110489_7154625735922781739_o.jpg.opt415x311o00s415x311.jpg
ORGANIZER;CN="Conrad Auel":MAILTO:cgauel@gmail.com
GEO:40.362;-80.1069387
X-APPLE-STRUCTURED-LOCATION;VALUE=URI;X-ADDRESS=The Chartiers Room 370 Commercial St. Bridgeville PA 15017 United States;X-APPLE-RADIUS=500;X-TITLE=370 Commercial St.:geo:-80.1069387,40.362
END:VEVENT
BEGIN:VEVENT
DTSTART;TZID=UTC:20170310T140000
DTEND;TZID=UTC:20170311T140000
DTSTAMP:20260423T184532
CREATED:20160601T115455Z
LAST-MODIFIED:20160829T221829Z
UID:10000036-1489154400-1489240800@www.bsator.com
SUMMARY:33rd Annual Pittsburgh Trade-O-Ree - State: Pennsylvania
DESCRIPTION:Date: March 10-11\, 2017 \nAddress:\nThe Chartiers Room\n370 Commercial St.\nBridgeville\, PA. 15017 \nTimes:\nFriday: 2pm – 12am Midnight\nSaturday: 8:30am – 2pm \nContact 1: Conrad Auel\nEmail: familynut@comcast.net\nPhone: (412) 877-0626 \nFlyer: Click Here\n\nRegister Now \n\n    Download the PDF file .
URL:https://www.bsator.com/event/33rd-annual-pittsburgh-trade-o-ree-state-pennsylvania/
LOCATION:The Chartiers Room\, 370 Commercial St.\, Bridgeville\, PA\, 15017\, United States
ATTACH;FMTTYPE=image/jpeg:https://www.bsator.com/wp-content/uploads/2016/06/1888693_1466350756915872_500240477_n-768x576.jpg
ORGANIZER;CN="Conrad Auel":MAILTO:cgauel@gmail.com
GEO:40.362;-80.1069387
X-APPLE-STRUCTURED-LOCATION;VALUE=URI;X-ADDRESS=The Chartiers Room 370 Commercial St. Bridgeville PA 15017 United States;X-APPLE-RADIUS=500;X-TITLE=370 Commercial St.:geo:-80.1069387,40.362
END:VEVENT
END:VCALENDAR