BEGIN:VCALENDAR
VERSION:2.0
PRODID:-//Boy Scout Trade-O-Ree Calendar - ECPv6.15.20//NONSGML v1.0//EN
CALSCALE:GREGORIAN
METHOD:PUBLISH
X-WR-CALNAME:Boy Scout Trade-O-Ree Calendar
X-ORIGINAL-URL:https://www.bsator.com
X-WR-CALDESC:Events for Boy Scout Trade-O-Ree Calendar
REFRESH-INTERVAL;VALUE=DURATION:PT1H
X-Robots-Tag:noindex
X-PUBLISHED-TTL:PT1H
BEGIN:VTIMEZONE
TZID:UTC
BEGIN:STANDARD
TZOFFSETFROM:+0000
TZOFFSETTO:+0000
TZNAME:UTC
DTSTART:20150101T000000
END:STANDARD
END:VTIMEZONE
BEGIN:VEVENT
DTSTART;TZID=UTC:20240120T100000
DTEND;TZID=UTC:20240120T160000
DTSTAMP:20260423T212445
CREATED:20231025T182919Z
LAST-MODIFIED:20231025T183311Z
UID:10000505-1705744800-1705766400@www.bsator.com
SUMMARY:2024 Long Beach Area Council / Puvunga Lodge Trade-O-Ree - State: California
DESCRIPTION:Date: January 20\, 2024 \nAddress:\nMonte Verde Park\, City of Lakewood\n4626 Shadeway Rd.\nLakewood\, CA 90713 \nTimes:\nSaturday: 10am – 4pm \nContact: Craig Wulfsberg\nEmail: Craig.Wulfsberg@verizon.net\nPhone: ? \n\n \nTrade-O-Ree Flyer\n\n\n    Download the PDF file .
URL:https://www.bsator.com/event/2024-long-beach-area-council-puvunga-lodge-trade-o-ree-state-california/
LOCATION:Monte Verde Park\, City of Lakewood\, 4626 Shadeway Rd.\, Lakewood\, CA\, 90713\, United States
ATTACH;FMTTYPE=image/jpeg:https://www.bsator.com/wp-content/uploads/2016/05/1920584_10152315434501907_1155071019_n.jpg.opt423x316o00s423x316.jpg
ORGANIZER;CN="Craig Wulfsberg":MAILTO:craig.wulfsberg@verizon.net
END:VEVENT
BEGIN:VEVENT
DTSTART;TZID=UTC:20220121T180000
DTEND;TZID=UTC:20220122T150000
DTSTAMP:20260423T212445
CREATED:20211210T041542Z
LAST-MODIFIED:20211216T162548Z
UID:10000418-1642788000-1642863600@www.bsator.com
SUMMARY:2022 Long Beach Area Council / Puvunga Lodge Trade-O-Ree - State: California
DESCRIPTION:Date: January 21-22\, 2022 \nAddress:\nLong Beach Area Council Sea Base (Upstairs Meeting Rooms)\n5875 Appian Way\nLong Beach\, CA 90803 \nTimes:\nFriday: 6pm – 9pm\nSaturday: 8am – 3pm \nContact: Craig Wulfsberg\nEmail: Craig.Wulfsberg@verizon.net\nPhone: ? \n\n \nTrade-O-Ree Flyer\n\n\n    Download the PDF file .
URL:https://www.bsator.com/event/2022-long-beach-area-council-puvunga-lodge-trade-o-ree-state-california/
LOCATION:Long Beach Area Council Sea Base\, 5875 Appian Way\, Long Beach\, CA\, 90803\, United States
ATTACH;FMTTYPE=image/jpeg:https://www.bsator.com/wp-content/uploads/2016/05/1920584_10152315434501907_1155071019_n.jpg.opt423x316o00s423x316.jpg
ORGANIZER;CN="Craig Wulfsberg":MAILTO:craig.wulfsberg@verizon.net
END:VEVENT
BEGIN:VEVENT
DTSTART;TZID=UTC:20211120T080000
DTEND;TZID=UTC:20211120T150000
DTSTAMP:20260423T212445
CREATED:20211014T145522Z
LAST-MODIFIED:20211210T044502Z
UID:10000405-1637395200-1637420400@www.bsator.com
SUMMARY:2021 Long Beach Area Council / Puvunga Lodge Trade-O-Ree - State: California
DESCRIPTION:Date: November 20\, 2021 \nAddress:\nSaint Dominic Savio Church (in the Church Meeting Hall)\n13400 Bellflower Blvd.\nBellflower\, CA 9070 \nTimes:\nSaturday: 8am – 3pm \nContact 1: Craig Wulfsberg\nEmail: craig.wulfsberg@verizon.net\nPhone: ? \n\n \nTrade-O-Ree Flyer\n\n\n    Download the PDF file .
URL:https://www.bsator.com/event/2021-long-beach-area-council-puvunga-lodge-trade-o-ree-state-california/
LOCATION:Saint Dominic Savio Church (In The Church Meeting Hall)\, 13400 Bellflower Blvd.\, Bellflower\, CA\, 90706\, United States
ATTACH;FMTTYPE=image/jpeg:https://www.bsator.com/wp-content/uploads/2016/05/1920584_10152315434501907_1155071019_n.jpg.opt423x316o00s423x316.jpg
ORGANIZER;CN="Craig Wulfsberg":MAILTO:craig.wulfsberg@verizon.net
END:VEVENT
BEGIN:VEVENT
DTSTART;TZID=UTC:20191122T180000
DTEND;TZID=UTC:20191123T150000
DTSTAMP:20260423T212445
CREATED:20191004T055730Z
LAST-MODIFIED:20191004T064206Z
UID:10000309-1574445600-1574521200@www.bsator.com
SUMMARY:2019 Long Beach Area Council / Puvunga Lodge Trade-O-Ree - State: California
DESCRIPTION:Date: November 22-23\, 2019 \nAddress:\nSaint Dominic Savio Church (in the Church Meeting Hall)\n13400 Bellflower Blvd.\nBellflower\, CA 9070 \nTimes:\nFriday: 6pm – 9pm\nSaturday: 8am – 3pm \nContact 1: Craig Wulfsberg\nEmail: craig.wulfsberg@verizon.net\nPhone: ? \n\n    Download the PDF file .
URL:https://www.bsator.com/event/2019-long-beach-area-council-puvunga-lodge-trade-o-ree-state-california/
LOCATION:Saint Dominic Savio Church (In The Church Meeting Hall)\, 13400 Bellflower Blvd.\, Bellflower\, CA\, 90706\, United States
ATTACH;FMTTYPE=image/jpeg:https://www.bsator.com/wp-content/uploads/2016/05/1920584_10152315434501907_1155071019_n.jpg.opt423x316o00s423x316.jpg
ORGANIZER;CN="Craig Wulfsberg":MAILTO:craig.wulfsberg@verizon.net
END:VEVENT
BEGIN:VEVENT
DTSTART;TZID=UTC:20181130T180000
DTEND;TZID=UTC:20181201T150000
DTSTAMP:20260423T212445
CREATED:20181005T033833Z
LAST-MODIFIED:20181005T035219Z
UID:10000106-1543600800-1543676400@www.bsator.com
SUMMARY:2018 Long Beach Area Council / Puvunga Lodge Trade-O-Ree - State: California
DESCRIPTION:Date: November 30 – December 1\, 2018 \nAddress:\nSaint Dominic Savio Church (in the Church Meeting Hall)\n13400 Bellflower Blvd.\nBellflower\, CA 9070 \nTimes:\nFriday: 6pm – 9pm\nSaturday: 8am – 3pm \nContact 1: Craig Wulfsberg\nEmail: craig.wulfsberg@verizon.net\nPhone: ? \n\n    Download the PDF file .
URL:https://www.bsator.com/event/2018-long-beach-area-council-puvunga-lodge-trade-o-ree-state-california/
LOCATION:Saint Dominic Savio Church (In The Church Meeting Hall)\, 13400 Bellflower Blvd.\, Bellflower\, CA\, 90706\, United States
ATTACH;FMTTYPE=image/jpeg:https://www.bsator.com/wp-content/uploads/2016/05/1920584_10152315434501907_1155071019_n.jpg.opt423x316o00s423x316.jpg
ORGANIZER;CN="Craig Wulfsberg":MAILTO:craig.wulfsberg@verizon.net
END:VEVENT
BEGIN:VEVENT
DTSTART;TZID=UTC:20180421T080000
DTEND;TZID=UTC:20180421T140000
DTSTAMP:20260423T212445
CREATED:20180314T011118Z
LAST-MODIFIED:20180314T011310Z
UID:10000098-1524297600-1524319200@www.bsator.com
SUMMARY:Puvunga Lodge Trade-O-Ree - State: California
DESCRIPTION:Date: April 21\, 2018 \nAddress:\nSaint Dominic Savio Church (In The Church Meeting Hall)\n13400 Bellflower Blvd.\nBellflower\, CA 90706 \nTimes:\nSaturday: 8am – 2pm \nContact 1: Craig Wulfsberg\nEmail: Craig.Wulfsberg@verizon.net\nPhone: ? \n\n    Download the PDF file .
URL:https://www.bsator.com/event/puvunga-lodge-trade-o-ree-state-california-2/
LOCATION:Saint Dominic Savio Church (In The Church Meeting Hall)\, 13400 Bellflower Blvd.\, Bellflower\, CA\, 90706\, United States
ATTACH;FMTTYPE=image/jpeg:https://www.bsator.com/wp-content/uploads/2016/05/1920584_10152315434501907_1155071019_n.jpg.opt423x316o00s423x316.jpg
ORGANIZER;CN="Craig Wulfsberg":MAILTO:craig.wulfsberg@verizon.net
END:VEVENT
BEGIN:VEVENT
DTSTART;TZID=UTC:20161111T180000
DTEND;TZID=UTC:20161112T170000
DTSTAMP:20260423T212445
CREATED:20160823T041213Z
LAST-MODIFIED:20160829T213834Z
UID:10000008-1478887200-1478970000@www.bsator.com
SUMMARY:3rd Annual Puvunga Lodge Trade-O-Ree - State: California
DESCRIPTION:Date: November 11-12\, 2016 \nAddress:\nSt. Maria Goretti Church Hall\n3954 Palo Verde Ave.\nLong Beach\, Ca. 90808 \nTimes:\nFriday: 6pm – 9pm\nSaturday: 9am – 5pm \nContact 1: Jason Rodriguez\nEmail: jrodriguez6573@gmail.com\nPhone: ? \nContact 2: Craig Wulfsberg\nEmail: craig.wulfsberg@verizon.net\nPhone: ? \nContact 3: Jerry MacKey\nEmail: jermomackey@yahoo.com\nPhone: ? \nFlyer: Click Here\n\nRegister Now \n\n    Download the PDF file .
URL:https://www.bsator.com/event/3rd-annual-puvunga-lodge-trade-o-ree/
LOCATION:St. Maria Goretti Church Hall\, 3954 Palo Verde Ave.\, Long Beach\, CA\, 90808
ATTACH;FMTTYPE=image/jpeg:https://www.bsator.com/wp-content/uploads/2016/05/1920584_10152315434501907_1155071019_n.jpg.opt423x316o00s423x316.jpg
ORGANIZER;CN="Jason Rodriguez":MAILTO:jrodriguez6573@gmail.com
GEO:33.829602;-118.107305
X-APPLE-STRUCTURED-LOCATION;VALUE=URI;X-ADDRESS=St. Maria Goretti Church Hall 3954 Palo Verde Ave. Long Beach CA 90808;X-APPLE-RADIUS=500;X-TITLE=3954 Palo Verde Ave.:geo:-118.107305,33.829602
END:VEVENT
END:VCALENDAR