BEGIN:VCALENDAR
VERSION:2.0
PRODID:-//Boy Scout Trade-O-Ree Calendar - ECPv6.15.20//NONSGML v1.0//EN
CALSCALE:GREGORIAN
METHOD:PUBLISH
X-WR-CALNAME:Boy Scout Trade-O-Ree Calendar
X-ORIGINAL-URL:https://www.bsator.com
X-WR-CALDESC:Events for Boy Scout Trade-O-Ree Calendar
REFRESH-INTERVAL;VALUE=DURATION:PT1H
X-Robots-Tag:noindex
X-PUBLISHED-TTL:PT1H
BEGIN:VTIMEZONE
TZID:UTC
BEGIN:STANDARD
TZOFFSETFROM:+0000
TZOFFSETTO:+0000
TZNAME:UTC
DTSTART:20240101T000000
END:STANDARD
END:VTIMEZONE
BEGIN:VEVENT
DTSTART;TZID=UTC:20250829T150000
DTEND;TZID=UTC:20250830T140000
DTSTAMP:20260423T160553
CREATED:20250405T163911Z
LAST-MODIFIED:20250405T163911Z
UID:10000583-1756479600-1756562400@www.bsator.com
SUMMARY:1st Annual Middle Tennessee Trade-O-Ree
DESCRIPTION:Date: August 29-30\, 2025 \nAddress:\nPegram Church of Christ\n5019 Walkup Rd\nPegram\, TN 37143 \nTimes:\nFriday: 3pm – 9pm\nSaturday: 9am – 2pm \nContact: Dave McMillan\nEmail: dmcm54@gmail.com\nPhone: (931) 371-2258 \n\n \nTrade-O-Ree Flyer\n\n\n    Download the PDF file .
URL:https://www.bsator.com/event/1st-annual-middle-tennessee-trade-o-ree/
LOCATION:Pegram Church of Christ\, 5019 Walkup Rd\, Pegram\, TN\, 37143\, United States
ATTACH;FMTTYPE=image/jpeg:https://www.bsator.com/wp-content/uploads/2016/06/SWAPSHOP_zpsd7821994-4-1.jpg.opt430x360o00s430x360-4-1.jpg
ORGANIZER;CN="Dave McMillan":MAILTO:dmcm54@gmail.com
END:VEVENT
END:VCALENDAR