BEGIN:VCALENDAR
VERSION:2.0
PRODID:-//Boy Scout Trade-O-Ree Calendar - ECPv6.15.20//NONSGML v1.0//EN
CALSCALE:GREGORIAN
METHOD:PUBLISH
X-ORIGINAL-URL:https://www.bsator.com
X-WR-CALDESC:Events for Boy Scout Trade-O-Ree Calendar
REFRESH-INTERVAL;VALUE=DURATION:PT1H
X-Robots-Tag:noindex
X-PUBLISHED-TTL:PT1H
BEGIN:VTIMEZONE
TZID:UTC
BEGIN:STANDARD
TZOFFSETFROM:+0000
TZOFFSETTO:+0000
TZNAME:UTC
DTSTART:20160101T000000
END:STANDARD
END:VTIMEZONE
BEGIN:VEVENT
DTSTART;TZID=UTC:20190126T080000
DTEND;TZID=UTC:20190126T170000
DTSTAMP:20260423T190617
CREATED:20181213T184900Z
LAST-MODIFIED:20181213T184900Z
UID:10000113-1548489600-1548522000@www.bsator.com
SUMMARY:7th Annual London Badge Swap Meet & Auction - Canada
DESCRIPTION:Date: January 26\, 2019 \nAddress:\nSpencer Lodge\n531 Windermere Rd.\nLondon\, ON N5X 2T1\, Canada \nTimes:\nSaturday: 9am – 1pm \nContact 1: Glenn Margison\nEmail: gmargison@outlook.com\nPhone: (519) 473-7377 \nContact 2: Dave Robak\nEmail: wendyanddave@rogers.com\nPhone: (519) 672-3146 \n\n    Download the PDF file .
URL:https://www.bsator.com/event/7th-annual-london-badge-swap-meet-auction-canada/
LOCATION:Spencer Lodge\, 531 Windermere Rd.\, London\, Ontario\, N5X 2T1\, Canada
ATTACH;FMTTYPE=image/jpeg:https://www.bsator.com/wp-content/uploads/2016/06/SWAPSHOP_zpsd7821994-4-1.jpg.opt430x360o00s430x360-4-1.jpg
ORGANIZER;CN="Glenn Margison":MAILTO:gmargison@outlook.com
END:VEVENT
BEGIN:VEVENT
DTSTART;TZID=UTC:20170128T090000
DTEND;TZID=UTC:20170128T140000
DTSTAMP:20260423T190617
CREATED:20161017T210128Z
LAST-MODIFIED:20161017T221514Z
UID:10000011-1485594000-1485612000@www.bsator.com
SUMMARY:5th Annual London/Tri Shores Badge Swap Meet and Auction
DESCRIPTION:Date: January 28\, 2017 \nAddress:\nS.W.O Office\n531 Windermere Road\nLondon\, Ontario \nTimes:\nFriday: 9am – 2pm \nContact 1: Glenn Margison\nEmail: gmargison@outlook.com\nPhone: (519) 473-7377 \nContact 2: Dave Robak\nEmail: wendyanddave@rogers.com\nPhone: (519) 672-3146 \nFlyer: Coming Soon!
URL:https://www.bsator.com/event/5th-annual-londontri-shores-badge-swap-meet-and-auction/
LOCATION:531 Windermere Rd\, London\, Ontario\, N5X 2T1\, Canada
ATTACH;FMTTYPE=image/jpeg:https://www.bsator.com/wp-content/uploads/2016/06/SWAPSHOP_zpsd7821994-4-1.jpg.opt430x360o00s430x360-4-1.jpg
ORGANIZER;CN="Glenn Margison":MAILTO:gmargison@outlook.com
GEO:43.018494;-81.262675
X-APPLE-STRUCTURED-LOCATION;VALUE=URI;X-ADDRESS=531 Windermere Rd London Ontario N5X 2T1 Canada;X-APPLE-RADIUS=500;X-TITLE=531 Windermere Rd:geo:-81.262675,43.018494
END:VEVENT
END:VCALENDAR