BEGIN:VCALENDAR
VERSION:2.0
PRODID:-//Boy Scout Trade-O-Ree Calendar - ECPv6.15.20//NONSGML v1.0//EN
CALSCALE:GREGORIAN
METHOD:PUBLISH
X-ORIGINAL-URL:https://www.bsator.com
X-WR-CALDESC:Events for Boy Scout Trade-O-Ree Calendar
REFRESH-INTERVAL;VALUE=DURATION:PT1H
X-Robots-Tag:noindex
X-PUBLISHED-TTL:PT1H
BEGIN:VTIMEZONE
TZID:UTC
BEGIN:STANDARD
TZOFFSETFROM:+0000
TZOFFSETTO:+0000
TZNAME:UTC
DTSTART:20180101T000000
END:STANDARD
END:VTIMEZONE
BEGIN:VEVENT
DTSTART;TZID=UTC:20190208T170000
DTEND;TZID=UTC:20190209T130000
DTSTAMP:20260423T225649
CREATED:20181207T175241Z
LAST-MODIFIED:20181207T175618Z
UID:10000111-1549645200-1549717200@www.bsator.com
SUMMARY:28th Annual Ventura County Council Trade-O-Ree - State: California
DESCRIPTION:Date: February 8-9\, 2019 \nAddress:\nOxnard Elks Lodge #1443\n801 South “A” St.\nOxnard\, CA 93030 \nTimes:\nFriday: 5pm – ?\nSaturday: 8am – 1pm \nContact 1: Greg Metzgus\nEmail: coppersmith@sprintmail.com\nPhone: (805) 498-5495 \nContact 2: Bill Sternberg\nEmail: bigjockewing@yahoo.com\nPhone: (805) 933-9020 \nContact 3: David Jones\nEmail: david.jones@scouting.com\nPhone: (805) 630-6176 \n\n    Download the PDF file .
URL:https://www.bsator.com/event/28th-annual-ventura-county-council-trade-o-ree-state-california/
LOCATION:Oxnard Elks Lodge #1443\, 801 South "A" St.\, Oxnard\, CA\, 93030\, United States
ATTACH;FMTTYPE=image/jpeg:https://www.bsator.com/wp-content/uploads/2016/05/12711162_10153957714449686_108338155599786432_o.jpg.opt415x311o00s415x311.jpg
ORGANIZER;CN="Greg Metzgus":MAILTO:coppersmith@sprintmail.com
GEO:34.1932535;-119.1791884
X-APPLE-STRUCTURED-LOCATION;VALUE=URI;X-ADDRESS=Oxnard Elks Lodge #1443 801 South "A" St. Oxnard CA 93030 United States;X-APPLE-RADIUS=500;X-TITLE=801 South "A" St.:geo:-119.1791884,34.1932535
END:VEVENT
END:VCALENDAR