BEGIN:VCALENDAR
VERSION:2.0
PRODID:-//Boy Scout Trade-O-Ree Calendar - ECPv6.15.20//NONSGML v1.0//EN
CALSCALE:GREGORIAN
METHOD:PUBLISH
X-WR-CALNAME:Boy Scout Trade-O-Ree Calendar
X-ORIGINAL-URL:https://www.bsator.com
X-WR-CALDESC:Events for Boy Scout Trade-O-Ree Calendar
REFRESH-INTERVAL;VALUE=DURATION:PT1H
X-Robots-Tag:noindex
X-PUBLISHED-TTL:PT1H
BEGIN:VTIMEZONE
TZID:UTC
BEGIN:STANDARD
TZOFFSETFROM:+0000
TZOFFSETTO:+0000
TZNAME:UTC
DTSTART:20230101T000000
END:STANDARD
END:VTIMEZONE
BEGIN:VEVENT
DTSTART;TZID=UTC:20241026T090000
DTEND;TZID=UTC:20241026T160000
DTSTAMP:20260423T173250
CREATED:20240904T010258Z
LAST-MODIFIED:20240904T010258Z
UID:10000546-1729933200-1729958400@www.bsator.com
SUMMARY:Patriots' Path Council Jersey Jamboree Trade-O-Ree - State: New Jersey
DESCRIPTION:Date: October 26\, 2024 \nAddress:\nSussex County Fairgrounds\n37 Plains Rd.\nAugusta\, NJ 07822 \nTimes:\nSaturday: 9am – 4pm (Vendors Set-up: 7:30am) \nContact: David Mcintyre\nEmail: david@peelthefrog.com\nPhone: ? \n\n \nTrade-O-Ree Flyer\n\n\n    Download the PDF file .
URL:https://www.bsator.com/event/patriots-path-council-jersey-jamboree-trade-o-ree-state-new-jersey/
LOCATION:Sussex County Fairgrounds\, 37 Plains Rd.\, Augusta\, NJ\, 07822\, United States
ATTACH;FMTTYPE=image/jpeg:https://www.bsator.com/wp-content/uploads/2016/06/SWAPSHOP_zpsd7821994-4-1.jpg.opt430x360o00s430x360-4-1.jpg
ORGANIZER;CN="David Mcintyre":MAILTO:david@peelthefrog.com
END:VEVENT
END:VCALENDAR