BEGIN:VCALENDAR
VERSION:2.0
PRODID:-//Boy Scout Trade-O-Ree Calendar - ECPv6.15.20//NONSGML v1.0//EN
CALSCALE:GREGORIAN
METHOD:PUBLISH
X-ORIGINAL-URL:https://www.bsator.com
X-WR-CALDESC:Events for Boy Scout Trade-O-Ree Calendar
REFRESH-INTERVAL;VALUE=DURATION:PT1H
X-Robots-Tag:noindex
X-PUBLISHED-TTL:PT1H
BEGIN:VTIMEZONE
TZID:UTC
BEGIN:STANDARD
TZOFFSETFROM:+0000
TZOFFSETTO:+0000
TZNAME:UTC
DTSTART:20150101T000000
END:STANDARD
END:VTIMEZONE
BEGIN:VEVENT
DTSTART;TZID=UTC:20221104T150000
DTEND;TZID=UTC:20221105T150000
DTSTAMP:20260423T190617
CREATED:20220520T051933Z
LAST-MODIFIED:20221027T165748Z
UID:10000238-1667574000-1667660400@www.bsator.com
SUMMARY:8th Annual Cincinnati Area Trade-O-Ree – State: Indiana
DESCRIPTION:IN MEMORY OF LES BURDETT\n \n \nDate: November 4-5\, 2022 \nAddress:\nAurora City Park\n415 Park Ave.\nAurora\, Indiana 47001 \nTimes:\nFriday: 3pm – 10pm\nSaturday: 8:30am – 3pm \nContact: Edie Block\nEmail: eblock@cinci.rr.com\nPhone: (513) 659-6866 \n\nRegister Now\n \n \nTrade-O-Ree Flyer\n\n\n    Download the PDF file .
URL:https://www.bsator.com/event/8th-annual-cincinnati-area-trade-o-ree-state-indiana/
LOCATION:Aurora City Park\, 415 Park Ave.\, Aurora\, Indiana 47001
ATTACH;FMTTYPE=image/jpeg:https://www.bsator.com/wp-content/uploads/2016/06/12496350_976853635695976_2042682679883643635_o.jpg.opt430x243o00s430x243.jpg
ORGANIZER;CN="Edie Block":MAILTO:eblock@cinci.rr.com
GEO:39.0658835;-84.9020368
X-APPLE-STRUCTURED-LOCATION;VALUE=URI;X-ADDRESS=Aurora City Park 415 Park Ave. Aurora Indiana 47001;X-APPLE-RADIUS=500;X-TITLE=415 Park Ave.:geo:-84.9020368,39.0658835
END:VEVENT
BEGIN:VEVENT
DTSTART;TZID=UTC:20191108T150000
DTEND;TZID=UTC:20191109T140000
DTSTAMP:20260423T190617
CREATED:20190203T031436Z
LAST-MODIFIED:20190419T073646Z
UID:10000120-1573225200-1573308000@www.bsator.com
SUMMARY:5th Annual Cincinnati Area Trade-O-Ree – State: Indiana
DESCRIPTION:Date: November 8-9\, 2019 \nAddress:\nAurora City Park\n415 Park Ave.\nAurora\, Indiana 47001 \nTimes:\nFriday: 3pm – 10pm\nSaturday: 8:30am – 2pm \nContact 1: Edie Block\nEmail: eblock@cinci.rr.com\nPhone: (513) 659-6866 \n\nRegister Now\n\n\n    Download the PDF file .
URL:https://www.bsator.com/event/5th-annual-cincinnati-area-trade-o-ree-state-indiana/
LOCATION:Aurora City Park\, 415 Park Ave.\, Aurora\, Indiana 47001
ATTACH;FMTTYPE=image/jpeg:https://www.bsator.com/wp-content/uploads/2016/06/12496350_976853635695976_2042682679883643635_o.jpg.opt430x243o00s430x243.jpg
ORGANIZER;CN="Edie Block":MAILTO:eblock@cinci.rr.com
GEO:39.0658835;-84.9020368
X-APPLE-STRUCTURED-LOCATION;VALUE=URI;X-ADDRESS=Aurora City Park 415 Park Ave. Aurora Indiana 47001;X-APPLE-RADIUS=500;X-TITLE=415 Park Ave.:geo:-84.9020368,39.0658835
END:VEVENT
BEGIN:VEVENT
DTSTART;TZID=UTC:20181109T150000
DTEND;TZID=UTC:20181110T140000
DTSTAMP:20260423T190617
CREATED:20180220T045345Z
LAST-MODIFIED:20180220T052057Z
UID:10000091-1541775600-1541858400@www.bsator.com
SUMMARY:4th Annual Cincinnati Area Trade-O-Ree – State: Indiana
DESCRIPTION:2017 Cincinnati Area Scout Memorabilia Show Trade-O-Ree – State: Indiana\n \nDate: November 9-10\, 2018 \nAddress:\nAurora City Park\n415 Park Ave.\nAurora\, Indiana 47001 \nTimes:\nFriday: 3pm – 10pm\nSaturday: 8:30am – 2pm \nContact 1: Edie Block\nEmail: eblock@cinci.rr.com\nPhone: (513) 659-6866 \n\nRegister Now\n\n\n    Download the PDF file .
URL:https://www.bsator.com/event/4th-annual-cincinnati-area-trade-o-ree-state-indiana/
LOCATION:Aurora City Park\, 415 Park Ave.\, Aurora\, Indiana 47001
ATTACH;FMTTYPE=image/jpeg:https://www.bsator.com/wp-content/uploads/2016/06/12496350_976853635695976_2042682679883643635_o.jpg.opt430x243o00s430x243.jpg
ORGANIZER;CN="Edie Block":MAILTO:eblock@cinci.rr.com
GEO:39.0658835;-84.9020368
X-APPLE-STRUCTURED-LOCATION;VALUE=URI;X-ADDRESS=Aurora City Park 415 Park Ave. Aurora Indiana 47001;X-APPLE-RADIUS=500;X-TITLE=415 Park Ave.:geo:-84.9020368,39.0658835
END:VEVENT
BEGIN:VEVENT
DTSTART;TZID=UTC:20171117T150000
DTEND;TZID=UTC:20171118T140000
DTSTAMP:20260423T190617
CREATED:20170524T070910Z
LAST-MODIFIED:20170627T130854Z
UID:10000181-1510930800-1511013600@www.bsator.com
SUMMARY:2017 Cincinnati Area Scout Memorabilia Show Trade-O-Ree – State: Indiana
DESCRIPTION:Date: November 17-18\, 2017 \nAddress:\nAurora City Park\n415 Park Ave.\nAurora\, Indiana 47001 \nTimes:\nFriday: 3pm – 10pm\nSaturday: 8:30am – 2pm \nContact 1: Edie Block\nEmail: eblock@cinci.rr.com\nPhone: (513) 659-6866 \n\nRegister Now\n\n\n    Download the PDF file .
URL:https://www.bsator.com/event/2017-cincinnati-area-scout-memorabilia-show-trade-o-ree-state-indiana/
LOCATION:Aurora City Park\, 415 Park Ave.\, Aurora\, Indiana 47001
ATTACH;FMTTYPE=image/jpeg:https://www.bsator.com/wp-content/uploads/2016/06/12496350_976853635695976_2042682679883643635_o.jpg.opt430x243o00s430x243.jpg
ORGANIZER;CN="Edie Block":MAILTO:eblock@cinci.rr.com
GEO:39.0658835;-84.9020368
X-APPLE-STRUCTURED-LOCATION;VALUE=URI;X-ADDRESS=Aurora City Park 415 Park Ave. Aurora Indiana 47001;X-APPLE-RADIUS=500;X-TITLE=415 Park Ave.:geo:-84.9020368,39.0658835
END:VEVENT
BEGIN:VEVENT
DTSTART;TZID=UTC:20161118T150000
DTEND;TZID=UTC:20161119T160000
DTSTAMP:20260423T190617
CREATED:20160601T112404Z
LAST-MODIFIED:20160829T213907Z
UID:10000043-1479481200-1479571200@www.bsator.com
SUMMARY:Cincinnati Area Scout Memorabilia Show Trade-O-Ree - State: Indiana
DESCRIPTION:Date: November 18-19\, 2016 \nAddress:\nAurora City Park\n415 Park Ave.\nAurora\, Indiana 47001 \nTimes:\nFriday: 3pm – 10pm\nSaturday: 8am – 4pm \nContact 1: Matt Becker\nEmail: patchmonkey212@gmail.com\nPhone: (812) 584-9386 \nContact 2: Edie Block\nEmail: eblock@cinci.rr.com\nPhone: (513) 659-6866 \nFlyer: Click Here\n\nRegister Now \n\n    Download the PDF file .
URL:https://www.bsator.com/event/cincinnati-area-scout-memorabilia-show-trade-o-ree-state-indiana/
LOCATION:Aurora City Park\, 415 Park Ave.\, Aurora\, Indiana 47001
ATTACH;FMTTYPE=image/jpeg:https://www.bsator.com/wp-content/uploads/2016/06/12496350_976853635695976_2042682679883643635_o.jpg.opt430x243o00s430x243.jpg
ORGANIZER;CN="Matt Becker":MAILTO:patchmonkey212@gmail.com
GEO:39.0658835;-84.9020368
X-APPLE-STRUCTURED-LOCATION;VALUE=URI;X-ADDRESS=Aurora City Park 415 Park Ave. Aurora Indiana 47001;X-APPLE-RADIUS=500;X-TITLE=415 Park Ave.:geo:-84.9020368,39.0658835
END:VEVENT
END:VCALENDAR