BEGIN:VCALENDAR
VERSION:2.0
PRODID:-//Boy Scout Trade-O-Ree Calendar - ECPv6.15.20//NONSGML v1.0//EN
CALSCALE:GREGORIAN
METHOD:PUBLISH
X-WR-CALNAME:Boy Scout Trade-O-Ree Calendar
X-ORIGINAL-URL:https://www.bsator.com
X-WR-CALDESC:Events for Boy Scout Trade-O-Ree Calendar
REFRESH-INTERVAL;VALUE=DURATION:PT1H
X-Robots-Tag:noindex
X-PUBLISHED-TTL:PT1H
BEGIN:VTIMEZONE
TZID:UTC
BEGIN:STANDARD
TZOFFSETFROM:+0000
TZOFFSETTO:+0000
TZNAME:UTC
DTSTART:20200101T000000
END:STANDARD
END:VTIMEZONE
BEGIN:VEVENT
DTSTART;TZID=UTC:20250228T100000
DTEND;TZID=UTC:20250301T150000
DTSTAMP:20260423T195533
CREATED:20250119T060751Z
LAST-MODIFIED:20250120T032711Z
UID:10000361-1740736800-1740841200@www.bsator.com
SUMMARY:2025 Ma-Nu Lodge Trade-O-Ree - State: Oklahoma
DESCRIPTION:Date: February 28 – March 1\, 2025 \nAddress:\nLast Frontier Council Office\n3031 NW 64th Street\nOklahoma City\, OK 73116 \nTimes:\nFriday: 10am – 10pm\nSaturday: 9am – 3pm \nContact 1: Eric Davis\nEmail: 434scout@gmail.com\nPhone: (580) 656-1758 \n\n \nTrade-O-Ree Flyer\n\n\n    Download the PDF file .
URL:https://www.bsator.com/event/2025-ma-nu-lodge-trade-o-ree-state-oklahoma/
LOCATION:Last Frontier Council Office\, 3031 NW 64th Street\, Oklahoma City\, OK\, 73116\, United States
ATTACH;FMTTYPE=image/jpeg:https://www.bsator.com/wp-content/uploads/2022/01/270434404_874807573188522_6595588138854289241_n-1.jpg
ORGANIZER;CN="Eric Davis":MAILTO:434scout@gmail.com
END:VEVENT
BEGIN:VEVENT
DTSTART;TZID=UTC:20240301T100000
DTEND;TZID=UTC:20240302T150000
DTSTAMP:20260423T195533
CREATED:20240112T010242Z
LAST-MODIFIED:20240112T010242Z
UID:10000525-1709287200-1709391600@www.bsator.com
SUMMARY:2024 Ma-Nu Lodge Trade-O-Ree - State: Oklahoma
DESCRIPTION:Date: March 1-2\, 2024 \nAddress:\nLast Frontier Council Office\n3031 NW 64th Street\nOklahoma City\, OK 73116 \nTimes:\nFriday: 10am – 10pm\nSaturday: 9am – 3pm \nContact 1: Eric Davis\nEmail: 434scout@gmail.com\nPhone: (580) 656-1758 \n\n \nTrade-O-Ree Flyer\n\n\n    Download the PDF file .
URL:https://www.bsator.com/event/2024-ma-nu-lodge-trade-o-ree-state-oklahoma/
LOCATION:Last Frontier Council Office\, 3031 NW 64th Street\, Oklahoma City\, OK\, 73116\, United States
ATTACH;FMTTYPE=image/jpeg:https://www.bsator.com/wp-content/uploads/2022/01/270434404_874807573188522_6595588138854289241_n-1.jpg
ORGANIZER;CN="Eric Davis":MAILTO:434scout@gmail.com
END:VEVENT
BEGIN:VEVENT
DTSTART;TZID=UTC:20230303T100000
DTEND;TZID=UTC:20230304T150000
DTSTAMP:20260423T195533
CREATED:20230105T180656Z
LAST-MODIFIED:20230105T180732Z
UID:10000472-1677837600-1677942000@www.bsator.com
SUMMARY:2023 Ma-Nu Lodge Trade-O-Ree - State: Oklahoma
DESCRIPTION:Date: March 3-4\, 2023 \nAddress:\nLast Frontier Council Office\n3031 NW 64th Street\nOklahoma City\, OK 73116 \nTimes:\nFriday: 10am – 10pm\nSaturday: 9am – 3pm \nContact 1: Eric Davis\nEmail: 434scout@gmail.com\nPhone: (580) 656-1758 \n\n \nTrade-O-Ree Flyer\n\n\n    Download the PDF file .
URL:https://www.bsator.com/event/2023-ma-nu-lodge-trade-o-ree-state-oklahoma/
LOCATION:Last Frontier Council Office\, 3031 NW 64th Street\, Oklahoma City\, OK\, 73116\, United States
ATTACH;FMTTYPE=image/jpeg:https://www.bsator.com/wp-content/uploads/2022/01/270434404_874807573188522_6595588138854289241_n-1.jpg
ORGANIZER;CN="Eric Davis":MAILTO:434scout@gmail.com
END:VEVENT
BEGIN:VEVENT
DTSTART;TZID=UTC:20220304T100000
DTEND;TZID=UTC:20220305T160000
DTSTAMP:20260423T195533
CREATED:20211210T042830Z
LAST-MODIFIED:20220121T075451Z
UID:10000419-1646388000-1646496000@www.bsator.com
SUMMARY:2022 Ma-Nu / Ta Tsu Hwa Lodge OKC Trade-O-Ree - State: Oklahoma
DESCRIPTION:Date: March 4-5\, 2022 \nAddress:\nLast Frontier Council Office\n3031 NW 64th Street\nOklahoma City\, OK 73116 \nTimes:\nFriday: 10am – 10pm\nSaturday: 9am – 4pm \nContact 1: Eric Davis\nEmail: 434scout@gmail.com\nPhone: (580) 656-1758 \n\n \nTrade-O-Ree Flyer\n\n\n    Download the PDF file .
URL:https://www.bsator.com/event/2022-ma-nu-ta-tsu-hwa-lodge-okc-trade-o-ree-state-oklahoma/
LOCATION:Last Frontier Council Office\, 3031 NW 64th Street\, Oklahoma City\, OK\, 73116\, United States
ATTACH;FMTTYPE=image/jpeg:https://www.bsator.com/wp-content/uploads/2022/01/270434404_874807573188522_6595588138854289241_n-1.jpg
ORGANIZER;CN="Eric Davis":MAILTO:434scout@gmail.com
END:VEVENT
BEGIN:VEVENT
DTSTART;TZID=UTC:20210129T100000
DTEND;TZID=UTC:20210130T160000
DTSTAMP:20260423T195533
CREATED:20201230T181920Z
LAST-MODIFIED:20201230T182024Z
UID:10000353-1611914400-1612022400@www.bsator.com
SUMMARY:Ma-Nu Lodge OKC Trade-O-Ree 2021
DESCRIPTION:Date: January 29-30\, 2021 \nAddress:\nLast Frontier Council Office\n3031 NW 64th Street\nOklahoma City\, OK 73116 \nTimes:\nFriday: 10am – 10pm\nSaturday: 9am – 4pm \nContact 1: Eric Davis\nEmail: 434scout@gmail.com\nPhone: (580) 656-1758 \n\n    Download the PDF file .
URL:https://www.bsator.com/event/ma-nu-lodge-okc-trade-o-ree-2021/
LOCATION:Last Frontier Council Office\, 3031 NW 64th Street\, Oklahoma City\, OK\, 73116\, United States
ATTACH;FMTTYPE=image/jpeg:https://www.bsator.com/wp-content/uploads/2016/06/SWAPSHOP_zpsd7821994-4-1.jpg.opt430x360o00s430x360-4-1.jpg
ORGANIZER;CN="Eric Davis":MAILTO:434scout@gmail.com
END:VEVENT
END:VCALENDAR