BEGIN:VCALENDAR
VERSION:2.0
PRODID:-//Boy Scout Trade-O-Ree Calendar - ECPv6.15.20//NONSGML v1.0//EN
CALSCALE:GREGORIAN
METHOD:PUBLISH
X-ORIGINAL-URL:https://www.bsator.com
X-WR-CALDESC:Events for Boy Scout Trade-O-Ree Calendar
REFRESH-INTERVAL;VALUE=DURATION:PT1H
X-Robots-Tag:noindex
X-PUBLISHED-TTL:PT1H
BEGIN:VTIMEZONE
TZID:UTC
BEGIN:STANDARD
TZOFFSETFROM:+0000
TZOFFSETTO:+0000
TZNAME:UTC
DTSTART:20220101T000000
END:STANDARD
END:VTIMEZONE
BEGIN:VEVENT
DTSTART;TZID=UTC:20230602T150000
DTEND;TZID=UTC:20230604T150000
DTSTAMP:20260423T172320
CREATED:20221214T233855Z
LAST-MODIFIED:20221214T234625Z
UID:10000470-1685718000-1685890800@www.bsator.com
SUMMARY:41st World Scout and Guide Collector's Meeting - Country: Germany
DESCRIPTION:Date: June 2-4\, 2023 \nAddress:\nRieneck Castle\nSchloßberg 1\nRieneck\, Main-Spessart 97794 Rieneck\nGermany \nTimes:\nFriday: ?\nSaturday: ?\nSunday: ? \nContact: Geoffrey Wardle\nPhone: (208) 867-9778\nEmail: gwardlescouting@gmail.com \nThis is the 41st World Scout and Guide Collectors Meeting\, this year being held at the Castle Rieneck in Rieneck Germany. Geoffrey Wardle is the American Representative on the Steering Committee for the WSGCM. The 2025 WSGCM will be hosted in Slovenia \n \nTrade-O-Ree Flyer\n\n\n    Download the PDF file .
URL:https://www.bsator.com/event/41st-world-scout-and-guide-collectors-meeting-country-germany/
LOCATION:Rieneck Castle\, Schloßberg 1\, Rieneck\, Main-Spessart\, Rieneck\, 97794\, Germany
ATTACH;FMTTYPE=image/png:https://www.bsator.com/wp-content/uploads/2022/12/Screen-Shot-2022-12-14-at-6.43.48-PM.png
ORGANIZER;CN="Geoffrey Wardle":MAILTO:gwardlescouting@gmail.com
END:VEVENT
END:VCALENDAR